{"text_format":"1","workbook":"xlsx","n_sheets":16,"sheets":["Top","配車作成","利用表","集計名簿","集計","利用状況印刷シート","yotei","カンファ","勤務表","日印","泊数","職員勤務表","利用一覧","職員","入浴","利用変更"],"not_rendered":{"charts":0,"images":1,"macros":1,"external_links":0,"defined_names":47,"comments":2,"pivot_tables":0},"unopened":[],"bounds":{"document_bytes":16777216,"sheet_cells":100000,"rows_first":2000,"rows_last":500,"rows_between":2000,"halvings":0,"cell_chars":16384,"cell_head_chars":4096},"cells_cut":0,"cells_raw":0,"read":"whole","date_system":"1900"}

{"sheet":"Top","index":0,"n_rows":144,"n_cols":33,"rows_kept":144,"cut":false,"hidden":false,"merged":[[113,3,113,7],[5,7,5,8],[66,4,66,6],[37,6,37,8],[107,3,107,7],[108,3,108,7],[109,3,109,7],[110,3,110,7],[111,3,111,7],[112,3,112,7],[86,3,90,3],[93,3,97,3],[103,3,103,7]]}
[]
[null,"本年",2013,null,"月",6,null,"日数",{"$f":"DATE(年,月+1,1)-DATE(年,月,1)","v":"1900-01-30"},{"$f":"利用表!AL1","v":0},null,null,{"$f":"C2&F2","v":"20136"}]
[]
[null,"月","日","曜日","名称","休日",null,null,null,{"$f":"IF(J2>0,\"利用表の入力でエラーが発生しました\",\"\")","v":""}]
[null,1,1,{"$f":"F5","v":41275},"元日",{"$f":"IF($C5<>\"\",DATE(年,$B5,$C5),\"\")","v":"2013-01-01"},null,null,null,"施設名を入力"]
[null,1,14,41288,"成人の日","2013-01-14",null,"施設名",null,"小規模多機能型事業所"]
[null,2,11,41316,"建国記念の日","2013-02-11"]
[null,3,20,41353,"春分の日","2013-03-20",null,"業務"]
[null,4,29,41393,"昭和の日","2013-04-29",null,"夜勤"]
[null,5,3,41397,"憲法記念日","2013-05-03",null,"明番"]
[null,5,4,41398,"国民の休日","2013-05-04",null,"休"]
[null,5,5,41399,"こどもの日","2013-05-05",null,"L1"]
[null,5,6,41400,"振替休日","2013-05-06",null,"K1"]
[null,7,16,41471,"海の日","2013-07-16",null,"早番"]
[null,9,16,41533,"敬老の日","2013-09-16",null,"遅番"]
[null,9,23,41540,"秋分の日","2013-09-23",null,"事務"]
[null,10,14,41561,"体育の日","2013-10-14",null,"研修"]
[null,11,3,41581,"文化の日","2013-11-03",null,"デイ"]
[null,11,4,41582,"振替休日","2013-11-04",null,"GH"]
[null,11,23,41601,"勤労感謝の日","2013-11-23",null,"有給"]
[null,12,23,41631,"天皇誕生日","2013-12-23",null,"CM",null,"ファイルを開く",null,null,"ファイルを閉じる"]
[null,null,null,{"$f":"F22","v":""},null,{"$f":"IF($C22<>\"\",DATE(年,$B22,$C22),\"\")","v":""},null,"振休"]
[null,null,null,{"$f":"F23","v":""},null,{"$f":"IF($C23<>\"\",DATE(年,$B23,$C23),\"\")","v":""},null,"健診"]
[null,null,null,{"$f":"F24","v":""},null,{"$f":"IF($C24<>\"\",DATE(年,$B24,$C24),\"\")","v":""}]
[null,"注）国民の休日が日曜の場合は休日にならない"]
[]
[null,null,null,null,null,null,null,null,null,"●　処理すべき年月",null,"●　曜日別コメント"]
[null,null,null,null,null,null,null,null,null,"●　利用者名簿",null,"●　個別メッセージ"]
[null,null,null,null,null,null,null,null,null,"●　服薬者の設定"]
[null,null,{"$f":"DATE(年,月,I2+1)","v":"2013-07-01"},{"$f":"YEAR(C30)","v":2013},{"$f":"MONTH(C30)","v":7},null,null,null,null,"●　訪問者へのコメント"]
[null,null,null,{"$f":"\"業務日誌\"&D30&\"年\"&E30&\"月分\"","v":"業務日誌2013年7月分"},null,null,null,null,null,"●　毎日の入浴者"]
[null,null,null,6,{"$f":"E30-D32","v":1}]
[]
[]
[null,null,null,null,null,null,"薬の一覧の掲示用",null,null,null,null,"訪問の掲示用"]
[]
[null,null,"月中の並べ替え厳禁"]
[null,null,"利用者名簿",null,null,"入力氏名","服薬区分",null,null,null,null,"入力：訪問名簿"]
[null,"番号","氏名","よみ",null,"正確な氏名","昼","夕","朝","眠剤",null,"訪問者","表示したいメッセージ"]
[null,1,"利用者A",{"$f":"PHONETIC(C40)","v":"リヨウシャA"},null,"利用者A",null,null,"朝",null,null,"訪：利用者C","Cさま　午前訪問"]
[null,2,"利用者B","リヨウシャB",null,"利用者B","昼","夕","朝","食前あり",null,"訪：利用者F","Fさま　午後訪問"]
[null,3,"利用者C","リヨウシャC",null,"利用者C","昼","夕","朝",null,null,"訪：利用者G","Gさま　11時訪問"]
[null,4,"利用者D","リヨウシャD",null,"利用者D","(夕）",null,"朝",null,null,"訪：利用者J","Jさま　夕方配食"]
[null,5,"利用者E","リヨウシャE",null,"利用者H",null,"夕","朝"]
[null,6,"利用者F","リヨウシャF",null,"利用者I","昼",null,null,"前54"]
[null,7,"利用者G","リヨウシャG",null,"利用者J",null,"夕","朝"]
[null,8,"利用者H","リヨウシャH"]
[null,9,"利用者I","リヨウシャI"]
[null,10,"利用者J","リヨウシャJ"]
[null,11,null,""]
[null,12,null,""]
[null,13,null,""]
[null,14,null,""]
[null,15,null,""]
[null,16,null,""]
[null,17,null,""]
[null,18,null,""]
[null,19,null,""]
[null,20,null,""]
[null,21,null,""]
[null,22,null,""]
[null,23,null,""]
[null,24,null,""]
[null,25,null,""]
[]
[]
[null,null,null,null,"配食区分",null,null,null,null,"入浴"]
[null,null,null,null,null,"氏名","条件",null,null,"氏名",null,"日曜日","月曜日","火曜日","水曜日","木曜日","金曜日","土曜日","日曜日",null,null,null,null,null,null,null,"曜日判定"]
[null,null,null,null,"朝",null,null,null,null,null,null,null,null,null,null,null,null,null,null,null,null,null,null,null,null,{"$f":"J69","v":0},{"$f":"IF(L69=\"\",\"\",1)","v":""},{"$f":"IF(M69=\"\",\"\",2)","v":""},{"$f":"IF(N69=\"\",\"\",3)","v":""},{"$f":"IF(O69=\"\",\"\",4)","v":""},{"$f":"IF(P69=\"\",\"\",5)","v":""},{"$f":"IF(Q69=\"\",\"\",6)","v":""},{"$f":"IF(R69=\"\",\"\",7)","v":""}]
[null,null,null,null,"朝",null,null,null,null,null,null,null,null,null,null,null,null,null,null,null,null,null,null,null,null,0,{"$f":"IF(L70=\"\",\"\",1)","v":""},{"$f":"IF(M70=\"\",\"\",2)","v":""},{"$f":"IF(N70=\"\",\"\",3)","v":""},{"$f":"IF(O70=\"\",\"\",4)","v":""},{"$f":"IF(P70=\"\",\"\",5)","v":""},{"$f":"IF(Q70=\"\",\"\",6)","v":""},{"$f":"IF(R70=\"\",\"\",7)","v":""}]
[null,null,null,null,"朝",null,null,null,null,null,null,null,null,null,null,null,null,null,null,null,null,null,null,null,null,0,"","","","","","",""]
[null,null,null,null,"朝",null,null,null,null,null,null,null,null,null,null,null,null,null,null,null,null,null,null,null,null,0,"","","","","","",""]
[null,null,null,null,"朝",null,null,null,null,null,null,null,null,null,null,null,null,null,null,null,null,null,null,null,null,0,"","","","","","",""]
[null,null,null,null,"昼",null,null,null,null,null,null,null,null,null,null,null,null,null,null,null,null,null,null,null,null,0,"","","","","","",""]
[null,null,null,null,"昼",null,null,null,null,null,null,null,null,null,null,null,null,null,null,null,null,null,null,null,null,0,"","","","","","",""]
[null,null,null,null,"昼",null,null,null,null,null,null,null,null,null,null,null,null,null,null,null,null,null,null,null,null,0,"","","","","","",""]
[null,null,null,null,"昼",null,null,null,null,null,null,null,null,null,null,null,null,null,null,null,null,null,null,null,null,0,"","","","","","",""]
[null,null,null,null,"昼",null,null,null,null,null,null,null,null,null,null,null,null,null,null,null,null,null,null,null,null,0,"","","","","","",""]
[null,null,null,null,"夕",null,null,null,null,null,null,null,null,null,null,null,null,null,null,null,null,null,null,null,null,0,"","","","","","",""]
[null,null,null,null,"夕",null,null,null,null,null,null,null,null,null,null,null,null,null,null,null,null,null,null,null,null,0,"","","","","","",""]
[null,null,null,null,"夕",null,null,null,null,null,null,null,null,null,null,null,null,null,null,null,null,null,null,null,null,0,"","","","","","",""]
[null,null,null,null,"夕",null,"日祭日",null,null,null,null,null,null,null,null,null,null,null,null,null,null,null,null,null,null,0,"","","","","","",""]
[null,null,null,null,"夕",null,"泊以外全て",null,null,null,null,null,null,null,null,null,null,null,null,null,null,null,null,null,null,0,"","","","","","",""]
[]
[]
[null,null,null,null,null,"氏名"]
[null,null,null,"休みと宿泊以外の毎日送り","夕食後送り"]
[null,null,null,null,"夕食後送り"]
[null,null,null,null,"夕食後送り"]
[null,null,null,null,"夕食後送り"]
[null,null,null,null,"夕食後送り"]
[]
[null,null,null,null,"曜日指定送り","日","月","火","水","木","金","土",null,"曜日判定"]
[null,null,null,"曜日指定\n指定の曜日に\n１を立てる",null,null,null,null,null,null,null,null,null,{"$f":"IF(F94=\"\",\"\",1)","v":""},{"$f":"IF(G94=\"\",\"\",2)","v":""},{"$f":"IF(H94=\"\",\"\",3)","v":""},{"$f":"IF(I94=\"\",\"\",4)","v":""},{"$f":"IF(J94=\"\",\"\",5)","v":""},{"$f":"IF(K94=\"\",\"\",6)","v":""},{"$f":"IF(L94=\"\",\"\",7)","v":""}]
[null,null,null,null,null,null,null,null,null,null,null,null,null,{"$f":"IF(F95=\"\",\"\",1)","v":""},{"$f":"IF(G95=\"\",\"\",2)","v":""},{"$f":"IF(H95=\"\",\"\",3)","v":""},{"$f":"IF(I95=\"\",\"\",4)","v":""},{"$f":"IF(J95=\"\",\"\",5)","v":""},{"$f":"IF(K95=\"\",\"\",6)","v":""},{"$f":"IF(L95=\"\",\"\",7)","v":""}]
[null,null,null,null,null,null,null,null,null,null,null,null,null,{"$f":"IF(F96=\"\",\"\",1)","v":""},{"$f":"IF(G96=\"\",\"\",2)","v":""},{"$f":"IF(H96=\"\",\"\",3)","v":""},{"$f":"IF(I96=\"\",\"\",4)","v":""},{"$f":"IF(J96=\"\",\"\",5)","v":""},{"$f":"IF(K96=\"\",\"\",6)","v":""},{"$f":"IF(L96=\"\",\"\",7)","v":""}]
[null,null,null,null,null,null,null,null,null,null,null,null,null,{"$f":"IF(F97=\"\",\"\",1)","v":""},{"$f":"IF(G97=\"\",\"\",2)","v":""},{"$f":"IF(H97=\"\",\"\",3)","v":""},{"$f":"IF(I97=\"\",\"\",4)","v":""},{"$f":"IF(J97=\"\",\"\",5)","v":""},{"$f":"IF(K97=\"\",\"\",6)","v":""},{"$f":"IF(L97=\"\",\"\",7)","v":""}]
[null,null,null,null,null,null,null,null,null,null,null,null,null,{"$f":"IF(F98=\"\",\"\",1)","v":""},{"$f":"IF(G98=\"\",\"\",2)","v":""},{"$f":"IF(H98=\"\",\"\",3)","v":""},{"$f":"IF(I98=\"\",\"\",4)","v":""},{"$f":"IF(J98=\"\",\"\",5)","v":""},{"$f":"IF(K98=\"\",\"\",6)","v":""},{"$f":"IF(L98=\"\",\"\",7)","v":""}]
[]
[]
[]
[]
[]
[null,"任意メッセージ（2段目）"]
[]
[]
[null,"曜日別表示",null,"曜日別のメッセージ"]
[null,"日",1]
[null,"月",2]
[null,"火",3]
[null,"水",4]
[null,"木",5]
[null,"金",6]
[null,"土",7]
[]
[null,null,"参照氏名","送迎に対する個別のメッセージ"]
[null,"個別表示","氏名","通い","宿泊","判定","入力"]
[null,3,null,{"$f":"IF(C118<>\"\",VLOOKUP(C118,日印!$C$5:'日印'!$F$29,4,FALSE),\"\")","v":""},{"$f":"IF(ISNA(VLOOKUP(C118,泊判定,3,FALSE)=TRUE),\"\",VLOOKUP(C118,泊判定,3,FALSE))","v":""},{"$f":"IF(G118<>\"\",IF(AND(D118=\"通所\",OR(E118=\"\",E118=\"泊入り\")),\"□\"&G118,\"\"),\"\")","v":""}]
[null,5,null,{"$f":"IF(C119<>\"\",VLOOKUP(C119,日印!$C$5:'日印'!$F$29,4,FALSE),\"\")","v":""},{"$f":"IF(ISNA(VLOOKUP(C119,泊判定,3,FALSE)=TRUE),\"\",VLOOKUP(C119,泊判定,3,FALSE))","v":""},"",null,null,null,null,null,null,{"$f":"IF(L119=処理日,1,0)","v":0}]
[null,7,null,{"$f":"IF(C120<>\"\",VLOOKUP(C120,日印!$C$5:'日印'!$F$29,4,FALSE),\"\")","v":""},{"$f":"IF(ISNA(VLOOKUP(C120,泊判定,3,FALSE)=TRUE),\"\",VLOOKUP(C120,泊判定,3,FALSE))","v":""},{"$f":"IF(G120<>\"\",IF(AND(D120=\"訪\",AND(M122=1)),\"□\"&G120,\"\"),\"\")","v":""},null,null,null,null,null,null,{"$f":"IF(L120=処理日,1,0)","v":0}]
[null,9,null,{"$f":"IF(C121<>\"\",VLOOKUP(C121,日印!$C$5:'日印'!$F$29,4,FALSE),\"\")","v":""},{"$f":"IF(ISNA(VLOOKUP(C121,泊判定,3,FALSE)=TRUE),\"\",VLOOKUP(C121,泊判定,3,FALSE))","v":""},"",null,null,null,null,null,null,{"$f":"IF(L121=処理日,1,0)","v":0}]
[null,11,null,{"$f":"IF(C122<>\"\",VLOOKUP(C122,日印!$C$5:'日印'!$F$29,4,FALSE),\"\")","v":""},null,"",null,null,null,null,null,null,{"$f":"SUM(M119:M121)","v":0}]
[null,13,null,{"$f":"IF(C123<>\"\",VLOOKUP(C123,日印!$C$5:'日印'!$F$29,4,FALSE),\"\")","v":""},{"$f":"IF(ISNA(VLOOKUP(C123,泊判定,3,FALSE)=TRUE),\"\",VLOOKUP(C123,泊判定,3,FALSE))","v":""},""]
[null,15,null,{"$f":"IF(C124<>\"\",VLOOKUP(C124,日印!$C$5:'日印'!$F$29,4,FALSE),\"\")","v":""},{"$f":"IF(ISNA(VLOOKUP(C124,泊判定,3,FALSE)=TRUE),\"\",VLOOKUP(C124,泊判定,3,FALSE))","v":""},{"$f":"IF(G124<>\"\",IF(AND(D124=\"通所\",OR(E124=\"\",E124=\"泊入り\")),\"□\"&G124,\"\"),\"\")","v":""}]
[null,17,null,{"$f":"IF(C125<>\"\",VLOOKUP(C125,日印!$C$5:'日印'!$F$29,4,FALSE),\"\")","v":""},"",""]
[null,19,null,{"$f":"IF(C126<>\"\",VLOOKUP(C126,日印!$C$5:'日印'!$F$29,4,FALSE),\"\")","v":""},"",""]
[null,21,null,{"$f":"IF(C127<>\"\",VLOOKUP(C127,日印!$C$5:'日印'!$F$29,4,FALSE),\"\")","v":""},"",""]
[null,23,null,{"$f":"IF(C128<>\"\",VLOOKUP(C128,日印!$C$5:'日印'!$F$29,4,FALSE),\"\")","v":""},"",""]
[null,25,null,{"$f":"IF(C129<>\"\",VLOOKUP(C129,日印!$C$5:'日印'!$F$29,4,FALSE),\"\")","v":""},"",""]
[null,27,null,{"$f":"IF(C130<>\"\",VLOOKUP(C130,日印!$C$5:'日印'!$F$29,4,FALSE),\"\")","v":""},"",""]
[null,29,null,{"$f":"IF(C131<>\"\",VLOOKUP(C131,日印!$C$5:'日印'!$F$29,4,FALSE),\"\")","v":""},"",""]
[null,31,null,{"$f":"IF(C132<>\"\",VLOOKUP(C132,日印!$C$5:'日印'!$F$29,4,FALSE),\"\")","v":""},"",""]
[null,33,null,{"$f":"IF(C133<>\"\",VLOOKUP(C133,日印!$C$5:'日印'!$F$29,4,FALSE),\"\")","v":""},"",{"$f":"IF(G133<>\"\",IF(AND(D133=\"通所\",OR(E133=\"\",E133=\"泊入り\")),\"□\"&G133,\"\"),\"\")","v":""}]
[null,35,null,{"$f":"IF(C134<>\"\",VLOOKUP(C134,日印!$C$5:'日印'!$F$29,4,FALSE),\"\")","v":""},"",""]
[null,37,null,{"$f":"IF(C135<>\"\",VLOOKUP(C135,日印!$C$5:'日印'!$F$29,4,FALSE),\"\")","v":""},"",""]
[null,39,null,{"$f":"IF(C136<>\"\",VLOOKUP(C136,日印!$C$5:'日印'!$F$29,4,FALSE),\"\")","v":""},"",""]
[null,41,null,{"$f":"IF(C137<>\"\",VLOOKUP(C137,日印!$C$5:'日印'!$F$29,4,FALSE),\"\")","v":""},"",{"$f":"IF(G137<>\"\",IF(AND(D137=\"通所\",OR(E137=\"\",E137=\"泊入り\")),\"□\"&G137,\"\"),\"\")","v":""}]
[null,43,null,{"$f":"IF(C138<>\"\",VLOOKUP(C138,日印!$C$5:'日印'!$F$29,4,FALSE),\"\")","v":""},"",{"$f":"IF(G138<>\"\",IF(AND(D138=\"通所\",OR(E138=\"\",E138=\"泊入り\")),\"□\"&G138,\"\"),\"\")","v":""}]
[null,45,null,{"$f":"IF(C139<>\"\",VLOOKUP(C139,日印!$C$5:'日印'!$F$29,4,FALSE),\"\")","v":""},"",{"$f":"IF(G139<>\"\",IF(AND(D139=\"通所\",OR(E139=\"\",E139=\"泊入り\")),\"□\"&G139,\"\"),\"\")","v":""}]
[null,47,null,{"$f":"IF(C140<>\"\",VLOOKUP(C140,日印!$C$5:'日印'!$F$29,4,FALSE),\"\")","v":""},"",""]
[null,49,null,{"$f":"IF(C141<>\"\",VLOOKUP(C141,日印!$C$5:'日印'!$F$29,4,FALSE),\"\")","v":""},"",""]
[null,51,null,{"$f":"IF(C142<>\"\",VLOOKUP(C142,日印!$C$5:'日印'!$F$29,4,FALSE),\"\")","v":""},"",""]
[]
[null,null,{"$f":"F118&F119&F120&F121&F122&F123&F124&F125&F126&F127&F128&F129&F130&F131&F132&F133&F134&F135&F136&F137&F138&F139&F140&F141&F142","v":""}]

{"sheet":"配車作成","index":1,"n_rows":98,"n_cols":47,"rows_kept":98,"cut":false,"hidden":false,"merged":[[5,26,6,27],[7,44,7,46],[6,10,6,11],[33,12,34,13],[3,6,4,7],[3,8,4,8],[93,4,94,4],[93,5,94,6],[6,6,6,7]]}
[null,null,null,null,null,"登録人数",{"$f":"利用人数","v":10},"前泊数",{"$f":"25-COUNTBLANK(D9:D33)","v":4},"本日利用",{"$f":"HLOOKUP(処理日,利用予定,53,FALSE)","v":5},"本日宿泊",{"$f":"25-COUNTBLANK(J9:J33)","v":3},null,null,null,null,null,null,null,null,null,null,null,null,null,null,null,null,null,null,"前日",{"$f":"処理日-1","v":"2013-06-01"},null,"日勤数",{"$f":"勤務員-COUNTBLANK(AJ9:AJ23)","v":3},"遅番",{"$f":"COUNTIF(AP9:AP23,\"遅番\")","v":1},"夜勤",{"$f":"COUNTIF(AP9:AP23,\"夜勤\")","v":1},null,"翌日",{"$f":"処理日+1","v":"2013-06-03"}]
[null,null,null,null,null,"日付",{"$f":"TODAY()","v":"2013-06-02"},"職員数",{"$f":"勤務員","v":7},"日勤者",{"$f":"AJ1","v":3},"夕食後",{"$f":"COUNTA(K31:K35)","v":0},null,null,null,null,null,null,null,null,null,null,null,null,null,null,null,null,null,null,null,null,null,"勤務員",{"$f":"勤務員","v":7},"早番",{"$f":"COUNTIF(AQ9:AQ27,\"早番\")","v":1}]
[]
[null,null,null,null,null,"処理月日:",{"$f":"TODAY()+K4","v":"2013-06-02"},null,{"$f":"処理日","v":41427},null,0,"←日付変更"]
[]
[null,null,null,null,null,null,null,null,null,null,null,null,null,null,null,null,null,null,null,null,null,null,null,null,null,null,"宿泊者の印刷"]
[null,null,null,null,null,null,"迎え",null,null,null,"送り",null,null,null,null,null,null,null,null,null,null,null,null,null,null,{"$f":"HLOOKUP(処理日,利用予定,54,FALSE)","v":9},null,null,null,null,null,null,null,null,null,null,null,null,null,null,"当日の勤務"]
["職員名","勤務",null,"前日からの泊","番号","本日の利用","↓入力","軽自動車",null,"本日の宿泊","↓入力",{"$f":"H8","v":"軽自動車"},"送り者","番号",null,null,null,null,null,null,null,null,null,"⇒",null,null,"よみ","泊まり",null,null,null,"本日の宿泊","前日の宿泊","判定",null,"日勤","夜勤","遅番","早番","日誌表記","遅番者の検索","当日","翌日",null,"訪問者の抽出"]
[{"$f":"勤務表!B4","v":"A職員"},{"$f":"HLOOKUP($G$4,勤務,3,FALSE)","v":"早番"},null,{"$f":"AG9","v":"利用者A"},1,{"$f":"IF(ISERR(HLOOKUP($G$4,利用読込,3,FALSE))=FALSE,HLOOKUP($G$4,利用読込,3,FALSE),\"\")","v":"利用者A"},null,{"$f":"IF(G9<>\"\",VLOOKUP(G9,cood,2,FALSE),\"\")","v":""},null,{"$f":"IF(ISERR(HLOOKUP($G$4,利用読込,4,FALSE))=FALSE,HLOOKUP($G$4,利用読込,4,FALSE),\"\")","v":"利用者A"},null,{"$f":"IF(K9<>\"\",VLOOKUP(K9,cood,2,FALSE),\"\")","v":""},{"$f":"IF(AND(F9<>\"\",J9=\"\"),F9,\"\")","v":""},1,null,null,null,null,null,null,null,null,null,null,null,null,{"$f":"IF(AB9<>\"\",VLOOKUP(AB9,namae,2,FALSE),\"\")","v":"リヨウシャA"},"利用者A",null,null,null,{"$f":"IF(AND(J9<>\"\",AG9<>\"\"),J9,IF(AG9=\"\",J9,AG9))","v":"利用者A"},{"$f":"IF(ISERR(HLOOKUP($AG$1,利用読込,4,FALSE))=FALSE,HLOOKUP($AG$1,利用読込,4,FALSE),\"\")","v":"利用者A"},{"$f":"IF(AND(AG9<>\"\",J9=AG9),\"連泊\",IF(AND(J9=\"\",AG9<>\"\"),\"泊明け\",IF(AND(J9<>\"\",AG9=\"\"),\"泊入り\",\"\")))","v":"連泊"},null,{"$f":"IF(OR(AP9=\"夜勤\",AP9=\"明番\",AP9=\"休\",AP9=\"有給\",AP9=\"振休\",AP9=\"健診\"),\"\",AO9)","v":"A職員"},{"$f":"IF(AP9=\"夜勤\",AO9,\"\")","v":""},{"$f":"IF(AP9=\"遅番\",AO9,\"\")","v":""},{"$f":"IF(OR(AQ9=\"早番\",AQ9=\"早K\"),AO9,\"\")","v":""},{"$f":"AP9","v":"早番"},{"$f":"A9","v":"A職員"},{"$f":"B9","v":"早番"},{"$f":"HLOOKUP($AQ$1,勤務,3,FALSE)","v":"休"},null,{"$f":"IF(LEFT(F9,1)=\"訪\",F9,\"\")","v":""},null,"訪：利用者J"]
[{"$f":"勤務表!B5","v":"B職員"},{"$f":"HLOOKUP($G$4,勤務,4,FALSE)","v":"明番"},null,"利用者B",2,{"$f":"IF(ISERR(HLOOKUP($G$4,利用読込,5,FALSE))=FALSE,HLOOKUP($G$4,利用読込,5,FALSE),\"\")","v":""},null,{"$f":"IF(G10<>\"\",VLOOKUP(G10,cood,2,FALSE),\"\")","v":""},null,{"$f":"IF(ISERR(HLOOKUP($G$4,利用読込,6,FALSE))=FALSE,HLOOKUP($G$4,利用読込,6,FALSE),\"\")","v":""},null,{"$f":"IF(K10<>\"\",VLOOKUP(K10,cood,2,FALSE),\"\")","v":""},"",2,null,null,null,null,null,null,null,null,null,"禁止",null,null,{"$f":"IF(AB10<>\"\",VLOOKUP(AB10,namae,2,FALSE),\"\")","v":"リヨウシャB"},"利用者B",null,null,null,"利用者B",{"$f":"IF(ISERR(HLOOKUP($AG$1,利用読込,6,FALSE))=FALSE,HLOOKUP($AG$1,利用読込,6,FALSE),\"\")","v":"利用者B"},"泊明け",null,{"$f":"IF(OR(AP10=\"夜勤\",AP10=\"明番\",AP10=\"休\",AP10=\"有給\",AP10=\"振休\",AP10=\"健診\"),\"\",AO10)","v":""},{"$f":"IF(AP10=\"夜勤\",AO10,\"\")","v":""},{"$f":"IF(AP10=\"遅番\",AO10,\"\")","v":""},{"$f":"IF(OR(AQ10=\"早番\",AQ10=\"早K\"),AO10,\"\")","v":""},{"$f":"AP10","v":"明番"},"B職員","明番",{"$f":"HLOOKUP($AQ$1,勤務,4,FALSE)","v":"休"},null,"",null,"訪：利用者G"]
[{"$f":"勤務表!B6","v":"C職員"},{"$f":"HLOOKUP($G$4,勤務,5,FALSE)","v":"夜勤"},null,"",3,{"$f":"IF(ISERR(HLOOKUP($G$4,利用読込,7,FALSE))=FALSE,HLOOKUP($G$4,利用読込,7,FALSE),\"\")","v":"訪：利用者C"},null,{"$f":"IF(G11<>\"\",VLOOKUP(G11,cood,2,FALSE),\"\")","v":""},null,{"$f":"IF(ISERR(HLOOKUP($G$4,利用読込,8,FALSE))=FALSE,HLOOKUP($G$4,利用読込,8,FALSE),\"\")","v":""},null,{"$f":"IF(K11<>\"\",VLOOKUP(K11,cood,2,FALSE),\"\")","v":""},"訪：利用者C",3,null,null,null,null,null,null,null,null,null,null,null,null,{"$f":"IF(AB11<>\"\",VLOOKUP(AB11,namae,2,FALSE),\"\")","v":"リヨウシャE"},"利用者E",null,null,null,"",{"$f":"IF(ISERR(HLOOKUP($AG$1,利用読込,8,FALSE))=FALSE,HLOOKUP($AG$1,利用読込,8,FALSE),\"\")","v":""},"",null,"","C職員","","","夜勤","C職員","夜勤",{"$f":"HLOOKUP($AQ$1,勤務,5,FALSE)","v":"明番"},null,"訪：利用者C",null,"訪：利用者C"]
[{"$f":"勤務表!B7","v":"D職員"},{"$f":"HLOOKUP($G$4,勤務,6,FALSE)","v":"K1"},null,"",4,{"$f":"IF(ISERR(HLOOKUP($G$4,利用読込,9,FALSE))=FALSE,HLOOKUP($G$4,利用読込,9,FALSE),\"\")","v":"利用者D"},null,{"$f":"IF(G12<>\"\",VLOOKUP(G12,cood,2,FALSE),\"\")","v":""},null,{"$f":"IF(ISERR(HLOOKUP($G$4,利用読込,10,FALSE))=FALSE,HLOOKUP($G$4,利用読込,10,FALSE),\"\")","v":""},null,{"$f":"IF(K12<>\"\",VLOOKUP(K12,cood,2,FALSE),\"\")","v":""},"利用者D",4,null,null,null,null,null,null,null,null,null,null,null,null,{"$f":"IF(AB12<>\"\",VLOOKUP(AB12,namae,2,FALSE),\"\")","v":"リヨウシャG"},"利用者G",null,null,null,"",{"$f":"IF(ISERR(HLOOKUP($AG$1,利用読込,10,FALSE))=FALSE,HLOOKUP($AG$1,利用読込,10,FALSE),\"\")","v":""},"",null,"D職員","","","","K1","D職員","K1",{"$f":"HLOOKUP($AQ$1,勤務,6,FALSE)","v":"LK2"},null,"",null,""]
[{"$f":"勤務表!B8","v":"E職員"},{"$f":"HLOOKUP($G$4,勤務,7,FALSE)","v":"休"},null,"",5,{"$f":"IF(ISERR(HLOOKUP($G$4,利用読込,11,FALSE))=FALSE,HLOOKUP($G$4,利用読込,11,FALSE),\"\")","v":"利用者E"},null,{"$f":"IF(G13<>\"\",VLOOKUP(G13,cood,2,FALSE),\"\")","v":""},null,{"$f":"IF(ISERR(HLOOKUP($G$4,利用読込,12,FALSE))=FALSE,HLOOKUP($G$4,利用読込,12,FALSE),\"\")","v":""},null,{"$f":"IF(K13<>\"\",VLOOKUP(K13,cood,2,FALSE),\"\")","v":""},"利用者E",5,null,null,null,null,null,null,null,null,null,"⇒",null,null,{"$f":"IF(AB13<>\"\",VLOOKUP(AB13,namae,2,FALSE),\"\")","v":"リヨウシャH"},"利用者H",null,null,null,"",{"$f":"IF(ISERR(HLOOKUP($AG$1,利用読込,12,FALSE))=FALSE,HLOOKUP($AG$1,利用読込,12,FALSE),\"\")","v":""},"",null,"","","","","休","E職員","休",{"$f":"HLOOKUP($AQ$1,勤務,7,FALSE)","v":"遅番"},null,"",null,""]
[{"$f":"勤務表!B9","v":"F職員"},{"$f":"HLOOKUP($G$4,勤務,8,FALSE)","v":"休"},null,"",6,{"$f":"IF(ISERR(HLOOKUP($G$4,利用読込,13,FALSE))=FALSE,HLOOKUP($G$4,利用読込,13,FALSE),\"\")","v":"訪：利用者F"},null,"5人乗り",null,{"$f":"IF(ISERR(HLOOKUP($G$4,利用読込,14,FALSE))=FALSE,HLOOKUP($G$4,利用読込,14,FALSE),\"\")","v":""},null,{"$f":"H14","v":"5人乗り"},"訪：利用者F",6,null,null,null,null,null,null,null,null,null,"入力",null,null,{"$f":"IF(AB14<>\"\",VLOOKUP(AB14,namae,2,FALSE),\"\")","v":""},"",null,null,null,"",{"$f":"IF(ISERR(HLOOKUP($AG$1,利用読込,14,FALSE))=FALSE,HLOOKUP($AG$1,利用読込,14,FALSE),\"\")","v":""},"",null,"","","","","休","F職員","休",{"$f":"HLOOKUP($AQ$1,勤務,8,FALSE)","v":"L1"},null,"訪：利用者F",null,""]
[{"$f":"勤務表!B10","v":"G職員"},{"$f":"HLOOKUP($G$4,勤務,9,FALSE)","v":"遅番"},null,"利用者G",7,{"$f":"IF(ISERR(HLOOKUP($G$4,利用読込,15,FALSE))=FALSE,HLOOKUP($G$4,利用読込,15,FALSE),\"\")","v":"訪：利用者G"},null,{"$f":"IF(G15<>\"\",VLOOKUP(G15,cood,2,FALSE),\"\")","v":""},null,{"$f":"IF(ISERR(HLOOKUP($G$4,利用読込,16,FALSE))=FALSE,HLOOKUP($G$4,利用読込,16,FALSE),\"\")","v":"利用者G"},null,{"$f":"IF(K15<>\"\",VLOOKUP(K15,cood,2,FALSE),\"\")","v":""},"",7,null,null,null,null,null,null,null,null,null,"禁止",null,null,{"$f":"IF(AB15<>\"\",VLOOKUP(AB15,namae,2,FALSE),\"\")","v":""},"",null,null,null,"利用者G",{"$f":"IF(ISERR(HLOOKUP($AG$1,利用読込,16,FALSE))=FALSE,HLOOKUP($AG$1,利用読込,16,FALSE),\"\")","v":"利用者G"},"連泊",null,"G職員","","G職員","G職員","遅番","G職員","遅番",{"$f":"HLOOKUP($AQ$1,勤務,9,FALSE)","v":"早番"},null,"訪：利用者G",null,""]
[{"$f":"勤務表!B11","v":0},{"$f":"HLOOKUP($G$4,勤務,10,FALSE)","v":0},null,"利用者H",8,{"$f":"IF(ISERR(HLOOKUP($G$4,利用読込,17,FALSE))=FALSE,HLOOKUP($G$4,利用読込,17,FALSE),\"\")","v":"利用者H"},null,{"$f":"IF(G16<>\"\",VLOOKUP(G16,cood,2,FALSE),\"\")","v":""},null,{"$f":"IF(ISERR(HLOOKUP($G$4,利用読込,18,FALSE))=FALSE,HLOOKUP($G$4,利用読込,18,FALSE),\"\")","v":"利用者H"},null,{"$f":"IF(K16<>\"\",VLOOKUP(K16,cood,2,FALSE),\"\")","v":""},"",8,null,null,null,null,null,null,null,null,null,null,null,null,"","",null,null,null,"利用者H",{"$f":"IF(ISERR(HLOOKUP($AG$1,利用読込,18,FALSE))=FALSE,HLOOKUP($AG$1,利用読込,18,FALSE),\"\")","v":"利用者H"},"連泊",null,0,"","","",0,0,0,{"$f":"HLOOKUP($AQ$1,勤務,10,FALSE)","v":0},null,"",null,""]
[{"$f":"勤務表!B12","v":0},{"$f":"HLOOKUP($G$4,勤務,11,FALSE)","v":0},null,"",9,{"$f":"IF(ISERR(HLOOKUP($G$4,利用読込,19,FALSE))=FALSE,HLOOKUP($G$4,利用読込,19,FALSE),\"\")","v":"利用者I"},null,{"$f":"IF(G17<>\"\",VLOOKUP(G17,cood,2,FALSE),\"\")","v":""},null,{"$f":"IF(ISERR(HLOOKUP($G$4,利用読込,20,FALSE))=FALSE,HLOOKUP($G$4,利用読込,20,FALSE),\"\")","v":""},null,{"$f":"IF(K17<>\"\",VLOOKUP(K17,cood,2,FALSE),\"\")","v":""},"利用者I",9,null,null,null,null,null,null,null,null,null,null,null,null,"","",null,null,null,"",{"$f":"IF(ISERR(HLOOKUP($AG$1,利用読込,20,FALSE))=FALSE,HLOOKUP($AG$1,利用読込,20,FALSE),\"\")","v":""},"",null,0,"","","",0,0,0,{"$f":"HLOOKUP($AQ$1,勤務,11,FALSE)","v":0},null,"",null,""]
[{"$f":"勤務表!B13","v":0},{"$f":"HLOOKUP($G$4,勤務,12,FALSE)","v":0},null,"",10,{"$f":"IF(ISERR(HLOOKUP($G$4,利用読込,21,FALSE))=FALSE,HLOOKUP($G$4,利用読込,21,FALSE),\"\")","v":"訪：利用者J"},null,{"$f":"IF(G18<>\"\",VLOOKUP(G18,cood,2,FALSE),\"\")","v":""},null,{"$f":"IF(ISERR(HLOOKUP($G$4,利用読込,22,FALSE))=FALSE,HLOOKUP($G$4,利用読込,22,FALSE),\"\")","v":""},null,{"$f":"IF(K18<>\"\",VLOOKUP(K18,cood,2,FALSE),\"\")","v":""},"訪：利用者J",10,null,null,null,null,null,null,null,null,null,"⇒",null,null,"","",null,null,null,"",{"$f":"IF(ISERR(HLOOKUP($AG$1,利用読込,22,FALSE))=FALSE,HLOOKUP($AG$1,利用読込,22,FALSE),\"\")","v":""},"",null,0,"","","",0,0,0,{"$f":"HLOOKUP($AQ$1,勤務,12,FALSE)","v":0},null,"訪：利用者J",null,""]
[{"$f":"勤務表!B14","v":0},{"$f":"HLOOKUP($G$4,勤務,13,FALSE)","v":0},null,"",11,{"$f":"IF(ISERR(HLOOKUP($G$4,利用読込,23,FALSE))=FALSE,HLOOKUP($G$4,利用読込,23,FALSE),\"\")","v":""},null,{"$f":"IF(G19<>\"\",VLOOKUP(G19,cood,2,FALSE),\"\")","v":""},null,{"$f":"IF(ISERR(HLOOKUP($G$4,利用読込,24,FALSE))=FALSE,HLOOKUP($G$4,利用読込,24,FALSE),\"\")","v":""},null,{"$f":"IF(K19<>\"\",VLOOKUP(K19,cood,2,FALSE),\"\")","v":""},"",11,"→",null,null,null,null,null,null,null,null,"入力",null,null,"","",null,null,null,"",{"$f":"IF(ISERR(HLOOKUP($AG$1,利用読込,24,FALSE))=FALSE,HLOOKUP($AG$1,利用読込,24,FALSE),\"\")","v":""},"",null,0,"","","",0,0,0,{"$f":"HLOOKUP($AQ$1,勤務,13,FALSE)","v":0},null,"",null,""]
[{"$f":"勤務表!B15","v":0},{"$f":"HLOOKUP($G$4,勤務,14,FALSE)","v":0},null,"",12,{"$f":"IF(ISERR(HLOOKUP($G$4,利用読込,25,FALSE))=FALSE,HLOOKUP($G$4,利用読込,25,FALSE),\"\")","v":""},null,"9人乗り",null,{"$f":"IF(ISERR(HLOOKUP($G$4,利用読込,26,FALSE))=FALSE,HLOOKUP($G$4,利用読込,26,FALSE),\"\")","v":""},null,{"$f":"H20","v":"9人乗り"},"",12,null,null,null,null,null,null,null,null,null,"禁止",null,null,{"$f":"IF(AB20<>\"\",VLOOKUP(AB20,namae,2,FALSE),\"\")","v":""},"",null,null,null,"",{"$f":"IF(ISERR(HLOOKUP($AG$1,利用読込,26,FALSE))=FALSE,HLOOKUP($AG$1,利用読込,26,FALSE),\"\")","v":""},"",null,0,"","","",0,0,0,{"$f":"HLOOKUP($AQ$1,勤務,14,FALSE)","v":0},null,"",null,""]
[{"$f":"勤務表!B16","v":0},{"$f":"HLOOKUP($G$4,勤務,15,FALSE)","v":0},null,"",13,{"$f":"IF(ISERR(HLOOKUP($G$4,利用読込,27,FALSE))=FALSE,HLOOKUP($G$4,利用読込,27,FALSE),\"\")","v":""},null,{"$f":"IF(G21<>\"\",VLOOKUP(G21,cood,2,FALSE),\"\")","v":""},null,{"$f":"IF(ISERR(HLOOKUP($G$4,利用読込,28,FALSE))=FALSE,HLOOKUP($G$4,利用読込,28,FALSE),\"\")","v":""},null,{"$f":"IF(K21<>\"\",VLOOKUP(K21,cood,2,FALSE),\"\")","v":""},"",13,null,null,null,null,null,null,null,null,null,null,null,null,"","",null,null,null,"",{"$f":"IF(ISERR(HLOOKUP($AG$1,利用読込,28,FALSE))=FALSE,HLOOKUP($AG$1,利用読込,28,FALSE),\"\")","v":""},"",null,0,"","","",0,0,0,{"$f":"HLOOKUP($AQ$1,勤務,15,FALSE)","v":0},null,"",null,""]
[{"$f":"勤務表!B17","v":0},{"$f":"HLOOKUP($G$4,勤務,16,FALSE)","v":0},null,"",14,{"$f":"IF(ISERR(HLOOKUP($G$4,利用読込,29,FALSE))=FALSE,HLOOKUP($G$4,利用読込,29,FALSE),\"\")","v":""},null,"",null,{"$f":"IF(ISERR(HLOOKUP($G$4,利用読込,30,FALSE))=FALSE,HLOOKUP($G$4,利用読込,30,FALSE),\"\")","v":""},null,"","",14,null,null,null,null,null,null,null,null,null,null,null,null,"","",null,null,null,"",{"$f":"IF(ISERR(HLOOKUP($AG$1,利用読込,30,FALSE))=FALSE,HLOOKUP($AG$1,利用読込,30,FALSE),\"\")","v":""},"",null,0,"","","",0,0,0,{"$f":"HLOOKUP($AQ$1,勤務,16,FALSE)","v":0},null,"",null,""]
[{"$f":"勤務表!B19","v":0},{"$f":"HLOOKUP($G$4,勤務,17,FALSE)","v":0},null,"",15,{"$f":"IF(ISERR(HLOOKUP($G$4,利用読込,31,FALSE))=FALSE,HLOOKUP($G$4,利用読込,31,FALSE),\"\")","v":""},null,"",null,{"$f":"IF(ISERR(HLOOKUP($G$4,利用読込,32,FALSE))=FALSE,HLOOKUP($G$4,利用読込,32,FALSE),\"\")","v":""},null,"","",15,null,null,null,null,null,null,null,null,null,null,null,null,"","",null,null,null,"",{"$f":"IF(ISERR(HLOOKUP($AG$1,利用読込,32,FALSE))=FALSE,HLOOKUP($AG$1,利用読込,32,FALSE),\"\")","v":""},"",null,0,"","","",0,0,0,{"$f":"HLOOKUP($AQ$1,勤務,17,FALSE)","v":0},null,"",null,""]
[{"$f":"勤務表!B20","v":0},{"$f":"HLOOKUP($G$4,勤務,18,FALSE)","v":0},null,"",16,{"$f":"IF(ISERR(HLOOKUP($G$4,利用読込,33,FALSE))=FALSE,HLOOKUP($G$4,利用読込,33,FALSE),\"\")","v":""},null,"",null,{"$f":"IF(ISERR(HLOOKUP($G$4,利用読込,34,FALSE))=FALSE,HLOOKUP($G$4,利用読込,34,FALSE),\"\")","v":""},null,"","",16,null,null,null,null,null,null,null,null,null,"⇒",null,null,"","",null,null,null,"",{"$f":"IF(ISERR(HLOOKUP($AG$1,利用読込,34,FALSE))=FALSE,HLOOKUP($AG$1,利用読込,34,FALSE),\"\")","v":""},"",null,0,{"$f":"IF(AP24=\"夜勤\",AO24,\"\")","v":""},{"$f":"IF(AP24=\"遅番\",AO24,\"\")","v":""},{"$f":"IF(OR(AQ24=\"早番\",AQ24=\"早K\"),AO24,\"\")","v":""},0,0,0,{"$f":"HLOOKUP($AQ$1,勤務,18,FALSE)","v":0},null,"",null,""]
[null,null,null,"",17,{"$f":"IF(ISERR(HLOOKUP($G$4,利用読込,35,FALSE))=FALSE,HLOOKUP($G$4,利用読込,35,FALSE),\"\")","v":""},null,"",null,{"$f":"IF(ISERR(HLOOKUP($G$4,利用読込,36,FALSE))=FALSE,HLOOKUP($G$4,利用読込,36,FALSE),\"\")","v":""},null,"","",17,null,null,null,null,null,null,null,null,null,"入力",null,null,"","",null,null,null,"",{"$f":"IF(ISERR(HLOOKUP($AG$1,利用読込,36,FALSE))=FALSE,HLOOKUP($AG$1,利用読込,36,FALSE),\"\")","v":""},"",null,0,"","",{"$error":"#REF!"},0,0,0,{"$f":"HLOOKUP($AQ$1,勤務,19,FALSE)","v":{"$error":"#REF!"}},null,"",null,""]
[null,null,null,"",18,{"$f":"IF(ISERR(HLOOKUP($G$4,利用読込,37,FALSE))=FALSE,HLOOKUP($G$4,利用読込,37,FALSE),\"\")","v":""},null,"",null,{"$f":"IF(ISERR(HLOOKUP($G$4,利用読込,38,FALSE))=FALSE,HLOOKUP($G$4,利用読込,38,FALSE),\"\")","v":""},null,"","",18,null,null,null,null,null,null,null,null,null,"禁止",null,null,"","",null,null,null,"",{"$f":"IF(ISERR(HLOOKUP($AG$1,利用読込,38,FALSE))=FALSE,HLOOKUP($AG$1,利用読込,38,FALSE),\"\")","v":""},"",null,0,"","",{"$error":"#REF!"},0,0,0,{"$f":"HLOOKUP($AQ$1,勤務,20,FALSE)","v":{"$error":"#REF!"}},null,"",null,""]
[null,null,null,"",19,{"$f":"IF(ISERR(HLOOKUP($G$4,利用読込,39,FALSE))=FALSE,HLOOKUP($G$4,利用読込,39,FALSE),\"\")","v":""},null,"",null,{"$f":"IF(ISERR(HLOOKUP($G$4,利用読込,40,FALSE))=FALSE,HLOOKUP($G$4,利用読込,40,FALSE),\"\")","v":""},null,"","",19,null,null,null,null,null,null,null,null,null,null,null,null,"","",null,null,null,"",{"$f":"IF(ISERR(HLOOKUP($AG$1,利用読込,40,FALSE))=FALSE,HLOOKUP($AG$1,利用読込,40,FALSE),\"\")","v":""},"",null,0,"","",{"$error":"#REF!"},0,0,0,{"$f":"HLOOKUP($AQ$1,勤務,21,FALSE)","v":{"$error":"#REF!"}},null,"",null,""]
[null,null,null,"",20,{"$f":"IF(ISERR(HLOOKUP($G$4,利用読込,41,FALSE))=FALSE,HLOOKUP($G$4,利用読込,41,FALSE),\"\")","v":""},null,"",null,{"$f":"IF(ISERR(HLOOKUP($G$4,利用読込,42,FALSE))=FALSE,HLOOKUP($G$4,利用読込,42,FALSE),\"\")","v":""},null,"","",20,null,null,null,null,null,null,null,null,null,null,null,null,"","",null,null,null,"",{"$f":"IF(ISERR(HLOOKUP($AG$1,利用読込,42,FALSE))=FALSE,HLOOKUP($AG$1,利用読込,42,FALSE),\"\")","v":""},"",null,null,null,null,null,null,{"$f":"G19","v":0},{"$f":"G20","v":0},null,null,"",null,""]
[null,null,null,"",21,{"$f":"IF(ISERR(HLOOKUP($G$4,利用読込,43,FALSE))=FALSE,HLOOKUP($G$4,利用読込,43,FALSE),\"\")","v":""},null,"",null,{"$f":"IF(ISERR(HLOOKUP($G$4,利用読込,44,FALSE))=FALSE,HLOOKUP($G$4,利用読込,44,FALSE),\"\")","v":""},null,"","",21,null,null,null,null,null,null,null,null,null,null,null,null,"","",null,null,null,"",{"$f":"IF(ISERR(HLOOKUP($AG$1,利用読込,44,FALSE))=FALSE,HLOOKUP($AG$1,利用読込,44,FALSE),\"\")","v":""},"",null,null,null,null,null,null,null,null,null,null,"",null,""]
[null,null,null,"",22,{"$f":"IF(ISERR(HLOOKUP($G$4,利用読込,45,FALSE))=FALSE,HLOOKUP($G$4,利用読込,45,FALSE),\"\")","v":""},null,null,null,{"$f":"IF(ISERR(HLOOKUP($G$4,利用読込,46,FALSE))=FALSE,HLOOKUP($G$4,利用読込,46,FALSE),\"\")","v":""},null,"夕食後","",22,null,null,null,null,null,null,null,null,null,"⇒",null,null,"","",null,null,null,"",{"$f":"IF(ISERR(HLOOKUP($AG$1,利用読込,46,FALSE))=FALSE,HLOOKUP($AG$1,利用読込,46,FALSE),\"\")","v":""},"",null,null,null,null,null,null,null,null,null,null,"",null,""]
[null,null,null,"",23,{"$f":"IF(ISERR(HLOOKUP($G$4,利用読込,47,FALSE))=FALSE,HLOOKUP($G$4,利用読込,47,FALSE),\"\")","v":""},null,null,null,{"$f":"IF(ISERR(HLOOKUP($G$4,利用読込,48,FALSE))=FALSE,HLOOKUP($G$4,利用読込,48,FALSE),\"\")","v":""},null,"","",23,null,null,null,null,null,null,null,null,null,"入力",null,null,"","",null,null,null,"",{"$f":"IF(ISERR(HLOOKUP($AG$1,利用読込,48,FALSE))=FALSE,HLOOKUP($AG$1,利用読込,48,FALSE),\"\")","v":""},"",null,null,null,null,null,null,null,null,null,null,"",null,""]
[null,null,null,"",24,{"$f":"IF(ISERR(HLOOKUP($G$4,利用読込,49,FALSE))=FALSE,HLOOKUP($G$4,利用読込,49,FALSE),\"\")","v":""},null,null,null,{"$f":"IF(ISERR(HLOOKUP($G$4,利用読込,50,FALSE))=FALSE,HLOOKUP($G$4,利用読込,50,FALSE),\"\")","v":""},null,"","",24,null,null,null,null,null,null,null,null,null,"禁止",null,null,"","",null,null,null,"",{"$f":"IF(ISERR(HLOOKUP($AG$1,利用読込,50,FALSE))=FALSE,HLOOKUP($AG$1,利用読込,50,FALSE),\"\")","v":""},"",null,null,null,null,null,null,{"$f":"S11","v":0},{"$f":"S12","v":0},null,null,"",null,""]
[null,null,null,"",25,{"$f":"IF(ISERR(HLOOKUP($G$4,利用読込,51,FALSE))=FALSE,HLOOKUP($G$4,利用読込,51,FALSE),\"\")","v":""},null,null,null,{"$f":"IF(ISERR(HLOOKUP($G$4,利用読込,52,FALSE))=FALSE,HLOOKUP($G$4,利用読込,52,FALSE),\"\")","v":""},null,"","",25,null,null,null,null,null,null,null,null,null,"入力",null,null,"","",null,null,null,"",{"$f":"IF(ISERR(HLOOKUP($AG$1,利用読込,52,FALSE))=FALSE,HLOOKUP($AG$1,利用読込,52,FALSE),\"\")","v":""},"",null,null,null,null,null,null,null,null,null,null,"",null,""]
[null,null,null,null,null,null,null,null,null,null,null,"",{"$f":"\"定期夕食後送り\"&HLOOKUP(処理日,配食,5,FALSE)&\"名\"","v":"定期夕食後送り0名"},null,null,null,null,null,null,null,null,null,null,null,null,null,null,null,null,null,null,null,null,null,null,null,null,null,null,null,null,null,null,null,"",null,""]
[null,null,null,null,null,null,null,null,null,null,null,""]
[]
[]
[]
[null,null,null,null,null,null,null,null,null,null,null,null,null,null,null,null,null,null,null,null,null,null,null,null,null,null,null,null,null,null,null,null,null,null,null,null,null,{"$f":"IF(AP39=\"遅番\",AO39,\"\")","v":""}]
[null,null,null,null,null,null,null,null,null,null,null,null,null,null,null,null,null,null,null,null,null,null,null,null,null,null,null,null,null,null,null,null,null,null,null,null,null,{"$f":"IF(AP40=\"遅番\",AO40,\"\")","v":""}]
[null,null,null,null,null,null,null,null,null,null,null,null,null,null,null,null,null,null,null,null,null,null,null,null,null,null,null,null,null,null,null,null,null,null,null,null,null,{"$f":"IF(AP41=\"遅番\",AO41,\"\")","v":""}]
[null,null,null,null,null,null,null,null,null,null,null,null,null,null,null,null,null,null,null,null,null,null,null,null,null,null,null,null,null,null,null,null,null,null,null,null,null,{"$f":"IF(AP42=\"遅番\",AO42,\"\")","v":""}]
[null,null,null,null,null,null,null,null,null,null,null,null,null,null,null,null,null,null,null,null,null,null,null,null,null,null,null,null,null,null,null,null,null,null,null,null,null,{"$f":"IF(AP43=\"遅番\",AO43,\"\")","v":""}]
[]
[]
[]
[]
[]
[]
[]
[]
[]
[]
[]
[]
[]
[]
[]
[]
[]
[]
[]
[]
[]
[]
[]
[]
[]
[]
[]
[]
[]
[]
[]
[]
[]
[]
[]
[]
[]
[]
[]
[]
[]
[]
[]
[]
[]
[]
[]
[]
[]
[]
[]
[]
[]
[]
[null,0]

{"sheet":"利用表","index":2,"n_rows":199,"n_cols":104,"rows_kept":199,"cut":false,"hidden":false,"merged":[[51,0,52,0],[51,1,52,1],[51,37,52,37],[53,0,54,0],[53,1,54,1],[53,37,54,37],[51,34,52,34],[53,34,54,34],[35,0,36,0],[35,1,36,1],[35,34,36,34],[35,37,36,37],[49,0,50,0],[49,1,50,1],[49,34,50,34],[49,37,50,37],[45,0,46,0],[45,1,46,1],[45,34,46,34],[45,37,46,37],[47,0,48,0],[47,1,48,1],[47,34,48,34],[47,37,48,37],[41,0,42,0],[41,1,42,1],[41,34,42,34],[41,37,42,37],[43,0,44,0],[43,1,44,1],[43,34,44,34],[43,37,44,37],[37,0,38,0],[37,1,38,1],[37,34,38,34],[37,37,38,37],[39,0,40,0],[39,1,40,1],[39,34,40,34],[39,37,40,37],[31,0,32,0],[31,1,32,1],[31,34,32,34],[31,37,32,37],[33,0,34,0],[33,1,34,1],[33,34,34,34],[33,37,34,37],[27,0,28,0],[27,1,28,1],[27,34,28,34],[27,37,28,37],[29,0,30,0],[29,1,30,1],[29,34,30,34],[29,37,30,37],[23,0,24,0],[23,1,24,1],[23,34,24,34],[23,37,24,37],[25,0,26,0],[25,1,26,1],[25,34,26,34],[25,37,26,37],[19,0,20,0],[19,1,20,1],[19,34,20,34],[19,37,20,37],[21,0,22,0],[21,1,22,1],[21,34,22,34],[21,37,22,37],[15,0,16,0],[15,1,16,1],[15,34,16,34],[15,37,16,37],[17,0,18,0],[17,1,18,1],[17,34,18,34],[17,37,18,37],[11,0,12,0],[11,1,12,1],[11,34,12,34],[11,37,12,37],[13,0,14,0],[13,1,14,1],[13,34,14,34],[13,37,14,37],[7,0,8,0],[7,1,8,1],[7,34,8,34],[7,37,8,37],[9,0,10,0],[9,1,10,1],[9,34,10,34],[9,37,10,37],[3,0,4,0],[3,1,4,1],[5,1,6,1],[5,34,6,34],[5,37,6,37],[5,0,6,0]]}
[null,"通所",{"$f":"IF(C4<>\"\",利用人数-(COUNTIF(C6:C55,\"休\")+COUNTIF(C6:C55,\"訪\")),\"\")","v":6},6,5,3,3,6,6,6,5,6,5,4,6,6,3,3,5,{"$f":"IF(T4<>\"\",利用人数-(COUNTIF(T6:T55,\"休\")+COUNTIF(T6:T55,\"訪\")),\"\")","v":5},5,6,5,5,6,6,5,4,6,6,6,6,6,"",null,"休",null,{"$f":"COUNTIF(C6:BR152,\"#REF!\")","v":0}]
[null,"宿泊",{"$f":"COUNTIF(C6:C55,\"●\")","v":4},{"$f":"COUNTIF(D6:D55,\"●\")","v":4},{"$f":"COUNTIF(E6:E55,\"●\")","v":3},3,3,5,5,4,4,4,4,5,5,5,3,3,3,{"$f":"COUNTIF(T6:T55,\"●\")","v":4},5,5,5,{"$f":"COUNTIF(X6:X55,\"●\")","v":4},4,4,4,4,5,5,4,4,4,4,null,"訪",null,"エラーチェック"]
[null,"外宅",{"$f":"COUNTIF(C6:C55,\"外\")","v":0},{"$f":"COUNTIF(D6:D55,\"外\")","v":0},{"$f":"COUNTIF(E6:E55,\"外\")","v":0},0,0,0,0,0,0,0,0,0,0,0,0,0,0,{"$f":"COUNTIF(T6:T55,\"外\")","v":0},0,0,0,{"$f":"COUNTIF(X6:X55,\"外\")","v":0},0,0,0,0,0,0,0,0,0,0]
[{"$f":"25-(COUNTBLANK(B6:B55)-25)","v":10},"氏名",{"$f":"D4-1","v":"2013-05-31"},{"$f":"DATE(年,月,1)","v":"2013-06-01"},{"$f":"D4+1","v":"2013-06-02"},"2013-06-03","2013-06-04","2013-06-05","2013-06-06","2013-06-07","2013-06-08","2013-06-09","2013-06-10","2013-06-11","2013-06-12","2013-06-13","2013-06-14","2013-06-15","2013-06-16","2013-06-17","2013-06-18","2013-06-19","2013-06-20","2013-06-21","2013-06-22","2013-06-23","2013-06-24","2013-06-25","2013-06-26","2013-06-27","2013-06-28",{"$f":"IF(MONTH(AE4+1)=月,AE4+1,\"\")","v":"2013-06-29"},{"$f":"IF(MONTH(AE4+2)=月,AE4+2,\"\")","v":"2013-06-30"},{"$f":"IF(MONTH(AE4+3)=月,AE4+3,\"\")","v":""},null,"●",null,null,{"$f":"AN4-1","v":"2013-05-31"},{"$f":"DATE(年,月,1)","v":"2013-06-01"},{"$f":"AN4+1","v":"2013-06-02"},"2013-06-03","2013-06-04","2013-06-05","2013-06-06","2013-06-07","2013-06-08","2013-06-09","2013-06-10","2013-06-11","2013-06-12","2013-06-13","2013-06-14","2013-06-15","2013-06-16","2013-06-17","2013-06-18","2013-06-19","2013-06-20","2013-06-21","2013-06-22","2013-06-23","2013-06-24","2013-06-25","2013-06-26","2013-06-27","2013-06-28",{"$f":"IF(MONTH(BO4+1)=月,BO4+1,\"\")","v":"2013-06-29"},{"$f":"IF(MONTH(BO4+2)=月,BO4+2,\"\")","v":"2013-06-30"},{"$f":"IF(MONTH(BO4+3)=月,BO4+3,\"\")","v":""}]
[null,null,{"$f":"C4","v":41425},{"$f":"D4","v":41426},41427,41428,41429,41430,41431,41432,41433,41434,41435,41436,41437,41438,41439,41440,41441,41442,41443,41444,41445,41446,41447,41448,41449,41450,41451,41452,41453,41454,41455,"",null,null,null,null,{"$f":"AM4","v":41425},{"$f":"AN4","v":41426},41427,41428,41429,41430,41431,41432,41433,41434,41435,41436,41437,41438,41439,41440,41441,41442,41443,41444,41445,41446,41447,41448,41449,41450,41451,41452,41453,41454,41455,"",null,null,31,1,2,3,4,5,6,7,8,9,10,11,12,13,14,15,16,17,18,19,20,21,22,23,24,25,26,27,28,29,30,31]
[1,{"$f":"IF(Top!C40<>\"\",Top!C40,\"\")","v":"利用者A"},null,null,null,null,null,null,null,null,null,null,null,null,null,null,null,null,null,null,null,null,null,null,null,null,null,null,null,null,null,null,null,null,{"$f":"LEFT(B6,2)","v":"利用"},null,null,{"$f":"B6","v":"利用者A"},{"$f":"IF(C6=\"休\",\"\",IF(C6=\"訪\",\"訪：\"&$B$6,$B$6))","v":"利用者A"},{"$f":"IF(D6=\"休\",\"\",IF(D6=\"訪\",\"訪：\"&$B$6,$B$6))","v":"利用者A"},{"$f":"IF(E6=\"休\",\"\",IF(E6=\"訪\",\"訪：\"&$B$6,$B$6))","v":"利用者A"},"利用者A","利用者A","利用者A","利用者A","利用者A","利用者A","利用者A","利用者A","利用者A","利用者A","利用者A","利用者A","利用者A","利用者A","利用者A","利用者A","利用者A","利用者A","利用者A","利用者A","利用者A","利用者A","利用者A","利用者A","利用者A","利用者A","利用者A","利用者A","利用者A",null,null,{"$f":"IF(AK6=\"休\",\"\",IF(AK6=\"訪\",\"訪：\"&$B$6,$B$6))","v":"利用者A"},{"$f":"IF(AL6=\"休\",\"\",IF(AL6=\"訪\",\"訪：\"&$B$6,$B$6))","v":"利用者A"},{"$f":"IF(AM6=\"休\",\"\",IF(AM6=\"訪\",\"訪：\"&$B$6,$B$6))","v":"利用者A"},{"$f":"IF(AN6=\"休\",\"\",IF(AN6=\"訪\",\"訪：\"&$B$6,$B$6))","v":"利用者A"},{"$f":"IF(AO6=\"休\",\"\",IF(AO6=\"訪\",\"訪：\"&$B$6,$B$6))","v":"利用者A"},{"$f":"IF(AP6=\"休\",\"\",IF(AP6=\"訪\",\"訪：\"&$B$6,$B$6))","v":"利用者A"},{"$f":"IF(AQ6=\"休\",\"\",IF(AQ6=\"訪\",\"訪：\"&$B$6,$B$6))","v":"利用者A"},{"$f":"IF(AR6=\"休\",\"\",IF(AR6=\"訪\",\"訪：\"&$B$6,$B$6))","v":"利用者A"},{"$f":"IF(AS6=\"休\",\"\",IF(AS6=\"訪\",\"訪：\"&$B$6,$B$6))","v":"利用者A"},{"$f":"IF(AT6=\"休\",\"\",IF(AT6=\"訪\",\"訪：\"&$B$6,$B$6))","v":"利用者A"},{"$f":"IF(AU6=\"休\",\"\",IF(AU6=\"訪\",\"訪：\"&$B$6,$B$6))","v":"利用者A"},{"$f":"IF(AV6=\"休\",\"\",IF(AV6=\"訪\",\"訪：\"&$B$6,$B$6))","v":"利用者A"},{"$f":"IF(AW6=\"休\",\"\",IF(AW6=\"訪\",\"訪：\"&$B$6,$B$6))","v":"利用者A"},{"$f":"IF(AX6=\"休\",\"\",IF(AX6=\"訪\",\"訪：\"&$B$6,$B$6))","v":"利用者A"},{"$f":"IF(AY6=\"休\",\"\",IF(AY6=\"訪\",\"訪：\"&$B$6,$B$6))","v":"利用者A"},{"$f":"IF(AZ6=\"休\",\"\",IF(AZ6=\"訪\",\"訪：\"&$B$6,$B$6))","v":"利用者A"},{"$f":"IF(BA6=\"休\",\"\",IF(BA6=\"訪\",\"訪：\"&$B$6,$B$6))","v":"利用者A"},{"$f":"IF(BB6=\"休\",\"\",IF(BB6=\"訪\",\"訪：\"&$B$6,$B$6))","v":"利用者A"},{"$f":"IF(BC6=\"休\",\"\",IF(BC6=\"訪\",\"訪：\"&$B$6,$B$6))","v":"利用者A"},{"$f":"IF(BD6=\"休\",\"\",IF(BD6=\"訪\",\"訪：\"&$B$6,$B$6))","v":"利用者A"},{"$f":"IF(BE6=\"休\",\"\",IF(BE6=\"訪\",\"訪：\"&$B$6,$B$6))","v":"利用者A"},{"$f":"IF(BF6=\"休\",\"\",IF(BF6=\"訪\",\"訪：\"&$B$6,$B$6))","v":"利用者A"},{"$f":"IF(BG6=\"休\",\"\",IF(BG6=\"訪\",\"訪：\"&$B$6,$B$6))","v":"利用者A"},{"$f":"IF(BH6=\"休\",\"\",IF(BH6=\"訪\",\"訪：\"&$B$6,$B$6))","v":"利用者A"},{"$f":"IF(BI6=\"休\",\"\",IF(BI6=\"訪\",\"訪：\"&$B$6,$B$6))","v":"利用者A"},{"$f":"IF(BJ6=\"休\",\"\",IF(BJ6=\"訪\",\"訪：\"&$B$6,$B$6))","v":"利用者A"},{"$f":"IF(BK6=\"休\",\"\",IF(BK6=\"訪\",\"訪：\"&$B$6,$B$6))","v":"利用者A"},{"$f":"IF(BL6=\"休\",\"\",IF(BL6=\"訪\",\"訪：\"&$B$6,$B$6))","v":"利用者A"},{"$f":"IF(BM6=\"休\",\"\",IF(BM6=\"訪\",\"訪：\"&$B$6,$B$6))","v":"利用者A"},{"$f":"IF(BN6=\"休\",\"\",IF(BN6=\"訪\",\"訪：\"&$B$6,$B$6))","v":"利用者A"},{"$f":"IF(BO6=\"休\",\"\",IF(BO6=\"訪\",\"訪：\"&$B$6,$B$6))","v":"利用者A"},{"$f":"IF(BP6=\"休\",\"\",IF(BP6=\"訪\",\"訪：\"&$B$6,$B$6))","v":"利用者A"}]
[null,null,"●","●","●","●",null,"●","●","●","●","●","●","●","●","●","●","●","●","●","●","●","●","●","●","●","●",null,"●","●","●","●","●","●",null,null,null,null,{"$f":"IF(C7=\"●\",$B$6,\"\")","v":"利用者A"},{"$f":"IF(D7=\"●\",$B$6,\"\")","v":"利用者A"},{"$f":"IF(E7=\"●\",$B$6,\"\")","v":"利用者A"},"利用者A","","利用者A","利用者A","利用者A","利用者A","利用者A","利用者A","利用者A","利用者A","利用者A","利用者A","利用者A","利用者A","利用者A","利用者A","利用者A","利用者A","利用者A","利用者A","利用者A","利用者A","","利用者A","利用者A","利用者A","利用者A","利用者A","利用者A",null,null,{"$f":"IF(AK7=\"●\",$B$6,\"\")","v":""},{"$f":"IF(AL7=\"●\",$B$6,\"\")","v":""},{"$f":"IF(AM7=\"●\",$B$6,\"\")","v":""},{"$f":"IF(AN7=\"●\",$B$6,\"\")","v":""},{"$f":"IF(AO7=\"●\",$B$6,\"\")","v":""},{"$f":"IF(AP7=\"●\",$B$6,\"\")","v":""},{"$f":"IF(AQ7=\"●\",$B$6,\"\")","v":""},{"$f":"IF(AR7=\"●\",$B$6,\"\")","v":""},{"$f":"IF(AS7=\"●\",$B$6,\"\")","v":""},{"$f":"IF(AT7=\"●\",$B$6,\"\")","v":""},{"$f":"IF(AU7=\"●\",$B$6,\"\")","v":""},{"$f":"IF(AV7=\"●\",$B$6,\"\")","v":""},{"$f":"IF(AW7=\"●\",$B$6,\"\")","v":""},{"$f":"IF(AX7=\"●\",$B$6,\"\")","v":""},{"$f":"IF(AY7=\"●\",$B$6,\"\")","v":""},{"$f":"IF(AZ7=\"●\",$B$6,\"\")","v":""},{"$f":"IF(BA7=\"●\",$B$6,\"\")","v":""},{"$f":"IF(BB7=\"●\",$B$6,\"\")","v":""},{"$f":"IF(BC7=\"●\",$B$6,\"\")","v":""},{"$f":"IF(BD7=\"●\",$B$6,\"\")","v":""},{"$f":"IF(BE7=\"●\",$B$6,\"\")","v":""},{"$f":"IF(BF7=\"●\",$B$6,\"\")","v":""},{"$f":"IF(BG7=\"●\",$B$6,\"\")","v":""},{"$f":"IF(BH7=\"●\",$B$6,\"\")","v":""},{"$f":"IF(BI7=\"●\",$B$6,\"\")","v":""},{"$f":"IF(BJ7=\"●\",$B$6,\"\")","v":""},{"$f":"IF(BK7=\"●\",$B$6,\"\")","v":""},{"$f":"IF(BL7=\"●\",$B$6,\"\")","v":""},{"$f":"IF(BM7=\"●\",$B$6,\"\")","v":""},{"$f":"IF(BN7=\"●\",$B$6,\"\")","v":""},{"$f":"IF(BO7=\"●\",$B$6,\"\")","v":""},{"$f":"IF(BP7=\"●\",$B$6,\"\")","v":""}]
[2,{"$f":"IF(Top!C41<>\"\",Top!C41,\"\")","v":"利用者B"},null,null,"休","休","休",null,null,null,null,null,null,null,null,null,"休","休","休",null,null,null,null,null,null,null,null,null,null,null,null,null,null,null,{"$f":"LEFT(B8,2)","v":"利用"},null,null,{"$f":"B8","v":"利用者B"},{"$f":"IF(C8=\"休\",\"\",IF(C8=\"訪\",\"訪：\"&$B$8,$B$8))","v":"利用者B"},{"$f":"IF(D8=\"休\",\"\",IF(D8=\"訪\",\"訪：\"&$B$8,$B$8))","v":"利用者B"},{"$f":"IF(E8=\"休\",\"\",IF(E8=\"訪\",\"訪：\"&$B$8,$B$8))","v":""},"","","利用者B","利用者B","利用者B","利用者B","利用者B","利用者B","利用者B","利用者B","利用者B","","","","利用者B","利用者B","利用者B","利用者B","利用者B","利用者B","利用者B","利用者B","利用者B","利用者B","利用者B","利用者B","利用者B","利用者B","利用者B",null,null,{"$f":"IF(AK8=\"休\",\"\",IF(AK8=\"訪\",\"訪：\"&$B$8,$B$8))","v":"利用者B"},{"$f":"IF(AL8=\"休\",\"\",IF(AL8=\"訪\",\"訪：\"&$B$8,$B$8))","v":"利用者B"},{"$f":"IF(AM8=\"休\",\"\",IF(AM8=\"訪\",\"訪：\"&$B$8,$B$8))","v":"利用者B"},{"$f":"IF(AN8=\"休\",\"\",IF(AN8=\"訪\",\"訪：\"&$B$8,$B$8))","v":"利用者B"},{"$f":"IF(AO8=\"休\",\"\",IF(AO8=\"訪\",\"訪：\"&$B$8,$B$8))","v":"利用者B"},{"$f":"IF(AP8=\"休\",\"\",IF(AP8=\"訪\",\"訪：\"&$B$8,$B$8))","v":"利用者B"},{"$f":"IF(AQ8=\"休\",\"\",IF(AQ8=\"訪\",\"訪：\"&$B$8,$B$8))","v":"利用者B"},{"$f":"IF(AR8=\"休\",\"\",IF(AR8=\"訪\",\"訪：\"&$B$8,$B$8))","v":"利用者B"},{"$f":"IF(AS8=\"休\",\"\",IF(AS8=\"訪\",\"訪：\"&$B$8,$B$8))","v":"利用者B"},{"$f":"IF(AT8=\"休\",\"\",IF(AT8=\"訪\",\"訪：\"&$B$8,$B$8))","v":"利用者B"},{"$f":"IF(AU8=\"休\",\"\",IF(AU8=\"訪\",\"訪：\"&$B$8,$B$8))","v":"利用者B"},{"$f":"IF(AV8=\"休\",\"\",IF(AV8=\"訪\",\"訪：\"&$B$8,$B$8))","v":"利用者B"},{"$f":"IF(AW8=\"休\",\"\",IF(AW8=\"訪\",\"訪：\"&$B$8,$B$8))","v":"利用者B"},{"$f":"IF(AX8=\"休\",\"\",IF(AX8=\"訪\",\"訪：\"&$B$8,$B$8))","v":"利用者B"},{"$f":"IF(AY8=\"休\",\"\",IF(AY8=\"訪\",\"訪：\"&$B$8,$B$8))","v":"利用者B"},{"$f":"IF(AZ8=\"休\",\"\",IF(AZ8=\"訪\",\"訪：\"&$B$8,$B$8))","v":"利用者B"},{"$f":"IF(BA8=\"休\",\"\",IF(BA8=\"訪\",\"訪：\"&$B$8,$B$8))","v":"利用者B"},{"$f":"IF(BB8=\"休\",\"\",IF(BB8=\"訪\",\"訪：\"&$B$8,$B$8))","v":"利用者B"},{"$f":"IF(BC8=\"休\",\"\",IF(BC8=\"訪\",\"訪：\"&$B$8,$B$8))","v":"利用者B"},{"$f":"IF(BD8=\"休\",\"\",IF(BD8=\"訪\",\"訪：\"&$B$8,$B$8))","v":"利用者B"},{"$f":"IF(BE8=\"休\",\"\",IF(BE8=\"訪\",\"訪：\"&$B$8,$B$8))","v":"利用者B"},{"$f":"IF(BF8=\"休\",\"\",IF(BF8=\"訪\",\"訪：\"&$B$8,$B$8))","v":"利用者B"},{"$f":"IF(BG8=\"休\",\"\",IF(BG8=\"訪\",\"訪：\"&$B$8,$B$8))","v":"利用者B"},{"$f":"IF(BH8=\"休\",\"\",IF(BH8=\"訪\",\"訪：\"&$B$8,$B$8))","v":"利用者B"},{"$f":"IF(BI8=\"休\",\"\",IF(BI8=\"訪\",\"訪：\"&$B$8,$B$8))","v":"利用者B"},{"$f":"IF(BJ8=\"休\",\"\",IF(BJ8=\"訪\",\"訪：\"&$B$8,$B$8))","v":"利用者B"},{"$f":"IF(BK8=\"休\",\"\",IF(BK8=\"訪\",\"訪：\"&$B$8,$B$8))","v":"利用者B"},{"$f":"IF(BL8=\"休\",\"\",IF(BL8=\"訪\",\"訪：\"&$B$8,$B$8))","v":"利用者B"},{"$f":"IF(BM8=\"休\",\"\",IF(BM8=\"訪\",\"訪：\"&$B$8,$B$8))","v":"利用者B"},{"$f":"IF(BN8=\"休\",\"\",IF(BN8=\"訪\",\"訪：\"&$B$8,$B$8))","v":"利用者B"},{"$f":"IF(BO8=\"休\",\"\",IF(BO8=\"訪\",\"訪：\"&$B$8,$B$8))","v":"利用者B"},{"$f":"IF(BP8=\"休\",\"\",IF(BP8=\"訪\",\"訪：\"&$B$8,$B$8))","v":"利用者B"}]
[null,null,"●","●",null,null,null,"●","●","●","●","●","●","●","●","●",null,null,null,"●","●","●","●","●","●","●","●","●","●","●","●","●","●","●",null,null,null,null,{"$f":"IF(C9=\"●\",$B$8,\"\")","v":"利用者B"},{"$f":"IF(D9=\"●\",$B$8,\"\")","v":"利用者B"},{"$f":"IF(E9=\"●\",$B$8,\"\")","v":""},"","","利用者B","利用者B","利用者B","利用者B","利用者B","利用者B","利用者B","利用者B","利用者B","","","","利用者B","利用者B","利用者B","利用者B","利用者B","利用者B","利用者B","利用者B","利用者B","利用者B","利用者B","利用者B","利用者B","利用者B","利用者B",null,null,{"$f":"IF(AK9=\"●\",$B$8,\"\")","v":""},{"$f":"IF(AL9=\"●\",$B$8,\"\")","v":""},{"$f":"IF(AM9=\"●\",$B$8,\"\")","v":""},{"$f":"IF(AN9=\"●\",$B$8,\"\")","v":""},{"$f":"IF(AO9=\"●\",$B$8,\"\")","v":""},{"$f":"IF(AP9=\"●\",$B$8,\"\")","v":""},{"$f":"IF(AQ9=\"●\",$B$8,\"\")","v":""},{"$f":"IF(AR9=\"●\",$B$8,\"\")","v":""},{"$f":"IF(AS9=\"●\",$B$8,\"\")","v":""},{"$f":"IF(AT9=\"●\",$B$8,\"\")","v":""},{"$f":"IF(AU9=\"●\",$B$8,\"\")","v":""},{"$f":"IF(AV9=\"●\",$B$8,\"\")","v":""},{"$f":"IF(AW9=\"●\",$B$8,\"\")","v":""},{"$f":"IF(AX9=\"●\",$B$8,\"\")","v":""},{"$f":"IF(AY9=\"●\",$B$8,\"\")","v":""},{"$f":"IF(AZ9=\"●\",$B$8,\"\")","v":""},{"$f":"IF(BA9=\"●\",$B$8,\"\")","v":""},{"$f":"IF(BB9=\"●\",$B$8,\"\")","v":""},{"$f":"IF(BC9=\"●\",$B$8,\"\")","v":""},{"$f":"IF(BD9=\"●\",$B$8,\"\")","v":""},{"$f":"IF(BE9=\"●\",$B$8,\"\")","v":""},{"$f":"IF(BF9=\"●\",$B$8,\"\")","v":""},{"$f":"IF(BG9=\"●\",$B$8,\"\")","v":""},{"$f":"IF(BH9=\"●\",$B$8,\"\")","v":""},{"$f":"IF(BI9=\"●\",$B$8,\"\")","v":""},{"$f":"IF(BJ9=\"●\",$B$8,\"\")","v":""},{"$f":"IF(BK9=\"●\",$B$8,\"\")","v":""},{"$f":"IF(BL9=\"●\",$B$8,\"\")","v":""},{"$f":"IF(BM9=\"●\",$B$8,\"\")","v":""},{"$f":"IF(BN9=\"●\",$B$8,\"\")","v":""},{"$f":"IF(BO9=\"●\",$B$8,\"\")","v":""},{"$f":"IF(BP9=\"●\",$B$8,\"\")","v":""}]
[3,{"$f":"IF(Top!C42<>\"\",Top!C42,\"\")","v":"利用者C"},"訪","訪","訪","訪","訪","訪","訪","訪","訪","訪","訪","訪","訪","訪","訪","訪","訪","訪","訪","訪","訪","訪","訪","訪","訪","訪","訪","訪","訪","訪","訪","訪",{"$f":"LEFT(B10,2)","v":"利用"},null,null,{"$f":"B10","v":"利用者C"},{"$f":"IF(C10=\"休\",\"\",IF(C10=\"訪\",\"訪：\"&$B$10,$B$10))","v":"訪：利用者C"},{"$f":"IF(D10=\"休\",\"\",IF(D10=\"訪\",\"訪：\"&$B$10,$B$10))","v":"訪：利用者C"},{"$f":"IF(E10=\"休\",\"\",IF(E10=\"訪\",\"訪：\"&$B$10,$B$10))","v":"訪：利用者C"},"訪：利用者C","訪：利用者C","訪：利用者C","訪：利用者C","訪：利用者C","訪：利用者C","訪：利用者C","訪：利用者C","訪：利用者C","訪：利用者C","訪：利用者C","訪：利用者C","訪：利用者C","訪：利用者C","訪：利用者C","訪：利用者C","訪：利用者C","訪：利用者C","訪：利用者C","訪：利用者C","訪：利用者C","訪：利用者C","訪：利用者C","訪：利用者C","訪：利用者C","訪：利用者C","訪：利用者C","訪：利用者C","訪：利用者C",null,null,{"$f":"IF(AK10=\"休\",\"\",IF(AK10=\"訪\",\"訪：\"&$B$10,$B$10))","v":"利用者C"},{"$f":"IF(AL10=\"休\",\"\",IF(AL10=\"訪\",\"訪：\"&$B$10,$B$10))","v":"利用者C"},{"$f":"IF(AM10=\"休\",\"\",IF(AM10=\"訪\",\"訪：\"&$B$10,$B$10))","v":"利用者C"},{"$f":"IF(AN10=\"休\",\"\",IF(AN10=\"訪\",\"訪：\"&$B$10,$B$10))","v":"利用者C"},{"$f":"IF(AO10=\"休\",\"\",IF(AO10=\"訪\",\"訪：\"&$B$10,$B$10))","v":"利用者C"},{"$f":"IF(AP10=\"休\",\"\",IF(AP10=\"訪\",\"訪：\"&$B$10,$B$10))","v":"利用者C"},{"$f":"IF(AQ10=\"休\",\"\",IF(AQ10=\"訪\",\"訪：\"&$B$10,$B$10))","v":"利用者C"},{"$f":"IF(AR10=\"休\",\"\",IF(AR10=\"訪\",\"訪：\"&$B$10,$B$10))","v":"利用者C"},{"$f":"IF(AS10=\"休\",\"\",IF(AS10=\"訪\",\"訪：\"&$B$10,$B$10))","v":"利用者C"},{"$f":"IF(AT10=\"休\",\"\",IF(AT10=\"訪\",\"訪：\"&$B$10,$B$10))","v":"利用者C"},{"$f":"IF(AU10=\"休\",\"\",IF(AU10=\"訪\",\"訪：\"&$B$10,$B$10))","v":"利用者C"},{"$f":"IF(AV10=\"休\",\"\",IF(AV10=\"訪\",\"訪：\"&$B$10,$B$10))","v":"利用者C"},{"$f":"IF(AW10=\"休\",\"\",IF(AW10=\"訪\",\"訪：\"&$B$10,$B$10))","v":"利用者C"},{"$f":"IF(AX10=\"休\",\"\",IF(AX10=\"訪\",\"訪：\"&$B$10,$B$10))","v":"利用者C"},{"$f":"IF(AY10=\"休\",\"\",IF(AY10=\"訪\",\"訪：\"&$B$10,$B$10))","v":"利用者C"},{"$f":"IF(AZ10=\"休\",\"\",IF(AZ10=\"訪\",\"訪：\"&$B$10,$B$10))","v":"利用者C"},{"$f":"IF(BA10=\"休\",\"\",IF(BA10=\"訪\",\"訪：\"&$B$10,$B$10))","v":"利用者C"},{"$f":"IF(BB10=\"休\",\"\",IF(BB10=\"訪\",\"訪：\"&$B$10,$B$10))","v":"利用者C"},{"$f":"IF(BC10=\"休\",\"\",IF(BC10=\"訪\",\"訪：\"&$B$10,$B$10))","v":"利用者C"},{"$f":"IF(BD10=\"休\",\"\",IF(BD10=\"訪\",\"訪：\"&$B$10,$B$10))","v":"利用者C"},{"$f":"IF(BE10=\"休\",\"\",IF(BE10=\"訪\",\"訪：\"&$B$10,$B$10))","v":"利用者C"},{"$f":"IF(BF10=\"休\",\"\",IF(BF10=\"訪\",\"訪：\"&$B$10,$B$10))","v":"利用者C"},{"$f":"IF(BG10=\"休\",\"\",IF(BG10=\"訪\",\"訪：\"&$B$10,$B$10))","v":"利用者C"},{"$f":"IF(BH10=\"休\",\"\",IF(BH10=\"訪\",\"訪：\"&$B$10,$B$10))","v":"利用者C"},{"$f":"IF(BI10=\"休\",\"\",IF(BI10=\"訪\",\"訪：\"&$B$10,$B$10))","v":"利用者C"},{"$f":"IF(BJ10=\"休\",\"\",IF(BJ10=\"訪\",\"訪：\"&$B$10,$B$10))","v":"利用者C"},{"$f":"IF(BK10=\"休\",\"\",IF(BK10=\"訪\",\"訪：\"&$B$10,$B$10))","v":"利用者C"},{"$f":"IF(BL10=\"休\",\"\",IF(BL10=\"訪\",\"訪：\"&$B$10,$B$10))","v":"利用者C"},{"$f":"IF(BM10=\"休\",\"\",IF(BM10=\"訪\",\"訪：\"&$B$10,$B$10))","v":"利用者C"},{"$f":"IF(BN10=\"休\",\"\",IF(BN10=\"訪\",\"訪：\"&$B$10,$B$10))","v":"利用者C"},{"$f":"IF(BO10=\"休\",\"\",IF(BO10=\"訪\",\"訪：\"&$B$10,$B$10))","v":"利用者C"},{"$f":"IF(BP10=\"休\",\"\",IF(BP10=\"訪\",\"訪：\"&$B$10,$B$10))","v":"利用者C"}]
[null,null,null,null,null,null,null,null,null,null,null,null,null,null,null,null,null,null,null,null,null,null,null,null,null,null,null,null,null,null,null,null,null,null,null,null,null,null,{"$f":"IF(C11=\"●\",$B$10,\"\")","v":""},{"$f":"IF(D11=\"●\",$B$10,\"\")","v":""},{"$f":"IF(E11=\"●\",$B$10,\"\")","v":""},"","","","","","","","","","","","","","","","","","","","","","","","","","","","","",null,null,{"$f":"IF(AK11=\"●\",$B$10,\"\")","v":""},{"$f":"IF(AL11=\"●\",$B$10,\"\")","v":""},{"$f":"IF(AM11=\"●\",$B$10,\"\")","v":""},{"$f":"IF(AN11=\"●\",$B$10,\"\")","v":""},{"$f":"IF(AO11=\"●\",$B$10,\"\")","v":""},{"$f":"IF(AP11=\"●\",$B$10,\"\")","v":""},{"$f":"IF(AQ11=\"●\",$B$10,\"\")","v":""},{"$f":"IF(AR11=\"●\",$B$10,\"\")","v":""},{"$f":"IF(AS11=\"●\",$B$10,\"\")","v":""},{"$f":"IF(AT11=\"●\",$B$10,\"\")","v":""},{"$f":"IF(AU11=\"●\",$B$10,\"\")","v":""},{"$f":"IF(AV11=\"●\",$B$10,\"\")","v":""},{"$f":"IF(AW11=\"●\",$B$10,\"\")","v":""},{"$f":"IF(AX11=\"●\",$B$10,\"\")","v":""},{"$f":"IF(AY11=\"●\",$B$10,\"\")","v":""},{"$f":"IF(AZ11=\"●\",$B$10,\"\")","v":""},{"$f":"IF(BA11=\"●\",$B$10,\"\")","v":""},{"$f":"IF(BB11=\"●\",$B$10,\"\")","v":""},{"$f":"IF(BC11=\"●\",$B$10,\"\")","v":""},{"$f":"IF(BD11=\"●\",$B$10,\"\")","v":""},{"$f":"IF(BE11=\"●\",$B$10,\"\")","v":""},{"$f":"IF(BF11=\"●\",$B$10,\"\")","v":""},{"$f":"IF(BG11=\"●\",$B$10,\"\")","v":""},{"$f":"IF(BH11=\"●\",$B$10,\"\")","v":""},{"$f":"IF(BI11=\"●\",$B$10,\"\")","v":""},{"$f":"IF(BJ11=\"●\",$B$10,\"\")","v":""},{"$f":"IF(BK11=\"●\",$B$10,\"\")","v":""},{"$f":"IF(BL11=\"●\",$B$10,\"\")","v":""},{"$f":"IF(BM11=\"●\",$B$10,\"\")","v":""},{"$f":"IF(BN11=\"●\",$B$10,\"\")","v":""},{"$f":"IF(BO11=\"●\",$B$10,\"\")","v":""},{"$f":"IF(BP11=\"●\",$B$10,\"\")","v":""}]
[4,{"$f":"IF(Top!C43<>\"\",Top!C43,\"\")","v":"利用者D"},null,null,null,"休","休","休","休",null,null,null,null,"休","休",null,"休","休",null,null,"休","休",null,null,null,null,null,"休","休",null,null,null,null,null,{"$f":"LEFT(B12,2)","v":"利用"},null,null,{"$f":"B12","v":"利用者D"},{"$f":"IF(C12=\"休\",\"\",IF(C12=\"訪\",\"訪：\"&$B$12,$B$12))","v":"利用者D"},{"$f":"IF(D12=\"休\",\"\",IF(D12=\"訪\",\"訪：\"&$B$12,$B$12))","v":"利用者D"},"利用者D","","","","","利用者D","利用者D","利用者D","利用者D","","","利用者D","","","利用者D","利用者D","","","利用者D","利用者D","利用者D","利用者D","利用者D","","","利用者D","利用者D","利用者D","利用者D","利用者D",null,null,{"$f":"IF(AK12=\"休\",\"\",IF(AK12=\"訪\",\"訪：\"&$B$12,$B$12))","v":"利用者D"},{"$f":"IF(AL12=\"休\",\"\",IF(AL12=\"訪\",\"訪：\"&$B$12,$B$12))","v":"利用者D"},{"$f":"IF(AM12=\"休\",\"\",IF(AM12=\"訪\",\"訪：\"&$B$12,$B$12))","v":"利用者D"},{"$f":"IF(AN12=\"休\",\"\",IF(AN12=\"訪\",\"訪：\"&$B$12,$B$12))","v":"利用者D"},{"$f":"IF(AO12=\"休\",\"\",IF(AO12=\"訪\",\"訪：\"&$B$12,$B$12))","v":"利用者D"},{"$f":"IF(AP12=\"休\",\"\",IF(AP12=\"訪\",\"訪：\"&$B$12,$B$12))","v":"利用者D"},{"$f":"IF(AQ12=\"休\",\"\",IF(AQ12=\"訪\",\"訪：\"&$B$12,$B$12))","v":"利用者D"},{"$f":"IF(AR12=\"休\",\"\",IF(AR12=\"訪\",\"訪：\"&$B$12,$B$12))","v":"利用者D"},{"$f":"IF(AS12=\"休\",\"\",IF(AS12=\"訪\",\"訪：\"&$B$12,$B$12))","v":"利用者D"},{"$f":"IF(AT12=\"休\",\"\",IF(AT12=\"訪\",\"訪：\"&$B$12,$B$12))","v":"利用者D"},{"$f":"IF(AU12=\"休\",\"\",IF(AU12=\"訪\",\"訪：\"&$B$12,$B$12))","v":"利用者D"},{"$f":"IF(AV12=\"休\",\"\",IF(AV12=\"訪\",\"訪：\"&$B$12,$B$12))","v":"利用者D"},{"$f":"IF(AW12=\"休\",\"\",IF(AW12=\"訪\",\"訪：\"&$B$12,$B$12))","v":"利用者D"},{"$f":"IF(AX12=\"休\",\"\",IF(AX12=\"訪\",\"訪：\"&$B$12,$B$12))","v":"利用者D"},{"$f":"IF(AY12=\"休\",\"\",IF(AY12=\"訪\",\"訪：\"&$B$12,$B$12))","v":"利用者D"},{"$f":"IF(AZ12=\"休\",\"\",IF(AZ12=\"訪\",\"訪：\"&$B$12,$B$12))","v":"利用者D"},{"$f":"IF(BA12=\"休\",\"\",IF(BA12=\"訪\",\"訪：\"&$B$12,$B$12))","v":"利用者D"},{"$f":"IF(BB12=\"休\",\"\",IF(BB12=\"訪\",\"訪：\"&$B$12,$B$12))","v":"利用者D"},{"$f":"IF(BC12=\"休\",\"\",IF(BC12=\"訪\",\"訪：\"&$B$12,$B$12))","v":"利用者D"},{"$f":"IF(BD12=\"休\",\"\",IF(BD12=\"訪\",\"訪：\"&$B$12,$B$12))","v":"利用者D"},{"$f":"IF(BE12=\"休\",\"\",IF(BE12=\"訪\",\"訪：\"&$B$12,$B$12))","v":"利用者D"},{"$f":"IF(BF12=\"休\",\"\",IF(BF12=\"訪\",\"訪：\"&$B$12,$B$12))","v":"利用者D"},{"$f":"IF(BG12=\"休\",\"\",IF(BG12=\"訪\",\"訪：\"&$B$12,$B$12))","v":"利用者D"},{"$f":"IF(BH12=\"休\",\"\",IF(BH12=\"訪\",\"訪：\"&$B$12,$B$12))","v":"利用者D"},{"$f":"IF(BI12=\"休\",\"\",IF(BI12=\"訪\",\"訪：\"&$B$12,$B$12))","v":"利用者D"},{"$f":"IF(BJ12=\"休\",\"\",IF(BJ12=\"訪\",\"訪：\"&$B$12,$B$12))","v":"利用者D"},{"$f":"IF(BK12=\"休\",\"\",IF(BK12=\"訪\",\"訪：\"&$B$12,$B$12))","v":"利用者D"},{"$f":"IF(BL12=\"休\",\"\",IF(BL12=\"訪\",\"訪：\"&$B$12,$B$12))","v":"利用者D"},{"$f":"IF(BM12=\"休\",\"\",IF(BM12=\"訪\",\"訪：\"&$B$12,$B$12))","v":"利用者D"},{"$f":"IF(BN12=\"休\",\"\",IF(BN12=\"訪\",\"訪：\"&$B$12,$B$12))","v":"利用者D"},{"$f":"IF(BO12=\"休\",\"\",IF(BO12=\"訪\",\"訪：\"&$B$12,$B$12))","v":"利用者D"},{"$f":"IF(BP12=\"休\",\"\",IF(BP12=\"訪\",\"訪：\"&$B$12,$B$12))","v":"利用者D"}]
[null,null,null,null,null,null,null,null,null,null,null,null,null,null,null,null,null,null,null,null,null,null,null,null,null,null,null,null,null,null,null,null,null,null,null,null,null,null,{"$f":"IF(C13=\"●\",$B$12,\"\")","v":""},{"$f":"IF(D13=\"●\",$B$12,\"\")","v":""},"","","","","","","","","","","","","","","","","","","","","","","","","","","","","","",null,null,{"$f":"IF(AK13=\"●\",$B$12,\"\")","v":""},{"$f":"IF(AL13=\"●\",$B$12,\"\")","v":""},{"$f":"IF(AM13=\"●\",$B$12,\"\")","v":""},{"$f":"IF(AN13=\"●\",$B$12,\"\")","v":""},{"$f":"IF(AO13=\"●\",$B$12,\"\")","v":""},{"$f":"IF(AP13=\"●\",$B$12,\"\")","v":""},{"$f":"IF(AQ13=\"●\",$B$12,\"\")","v":""},{"$f":"IF(AR13=\"●\",$B$12,\"\")","v":""},{"$f":"IF(AS13=\"●\",$B$12,\"\")","v":""},{"$f":"IF(AT13=\"●\",$B$12,\"\")","v":""},{"$f":"IF(AU13=\"●\",$B$12,\"\")","v":""},{"$f":"IF(AV13=\"●\",$B$12,\"\")","v":""},{"$f":"IF(AW13=\"●\",$B$12,\"\")","v":""},{"$f":"IF(AX13=\"●\",$B$12,\"\")","v":""},{"$f":"IF(AY13=\"●\",$B$12,\"\")","v":""},{"$f":"IF(AZ13=\"●\",$B$12,\"\")","v":""},{"$f":"IF(BA13=\"●\",$B$12,\"\")","v":""},{"$f":"IF(BB13=\"●\",$B$12,\"\")","v":""},{"$f":"IF(BC13=\"●\",$B$12,\"\")","v":""},{"$f":"IF(BD13=\"●\",$B$12,\"\")","v":""},{"$f":"IF(BE13=\"●\",$B$12,\"\")","v":""},{"$f":"IF(BF13=\"●\",$B$12,\"\")","v":""},{"$f":"IF(BG13=\"●\",$B$12,\"\")","v":""},{"$f":"IF(BH13=\"●\",$B$12,\"\")","v":""},{"$f":"IF(BI13=\"●\",$B$12,\"\")","v":""},{"$f":"IF(BJ13=\"●\",$B$12,\"\")","v":""},{"$f":"IF(BK13=\"●\",$B$12,\"\")","v":""},{"$f":"IF(BL13=\"●\",$B$12,\"\")","v":""},{"$f":"IF(BM13=\"●\",$B$12,\"\")","v":""},{"$f":"IF(BN13=\"●\",$B$12,\"\")","v":""},{"$f":"IF(BO13=\"●\",$B$12,\"\")","v":""},{"$f":"IF(BP13=\"●\",$B$12,\"\")","v":""}]
[5,{"$f":"IF(Top!C44<>\"\",Top!C44,\"\")","v":"利用者E"},null,"休",null,"休",null,null,null,null,"休",null,"休",null,null,null,null,"休",null,"休",null,null,null,null,"休",null,"休",null,null,null,null,"休",null,"休",{"$f":"LEFT(B14,2)","v":"利用"},null,null,{"$f":"B14","v":"利用者E"},{"$f":"IF(C14=\"休\",\"\",IF(C14=\"訪\",\"訪：\"&$B$14,$B$14))","v":"利用者E"},{"$f":"IF(D14=\"休\",\"\",IF(D14=\"訪\",\"訪：\"&$B$14,$B$14))","v":""},"利用者E","","利用者E","利用者E","利用者E","利用者E","","利用者E","","利用者E","利用者E","利用者E","利用者E","","利用者E","","利用者E","利用者E","利用者E","利用者E","","利用者E","","利用者E","利用者E","利用者E","利用者E","","利用者E","",null,null,{"$f":"IF(AK14=\"休\",\"\",IF(AK14=\"訪\",\"訪：\"&$B$14,$B$14))","v":"利用者E"},{"$f":"IF(AL14=\"休\",\"\",IF(AL14=\"訪\",\"訪：\"&$B$14,$B$14))","v":"利用者E"},{"$f":"IF(AM14=\"休\",\"\",IF(AM14=\"訪\",\"訪：\"&$B$14,$B$14))","v":"利用者E"},{"$f":"IF(AN14=\"休\",\"\",IF(AN14=\"訪\",\"訪：\"&$B$14,$B$14))","v":"利用者E"},{"$f":"IF(AO14=\"休\",\"\",IF(AO14=\"訪\",\"訪：\"&$B$14,$B$14))","v":"利用者E"},{"$f":"IF(AP14=\"休\",\"\",IF(AP14=\"訪\",\"訪：\"&$B$14,$B$14))","v":"利用者E"},{"$f":"IF(AQ14=\"休\",\"\",IF(AQ14=\"訪\",\"訪：\"&$B$14,$B$14))","v":"利用者E"},{"$f":"IF(AR14=\"休\",\"\",IF(AR14=\"訪\",\"訪：\"&$B$14,$B$14))","v":"利用者E"},{"$f":"IF(AS14=\"休\",\"\",IF(AS14=\"訪\",\"訪：\"&$B$14,$B$14))","v":"利用者E"},{"$f":"IF(AT14=\"休\",\"\",IF(AT14=\"訪\",\"訪：\"&$B$14,$B$14))","v":"利用者E"},{"$f":"IF(AU14=\"休\",\"\",IF(AU14=\"訪\",\"訪：\"&$B$14,$B$14))","v":"利用者E"},{"$f":"IF(AV14=\"休\",\"\",IF(AV14=\"訪\",\"訪：\"&$B$14,$B$14))","v":"利用者E"},{"$f":"IF(AW14=\"休\",\"\",IF(AW14=\"訪\",\"訪：\"&$B$14,$B$14))","v":"利用者E"},{"$f":"IF(AX14=\"休\",\"\",IF(AX14=\"訪\",\"訪：\"&$B$14,$B$14))","v":"利用者E"},{"$f":"IF(AY14=\"休\",\"\",IF(AY14=\"訪\",\"訪：\"&$B$14,$B$14))","v":"利用者E"},{"$f":"IF(AZ14=\"休\",\"\",IF(AZ14=\"訪\",\"訪：\"&$B$14,$B$14))","v":"利用者E"},{"$f":"IF(BA14=\"休\",\"\",IF(BA14=\"訪\",\"訪：\"&$B$14,$B$14))","v":"利用者E"},{"$f":"IF(BB14=\"休\",\"\",IF(BB14=\"訪\",\"訪：\"&$B$14,$B$14))","v":"利用者E"},{"$f":"IF(BC14=\"休\",\"\",IF(BC14=\"訪\",\"訪：\"&$B$14,$B$14))","v":"利用者E"},{"$f":"IF(BD14=\"休\",\"\",IF(BD14=\"訪\",\"訪：\"&$B$14,$B$14))","v":"利用者E"},{"$f":"IF(BE14=\"休\",\"\",IF(BE14=\"訪\",\"訪：\"&$B$14,$B$14))","v":"利用者E"},{"$f":"IF(BF14=\"休\",\"\",IF(BF14=\"訪\",\"訪：\"&$B$14,$B$14))","v":"利用者E"},{"$f":"IF(BG14=\"休\",\"\",IF(BG14=\"訪\",\"訪：\"&$B$14,$B$14))","v":"利用者E"},{"$f":"IF(BH14=\"休\",\"\",IF(BH14=\"訪\",\"訪：\"&$B$14,$B$14))","v":"利用者E"},{"$f":"IF(BI14=\"休\",\"\",IF(BI14=\"訪\",\"訪：\"&$B$14,$B$14))","v":"利用者E"},{"$f":"IF(BJ14=\"休\",\"\",IF(BJ14=\"訪\",\"訪：\"&$B$14,$B$14))","v":"利用者E"},{"$f":"IF(BK14=\"休\",\"\",IF(BK14=\"訪\",\"訪：\"&$B$14,$B$14))","v":"利用者E"},{"$f":"IF(BL14=\"休\",\"\",IF(BL14=\"訪\",\"訪：\"&$B$14,$B$14))","v":"利用者E"},{"$f":"IF(BM14=\"休\",\"\",IF(BM14=\"訪\",\"訪：\"&$B$14,$B$14))","v":"利用者E"},{"$f":"IF(BN14=\"休\",\"\",IF(BN14=\"訪\",\"訪：\"&$B$14,$B$14))","v":"利用者E"},{"$f":"IF(BO14=\"休\",\"\",IF(BO14=\"訪\",\"訪：\"&$B$14,$B$14))","v":"利用者E"},{"$f":"IF(BP14=\"休\",\"\",IF(BP14=\"訪\",\"訪：\"&$B$14,$B$14))","v":"利用者E"}]
[null,null,null,null,null,null,"●","●","●",null,null,null,null,"●","●","●",null,null,null,null,"●","●","●",null,null,null,null,"●","●","●",null,null,null,null,null,null,null,null,{"$f":"IF(C15=\"●\",$B$14,\"\")","v":""},{"$f":"IF(D15=\"●\",$B$14,\"\")","v":""},"","","利用者E","利用者E","利用者E","","","","","利用者E","利用者E","利用者E","","","","","利用者E","利用者E","利用者E","","","","","利用者E","利用者E","利用者E","","","","",null,null,{"$f":"IF(AK15=\"●\",$B$14,\"\")","v":""},{"$f":"IF(AL15=\"●\",$B$14,\"\")","v":""},{"$f":"IF(AM15=\"●\",$B$14,\"\")","v":""},{"$f":"IF(AN15=\"●\",$B$14,\"\")","v":""},{"$f":"IF(AO15=\"●\",$B$14,\"\")","v":""},{"$f":"IF(AP15=\"●\",$B$14,\"\")","v":""},{"$f":"IF(AQ15=\"●\",$B$14,\"\")","v":""},{"$f":"IF(AR15=\"●\",$B$14,\"\")","v":""},{"$f":"IF(AS15=\"●\",$B$14,\"\")","v":""},{"$f":"IF(AT15=\"●\",$B$14,\"\")","v":""},{"$f":"IF(AU15=\"●\",$B$14,\"\")","v":""},{"$f":"IF(AV15=\"●\",$B$14,\"\")","v":""},{"$f":"IF(AW15=\"●\",$B$14,\"\")","v":""},{"$f":"IF(AX15=\"●\",$B$14,\"\")","v":""},{"$f":"IF(AY15=\"●\",$B$14,\"\")","v":""},{"$f":"IF(AZ15=\"●\",$B$14,\"\")","v":""},{"$f":"IF(BA15=\"●\",$B$14,\"\")","v":""},{"$f":"IF(BB15=\"●\",$B$14,\"\")","v":""},{"$f":"IF(BC15=\"●\",$B$14,\"\")","v":""},{"$f":"IF(BD15=\"●\",$B$14,\"\")","v":""},{"$f":"IF(BE15=\"●\",$B$14,\"\")","v":""},{"$f":"IF(BF15=\"●\",$B$14,\"\")","v":""},{"$f":"IF(BG15=\"●\",$B$14,\"\")","v":""},{"$f":"IF(BH15=\"●\",$B$14,\"\")","v":""},{"$f":"IF(BI15=\"●\",$B$14,\"\")","v":""},{"$f":"IF(BJ15=\"●\",$B$14,\"\")","v":""},{"$f":"IF(BK15=\"●\",$B$14,\"\")","v":""},{"$f":"IF(BL15=\"●\",$B$14,\"\")","v":""},{"$f":"IF(BM15=\"●\",$B$14,\"\")","v":""},{"$f":"IF(BN15=\"●\",$B$14,\"\")","v":""},{"$f":"IF(BO15=\"●\",$B$14,\"\")","v":""},{"$f":"IF(BP15=\"●\",$B$14,\"\")","v":""}]
[6,{"$f":"IF(Top!C45<>\"\",Top!C45,\"\")","v":"利用者F"},"休",null,"訪","休","訪",null,null,"休",null,"休","訪","休",null,"休","休",null,"休","訪","休",null,"休","休",null,"休","訪","休",null,"休","休",null,"休","訪",{"$f":"LEFT(B16,2)","v":"利用"},null,null,"利用者F",{"$f":"IF(C16=\"休\",\"\",IF(C16=\"訪\",\"訪：\"&$B$16,$B$16))","v":""},{"$f":"IF(D16=\"休\",\"\",IF(D16=\"訪\",\"訪：\"&$B$16,$B$16))","v":"利用者F"},"訪：利用者F","","訪：利用者F","利用者F","利用者F","","利用者F","","訪：利用者F","","利用者F","","","利用者F","","訪：利用者F","","利用者F","","","利用者F","","訪：利用者F","","利用者F","","","利用者F","","訪：利用者F",null,null,{"$f":"IF(AK16=\"休\",\"\",IF(AK16=\"訪\",\"訪：\"&$B$16,$B$16))","v":"利用者F"},{"$f":"IF(AL16=\"休\",\"\",IF(AL16=\"訪\",\"訪：\"&$B$16,$B$16))","v":"利用者F"},{"$f":"IF(AM16=\"休\",\"\",IF(AM16=\"訪\",\"訪：\"&$B$16,$B$16))","v":"利用者F"},{"$f":"IF(AN16=\"休\",\"\",IF(AN16=\"訪\",\"訪：\"&$B$16,$B$16))","v":"利用者F"},{"$f":"IF(AO16=\"休\",\"\",IF(AO16=\"訪\",\"訪：\"&$B$16,$B$16))","v":"利用者F"},{"$f":"IF(AP16=\"休\",\"\",IF(AP16=\"訪\",\"訪：\"&$B$16,$B$16))","v":"利用者F"},{"$f":"IF(AQ16=\"休\",\"\",IF(AQ16=\"訪\",\"訪：\"&$B$16,$B$16))","v":"利用者F"},{"$f":"IF(AR16=\"休\",\"\",IF(AR16=\"訪\",\"訪：\"&$B$16,$B$16))","v":"利用者F"},{"$f":"IF(AS16=\"休\",\"\",IF(AS16=\"訪\",\"訪：\"&$B$16,$B$16))","v":"利用者F"},{"$f":"IF(AT16=\"休\",\"\",IF(AT16=\"訪\",\"訪：\"&$B$16,$B$16))","v":"利用者F"},{"$f":"IF(AU16=\"休\",\"\",IF(AU16=\"訪\",\"訪：\"&$B$16,$B$16))","v":"利用者F"},{"$f":"IF(AV16=\"休\",\"\",IF(AV16=\"訪\",\"訪：\"&$B$16,$B$16))","v":"利用者F"},{"$f":"IF(AW16=\"休\",\"\",IF(AW16=\"訪\",\"訪：\"&$B$16,$B$16))","v":"利用者F"},{"$f":"IF(AX16=\"休\",\"\",IF(AX16=\"訪\",\"訪：\"&$B$16,$B$16))","v":"利用者F"},{"$f":"IF(AY16=\"休\",\"\",IF(AY16=\"訪\",\"訪：\"&$B$16,$B$16))","v":"利用者F"},{"$f":"IF(AZ16=\"休\",\"\",IF(AZ16=\"訪\",\"訪：\"&$B$16,$B$16))","v":"利用者F"},{"$f":"IF(BA16=\"休\",\"\",IF(BA16=\"訪\",\"訪：\"&$B$16,$B$16))","v":"利用者F"},{"$f":"IF(BB16=\"休\",\"\",IF(BB16=\"訪\",\"訪：\"&$B$16,$B$16))","v":"利用者F"},{"$f":"IF(BC16=\"休\",\"\",IF(BC16=\"訪\",\"訪：\"&$B$16,$B$16))","v":"利用者F"},{"$f":"IF(BD16=\"休\",\"\",IF(BD16=\"訪\",\"訪：\"&$B$16,$B$16))","v":"利用者F"},{"$f":"IF(BE16=\"休\",\"\",IF(BE16=\"訪\",\"訪：\"&$B$16,$B$16))","v":"利用者F"},{"$f":"IF(BF16=\"休\",\"\",IF(BF16=\"訪\",\"訪：\"&$B$16,$B$16))","v":"利用者F"},{"$f":"IF(BG16=\"休\",\"\",IF(BG16=\"訪\",\"訪：\"&$B$16,$B$16))","v":"利用者F"},{"$f":"IF(BH16=\"休\",\"\",IF(BH16=\"訪\",\"訪：\"&$B$16,$B$16))","v":"利用者F"},{"$f":"IF(BI16=\"休\",\"\",IF(BI16=\"訪\",\"訪：\"&$B$16,$B$16))","v":"利用者F"},{"$f":"IF(BJ16=\"休\",\"\",IF(BJ16=\"訪\",\"訪：\"&$B$16,$B$16))","v":"利用者F"},{"$f":"IF(BK16=\"休\",\"\",IF(BK16=\"訪\",\"訪：\"&$B$16,$B$16))","v":"利用者F"},{"$f":"IF(BL16=\"休\",\"\",IF(BL16=\"訪\",\"訪：\"&$B$16,$B$16))","v":"利用者F"},{"$f":"IF(BM16=\"休\",\"\",IF(BM16=\"訪\",\"訪：\"&$B$16,$B$16))","v":"利用者F"},{"$f":"IF(BN16=\"休\",\"\",IF(BN16=\"訪\",\"訪：\"&$B$16,$B$16))","v":"利用者F"},{"$f":"IF(BO16=\"休\",\"\",IF(BO16=\"訪\",\"訪：\"&$B$16,$B$16))","v":"利用者F"},{"$f":"IF(BP16=\"休\",\"\",IF(BP16=\"訪\",\"訪：\"&$B$16,$B$16))","v":"利用者F"}]
[null,null,null,null,null,null,null,null,null,null,null,null,null,null,null,null,null,null,null,null,null,null,null,null,null,null,null,null,null,null,null,null,null,null,null,null,null,null,{"$f":"IF(C17=\"●\",$B$16,\"\")","v":""},{"$f":"IF(D17=\"●\",$B$16,\"\")","v":""},"","","","","","","","","","","","","","","","","","","","","","","","","","","","","","",null,null,{"$f":"IF(AK17=\"●\",$B$16,\"\")","v":""},{"$f":"IF(AL17=\"●\",$B$16,\"\")","v":""},{"$f":"IF(AM17=\"●\",$B$16,\"\")","v":""},{"$f":"IF(AN17=\"●\",$B$16,\"\")","v":""},{"$f":"IF(AO17=\"●\",$B$16,\"\")","v":""},{"$f":"IF(AP17=\"●\",$B$16,\"\")","v":""},{"$f":"IF(AQ17=\"●\",$B$16,\"\")","v":""},{"$f":"IF(AR17=\"●\",$B$16,\"\")","v":""},{"$f":"IF(AS17=\"●\",$B$16,\"\")","v":""},{"$f":"IF(AT17=\"●\",$B$16,\"\")","v":""},{"$f":"IF(AU17=\"●\",$B$16,\"\")","v":""},{"$f":"IF(AV17=\"●\",$B$16,\"\")","v":""},{"$f":"IF(AW17=\"●\",$B$16,\"\")","v":""},{"$f":"IF(AX17=\"●\",$B$16,\"\")","v":""},{"$f":"IF(AY17=\"●\",$B$16,\"\")","v":""},{"$f":"IF(AZ17=\"●\",$B$16,\"\")","v":""},{"$f":"IF(BA17=\"●\",$B$16,\"\")","v":""},{"$f":"IF(BB17=\"●\",$B$16,\"\")","v":""},{"$f":"IF(BC17=\"●\",$B$16,\"\")","v":""},{"$f":"IF(BD17=\"●\",$B$16,\"\")","v":""},{"$f":"IF(BE17=\"●\",$B$16,\"\")","v":""},{"$f":"IF(BF17=\"●\",$B$16,\"\")","v":""},{"$f":"IF(BG17=\"●\",$B$16,\"\")","v":""},{"$f":"IF(BH17=\"●\",$B$16,\"\")","v":""},{"$f":"IF(BI17=\"●\",$B$16,\"\")","v":""},{"$f":"IF(BJ17=\"●\",$B$16,\"\")","v":""},{"$f":"IF(BK17=\"●\",$B$16,\"\")","v":""},{"$f":"IF(BL17=\"●\",$B$16,\"\")","v":""},{"$f":"IF(BM17=\"●\",$B$16,\"\")","v":""},{"$f":"IF(BN17=\"●\",$B$16,\"\")","v":""},{"$f":"IF(BO17=\"●\",$B$16,\"\")","v":""},{"$f":"IF(BP17=\"●\",$B$16,\"\")","v":""}]
[7,{"$f":"IF(Top!C46<>\"\",Top!C46,\"\")","v":"利用者G"},"訪","訪","訪","訪","訪","訪","訪","訪","訪","訪","訪","訪","訪","訪","訪","訪","訪","訪","訪","訪","訪","訪","訪","訪","訪","訪","訪","訪","訪","訪","訪","訪",{"$f":"LEFT(B18,2)","v":"利用"},null,null,"利用者G",{"$f":"IF(C18=\"休\",\"\",IF(C18=\"訪\",\"訪：\"&$B$18,$B$18))","v":"訪：利用者G"},{"$f":"IF(D18=\"休\",\"\",IF(D18=\"訪\",\"訪：\"&$B$18,$B$18))","v":"訪：利用者G"},"訪：利用者G","訪：利用者G","訪：利用者G","訪：利用者G","訪：利用者G","訪：利用者G","訪：利用者G","訪：利用者G","訪：利用者G","訪：利用者G","訪：利用者G","訪：利用者G","訪：利用者G","訪：利用者G","訪：利用者G","訪：利用者G","訪：利用者G","訪：利用者G","訪：利用者G","訪：利用者G","訪：利用者G","訪：利用者G","訪：利用者G","訪：利用者G","訪：利用者G","訪：利用者G","訪：利用者G","訪：利用者G","訪：利用者G","訪：利用者G",null,null,{"$f":"IF(AK18=\"休\",\"\",IF(AK18=\"訪\",\"訪：\"&$B$18,$B$18))","v":"利用者G"},{"$f":"IF(AL18=\"休\",\"\",IF(AL18=\"訪\",\"訪：\"&$B$18,$B$18))","v":"利用者G"},{"$f":"IF(AM18=\"休\",\"\",IF(AM18=\"訪\",\"訪：\"&$B$18,$B$18))","v":"利用者G"},{"$f":"IF(AN18=\"休\",\"\",IF(AN18=\"訪\",\"訪：\"&$B$18,$B$18))","v":"利用者G"},{"$f":"IF(AO18=\"休\",\"\",IF(AO18=\"訪\",\"訪：\"&$B$18,$B$18))","v":"利用者G"},{"$f":"IF(AP18=\"休\",\"\",IF(AP18=\"訪\",\"訪：\"&$B$18,$B$18))","v":"利用者G"},{"$f":"IF(AQ18=\"休\",\"\",IF(AQ18=\"訪\",\"訪：\"&$B$18,$B$18))","v":"利用者G"},{"$f":"IF(AR18=\"休\",\"\",IF(AR18=\"訪\",\"訪：\"&$B$18,$B$18))","v":"利用者G"},{"$f":"IF(AS18=\"休\",\"\",IF(AS18=\"訪\",\"訪：\"&$B$18,$B$18))","v":"利用者G"},{"$f":"IF(AT18=\"休\",\"\",IF(AT18=\"訪\",\"訪：\"&$B$18,$B$18))","v":"利用者G"},{"$f":"IF(AU18=\"休\",\"\",IF(AU18=\"訪\",\"訪：\"&$B$18,$B$18))","v":"利用者G"},{"$f":"IF(AV18=\"休\",\"\",IF(AV18=\"訪\",\"訪：\"&$B$18,$B$18))","v":"利用者G"},{"$f":"IF(AW18=\"休\",\"\",IF(AW18=\"訪\",\"訪：\"&$B$18,$B$18))","v":"利用者G"},{"$f":"IF(AX18=\"休\",\"\",IF(AX18=\"訪\",\"訪：\"&$B$18,$B$18))","v":"利用者G"},{"$f":"IF(AY18=\"休\",\"\",IF(AY18=\"訪\",\"訪：\"&$B$18,$B$18))","v":"利用者G"},{"$f":"IF(AZ18=\"休\",\"\",IF(AZ18=\"訪\",\"訪：\"&$B$18,$B$18))","v":"利用者G"},{"$f":"IF(BA18=\"休\",\"\",IF(BA18=\"訪\",\"訪：\"&$B$18,$B$18))","v":"利用者G"},{"$f":"IF(BB18=\"休\",\"\",IF(BB18=\"訪\",\"訪：\"&$B$18,$B$18))","v":"利用者G"},{"$f":"IF(BC18=\"休\",\"\",IF(BC18=\"訪\",\"訪：\"&$B$18,$B$18))","v":"利用者G"},{"$f":"IF(BD18=\"休\",\"\",IF(BD18=\"訪\",\"訪：\"&$B$18,$B$18))","v":"利用者G"},{"$f":"IF(BE18=\"休\",\"\",IF(BE18=\"訪\",\"訪：\"&$B$18,$B$18))","v":"利用者G"},{"$f":"IF(BF18=\"休\",\"\",IF(BF18=\"訪\",\"訪：\"&$B$18,$B$18))","v":"利用者G"},{"$f":"IF(BG18=\"休\",\"\",IF(BG18=\"訪\",\"訪：\"&$B$18,$B$18))","v":"利用者G"},{"$f":"IF(BH18=\"休\",\"\",IF(BH18=\"訪\",\"訪：\"&$B$18,$B$18))","v":"利用者G"},{"$f":"IF(BI18=\"休\",\"\",IF(BI18=\"訪\",\"訪：\"&$B$18,$B$18))","v":"利用者G"},{"$f":"IF(BJ18=\"休\",\"\",IF(BJ18=\"訪\",\"訪：\"&$B$18,$B$18))","v":"利用者G"},{"$f":"IF(BK18=\"休\",\"\",IF(BK18=\"訪\",\"訪：\"&$B$18,$B$18))","v":"利用者G"},{"$f":"IF(BL18=\"休\",\"\",IF(BL18=\"訪\",\"訪：\"&$B$18,$B$18))","v":"利用者G"},{"$f":"IF(BM18=\"休\",\"\",IF(BM18=\"訪\",\"訪：\"&$B$18,$B$18))","v":"利用者G"},{"$f":"IF(BN18=\"休\",\"\",IF(BN18=\"訪\",\"訪：\"&$B$18,$B$18))","v":"利用者G"},{"$f":"IF(BO18=\"休\",\"\",IF(BO18=\"訪\",\"訪：\"&$B$18,$B$18))","v":"利用者G"},{"$f":"IF(BP18=\"休\",\"\",IF(BP18=\"訪\",\"訪：\"&$B$18,$B$18))","v":"利用者G"}]
[null,null,"●","●","●","●","●","●","●","●","●","●","●","●","●","●","●","●","●","●","●","●","●","●","●","●","●","●","●","●","●","●","●","●",null,null,null,null,{"$f":"IF(C19=\"●\",$B$18,\"\")","v":"利用者G"},{"$f":"IF(D19=\"●\",$B$18,\"\")","v":"利用者G"},"利用者G","利用者G","利用者G","利用者G","利用者G","利用者G","利用者G","利用者G","利用者G","利用者G","利用者G","利用者G","利用者G","利用者G","利用者G","利用者G","利用者G","利用者G","利用者G","利用者G","利用者G","利用者G","利用者G","利用者G","利用者G","利用者G","利用者G","利用者G","利用者G","利用者G",null,null,{"$f":"IF(AK19=\"●\",$B$18,\"\")","v":""},{"$f":"IF(AL19=\"●\",$B$18,\"\")","v":""},{"$f":"IF(AM19=\"●\",$B$18,\"\")","v":""},{"$f":"IF(AN19=\"●\",$B$18,\"\")","v":""},{"$f":"IF(AO19=\"●\",$B$18,\"\")","v":""},{"$f":"IF(AP19=\"●\",$B$18,\"\")","v":""},{"$f":"IF(AQ19=\"●\",$B$18,\"\")","v":""},{"$f":"IF(AR19=\"●\",$B$18,\"\")","v":""},{"$f":"IF(AS19=\"●\",$B$18,\"\")","v":""},{"$f":"IF(AT19=\"●\",$B$18,\"\")","v":""},{"$f":"IF(AU19=\"●\",$B$18,\"\")","v":""},{"$f":"IF(AV19=\"●\",$B$18,\"\")","v":""},{"$f":"IF(AW19=\"●\",$B$18,\"\")","v":""},{"$f":"IF(AX19=\"●\",$B$18,\"\")","v":""},{"$f":"IF(AY19=\"●\",$B$18,\"\")","v":""},{"$f":"IF(AZ19=\"●\",$B$18,\"\")","v":""},{"$f":"IF(BA19=\"●\",$B$18,\"\")","v":""},{"$f":"IF(BB19=\"●\",$B$18,\"\")","v":""},{"$f":"IF(BC19=\"●\",$B$18,\"\")","v":""},{"$f":"IF(BD19=\"●\",$B$18,\"\")","v":""},{"$f":"IF(BE19=\"●\",$B$18,\"\")","v":""},{"$f":"IF(BF19=\"●\",$B$18,\"\")","v":""},{"$f":"IF(BG19=\"●\",$B$18,\"\")","v":""},{"$f":"IF(BH19=\"●\",$B$18,\"\")","v":""},{"$f":"IF(BI19=\"●\",$B$18,\"\")","v":""},{"$f":"IF(BJ19=\"●\",$B$18,\"\")","v":""},{"$f":"IF(BK19=\"●\",$B$18,\"\")","v":""},{"$f":"IF(BL19=\"●\",$B$18,\"\")","v":""},{"$f":"IF(BM19=\"●\",$B$18,\"\")","v":""},{"$f":"IF(BN19=\"●\",$B$18,\"\")","v":""},{"$f":"IF(BO19=\"●\",$B$18,\"\")","v":""},{"$f":"IF(BP19=\"●\",$B$18,\"\")","v":""}]
[8,{"$f":"IF(Top!C47<>\"\",Top!C47,\"\")","v":"利用者H"},null,null,null,null,null,null,null,null,null,null,null,null,null,null,null,null,null,null,null,null,null,null,null,null,null,null,null,null,null,null,null,null,{"$f":"LEFT(B20,2)","v":"利用"},null,null,"利用者H",{"$f":"IF(C20=\"休\",\"\",IF(C20=\"訪\",\"訪：\"&$B$20,$B$20))","v":"利用者H"},{"$f":"IF(D20=\"休\",\"\",IF(D20=\"訪\",\"訪：\"&$B$20,$B$20))","v":"利用者H"},"利用者H","利用者H","利用者H","利用者H","利用者H","利用者H","利用者H","利用者H","利用者H","利用者H","利用者H","利用者H","利用者H","利用者H","利用者H","利用者H","利用者H","利用者H","利用者H","利用者H","利用者H","利用者H","利用者H","利用者H","利用者H","利用者H","利用者H","利用者H","利用者H","利用者H",null,null,{"$f":"IF(AK20=\"休\",\"\",IF(AK20=\"訪\",\"訪：\"&$B$20,$B$20))","v":"利用者H"},{"$f":"IF(AL20=\"休\",\"\",IF(AL20=\"訪\",\"訪：\"&$B$20,$B$20))","v":"利用者H"},{"$f":"IF(AM20=\"休\",\"\",IF(AM20=\"訪\",\"訪：\"&$B$20,$B$20))","v":"利用者H"},{"$f":"IF(AN20=\"休\",\"\",IF(AN20=\"訪\",\"訪：\"&$B$20,$B$20))","v":"利用者H"},{"$f":"IF(AO20=\"休\",\"\",IF(AO20=\"訪\",\"訪：\"&$B$20,$B$20))","v":"利用者H"},{"$f":"IF(AP20=\"休\",\"\",IF(AP20=\"訪\",\"訪：\"&$B$20,$B$20))","v":"利用者H"},{"$f":"IF(AQ20=\"休\",\"\",IF(AQ20=\"訪\",\"訪：\"&$B$20,$B$20))","v":"利用者H"},{"$f":"IF(AR20=\"休\",\"\",IF(AR20=\"訪\",\"訪：\"&$B$20,$B$20))","v":"利用者H"},{"$f":"IF(AS20=\"休\",\"\",IF(AS20=\"訪\",\"訪：\"&$B$20,$B$20))","v":"利用者H"},{"$f":"IF(AT20=\"休\",\"\",IF(AT20=\"訪\",\"訪：\"&$B$20,$B$20))","v":"利用者H"},{"$f":"IF(AU20=\"休\",\"\",IF(AU20=\"訪\",\"訪：\"&$B$20,$B$20))","v":"利用者H"},{"$f":"IF(AV20=\"休\",\"\",IF(AV20=\"訪\",\"訪：\"&$B$20,$B$20))","v":"利用者H"},{"$f":"IF(AW20=\"休\",\"\",IF(AW20=\"訪\",\"訪：\"&$B$20,$B$20))","v":"利用者H"},{"$f":"IF(AX20=\"休\",\"\",IF(AX20=\"訪\",\"訪：\"&$B$20,$B$20))","v":"利用者H"},{"$f":"IF(AY20=\"休\",\"\",IF(AY20=\"訪\",\"訪：\"&$B$20,$B$20))","v":"利用者H"},{"$f":"IF(AZ20=\"休\",\"\",IF(AZ20=\"訪\",\"訪：\"&$B$20,$B$20))","v":"利用者H"},{"$f":"IF(BA20=\"休\",\"\",IF(BA20=\"訪\",\"訪：\"&$B$20,$B$20))","v":"利用者H"},{"$f":"IF(BB20=\"休\",\"\",IF(BB20=\"訪\",\"訪：\"&$B$20,$B$20))","v":"利用者H"},{"$f":"IF(BC20=\"休\",\"\",IF(BC20=\"訪\",\"訪：\"&$B$20,$B$20))","v":"利用者H"},{"$f":"IF(BD20=\"休\",\"\",IF(BD20=\"訪\",\"訪：\"&$B$20,$B$20))","v":"利用者H"},{"$f":"IF(BE20=\"休\",\"\",IF(BE20=\"訪\",\"訪：\"&$B$20,$B$20))","v":"利用者H"},{"$f":"IF(BF20=\"休\",\"\",IF(BF20=\"訪\",\"訪：\"&$B$20,$B$20))","v":"利用者H"},{"$f":"IF(BG20=\"休\",\"\",IF(BG20=\"訪\",\"訪：\"&$B$20,$B$20))","v":"利用者H"},{"$f":"IF(BH20=\"休\",\"\",IF(BH20=\"訪\",\"訪：\"&$B$20,$B$20))","v":"利用者H"},{"$f":"IF(BI20=\"休\",\"\",IF(BI20=\"訪\",\"訪：\"&$B$20,$B$20))","v":"利用者H"},{"$f":"IF(BJ20=\"休\",\"\",IF(BJ20=\"訪\",\"訪：\"&$B$20,$B$20))","v":"利用者H"},{"$f":"IF(BK20=\"休\",\"\",IF(BK20=\"訪\",\"訪：\"&$B$20,$B$20))","v":"利用者H"},{"$f":"IF(BL20=\"休\",\"\",IF(BL20=\"訪\",\"訪：\"&$B$20,$B$20))","v":"利用者H"},{"$f":"IF(BM20=\"休\",\"\",IF(BM20=\"訪\",\"訪：\"&$B$20,$B$20))","v":"利用者H"},{"$f":"IF(BN20=\"休\",\"\",IF(BN20=\"訪\",\"訪：\"&$B$20,$B$20))","v":"利用者H"},{"$f":"IF(BO20=\"休\",\"\",IF(BO20=\"訪\",\"訪：\"&$B$20,$B$20))","v":"利用者H"},{"$f":"IF(BP20=\"休\",\"\",IF(BP20=\"訪\",\"訪：\"&$B$20,$B$20))","v":"利用者H"}]
[null,null,"●","●","●","●","●","●","●","●","●","●","●","●","●","●","●","●","●","●","●","●","●","●","●","●","●","●","●","●","●","●","●","●",null,null,null,null,{"$f":"IF(C21=\"●\",$B$20,\"\")","v":"利用者H"},{"$f":"IF(D21=\"●\",$B$20,\"\")","v":"利用者H"},"利用者H","利用者H","利用者H","利用者H","利用者H","利用者H","利用者H","利用者H","利用者H","利用者H","利用者H","利用者H","利用者H","利用者H","利用者H","利用者H","利用者H","利用者H","利用者H","利用者H","利用者H","利用者H","利用者H","利用者H","利用者H","利用者H","利用者H","利用者H","利用者H","利用者H",null,null,{"$f":"IF(AK21=\"●\",$B$20,\"\")","v":""},{"$f":"IF(AL21=\"●\",$B$20,\"\")","v":""},{"$f":"IF(AM21=\"●\",$B$20,\"\")","v":""},{"$f":"IF(AN21=\"●\",$B$20,\"\")","v":""},{"$f":"IF(AO21=\"●\",$B$20,\"\")","v":""},{"$f":"IF(AP21=\"●\",$B$20,\"\")","v":""},{"$f":"IF(AQ21=\"●\",$B$20,\"\")","v":""},{"$f":"IF(AR21=\"●\",$B$20,\"\")","v":""},{"$f":"IF(AS21=\"●\",$B$20,\"\")","v":""},{"$f":"IF(AT21=\"●\",$B$20,\"\")","v":""},{"$f":"IF(AU21=\"●\",$B$20,\"\")","v":""},{"$f":"IF(AV21=\"●\",$B$20,\"\")","v":""},{"$f":"IF(AW21=\"●\",$B$20,\"\")","v":""},{"$f":"IF(AX21=\"●\",$B$20,\"\")","v":""},{"$f":"IF(AY21=\"●\",$B$20,\"\")","v":""},{"$f":"IF(AZ21=\"●\",$B$20,\"\")","v":""},{"$f":"IF(BA21=\"●\",$B$20,\"\")","v":""},{"$f":"IF(BB21=\"●\",$B$20,\"\")","v":""},{"$f":"IF(BC21=\"●\",$B$20,\"\")","v":""},{"$f":"IF(BD21=\"●\",$B$20,\"\")","v":""},{"$f":"IF(BE21=\"●\",$B$20,\"\")","v":""},{"$f":"IF(BF21=\"●\",$B$20,\"\")","v":""},{"$f":"IF(BG21=\"●\",$B$20,\"\")","v":""},{"$f":"IF(BH21=\"●\",$B$20,\"\")","v":""},{"$f":"IF(BI21=\"●\",$B$20,\"\")","v":""},{"$f":"IF(BJ21=\"●\",$B$20,\"\")","v":""},{"$f":"IF(BK21=\"●\",$B$20,\"\")","v":""},{"$f":"IF(BL21=\"●\",$B$20,\"\")","v":""},{"$f":"IF(BM21=\"●\",$B$20,\"\")","v":""},{"$f":"IF(BN21=\"●\",$B$20,\"\")","v":""},{"$f":"IF(BO21=\"●\",$B$20,\"\")","v":""},{"$f":"IF(BP21=\"●\",$B$20,\"\")","v":""}]
[9,{"$f":"IF(Top!C48<>\"\",Top!C48,\"\")","v":"利用者I"},null,null,null,null,"休",null,null,null,"休",null,null,"休",null,null,"休","休",null,null,null,null,"休","休",null,null,null,"休",null,null,null,null,null,null,{"$f":"LEFT(B22,2)","v":"利用"},null,null,"利用者I",{"$f":"IF(C22=\"休\",\"\",IF(C22=\"訪\",\"訪：\"&$B$22,$B$22))","v":"利用者I"},{"$f":"IF(D22=\"休\",\"\",IF(D22=\"訪\",\"訪：\"&$B$22,$B$22))","v":"利用者I"},"利用者I","利用者I","","利用者I","利用者I","利用者I","","利用者I","利用者I","","利用者I","利用者I","","","利用者I","利用者I","利用者I","利用者I","","","利用者I","利用者I","利用者I","","利用者I","利用者I","利用者I","利用者I","利用者I","利用者I",null,null,{"$f":"IF(AK22=\"休\",\"\",IF(AK22=\"訪\",\"訪：\"&$B$22,$B$22))","v":"利用者I"},{"$f":"IF(AL22=\"休\",\"\",IF(AL22=\"訪\",\"訪：\"&$B$22,$B$22))","v":"利用者I"},{"$f":"IF(AM22=\"休\",\"\",IF(AM22=\"訪\",\"訪：\"&$B$22,$B$22))","v":"利用者I"},{"$f":"IF(AN22=\"休\",\"\",IF(AN22=\"訪\",\"訪：\"&$B$22,$B$22))","v":"利用者I"},{"$f":"IF(AO22=\"休\",\"\",IF(AO22=\"訪\",\"訪：\"&$B$22,$B$22))","v":"利用者I"},{"$f":"IF(AP22=\"休\",\"\",IF(AP22=\"訪\",\"訪：\"&$B$22,$B$22))","v":"利用者I"},{"$f":"IF(AQ22=\"休\",\"\",IF(AQ22=\"訪\",\"訪：\"&$B$22,$B$22))","v":"利用者I"},{"$f":"IF(AR22=\"休\",\"\",IF(AR22=\"訪\",\"訪：\"&$B$22,$B$22))","v":"利用者I"},{"$f":"IF(AS22=\"休\",\"\",IF(AS22=\"訪\",\"訪：\"&$B$22,$B$22))","v":"利用者I"},{"$f":"IF(AT22=\"休\",\"\",IF(AT22=\"訪\",\"訪：\"&$B$22,$B$22))","v":"利用者I"},{"$f":"IF(AU22=\"休\",\"\",IF(AU22=\"訪\",\"訪：\"&$B$22,$B$22))","v":"利用者I"},{"$f":"IF(AV22=\"休\",\"\",IF(AV22=\"訪\",\"訪：\"&$B$22,$B$22))","v":"利用者I"},{"$f":"IF(AW22=\"休\",\"\",IF(AW22=\"訪\",\"訪：\"&$B$22,$B$22))","v":"利用者I"},{"$f":"IF(AX22=\"休\",\"\",IF(AX22=\"訪\",\"訪：\"&$B$22,$B$22))","v":"利用者I"},{"$f":"IF(AY22=\"休\",\"\",IF(AY22=\"訪\",\"訪：\"&$B$22,$B$22))","v":"利用者I"},{"$f":"IF(AZ22=\"休\",\"\",IF(AZ22=\"訪\",\"訪：\"&$B$22,$B$22))","v":"利用者I"},{"$f":"IF(BA22=\"休\",\"\",IF(BA22=\"訪\",\"訪：\"&$B$22,$B$22))","v":"利用者I"},{"$f":"IF(BB22=\"休\",\"\",IF(BB22=\"訪\",\"訪：\"&$B$22,$B$22))","v":"利用者I"},{"$f":"IF(BC22=\"休\",\"\",IF(BC22=\"訪\",\"訪：\"&$B$22,$B$22))","v":"利用者I"},{"$f":"IF(BD22=\"休\",\"\",IF(BD22=\"訪\",\"訪：\"&$B$22,$B$22))","v":"利用者I"},{"$f":"IF(BE22=\"休\",\"\",IF(BE22=\"訪\",\"訪：\"&$B$22,$B$22))","v":"利用者I"},{"$f":"IF(BF22=\"休\",\"\",IF(BF22=\"訪\",\"訪：\"&$B$22,$B$22))","v":"利用者I"},{"$f":"IF(BG22=\"休\",\"\",IF(BG22=\"訪\",\"訪：\"&$B$22,$B$22))","v":"利用者I"},{"$f":"IF(BH22=\"休\",\"\",IF(BH22=\"訪\",\"訪：\"&$B$22,$B$22))","v":"利用者I"},{"$f":"IF(BI22=\"休\",\"\",IF(BI22=\"訪\",\"訪：\"&$B$22,$B$22))","v":"利用者I"},{"$f":"IF(BJ22=\"休\",\"\",IF(BJ22=\"訪\",\"訪：\"&$B$22,$B$22))","v":"利用者I"},{"$f":"IF(BK22=\"休\",\"\",IF(BK22=\"訪\",\"訪：\"&$B$22,$B$22))","v":"利用者I"},{"$f":"IF(BL22=\"休\",\"\",IF(BL22=\"訪\",\"訪：\"&$B$22,$B$22))","v":"利用者I"},{"$f":"IF(BM22=\"休\",\"\",IF(BM22=\"訪\",\"訪：\"&$B$22,$B$22))","v":"利用者I"},{"$f":"IF(BN22=\"休\",\"\",IF(BN22=\"訪\",\"訪：\"&$B$22,$B$22))","v":"利用者I"},{"$f":"IF(BO22=\"休\",\"\",IF(BO22=\"訪\",\"訪：\"&$B$22,$B$22))","v":"利用者I"},{"$f":"IF(BP22=\"休\",\"\",IF(BP22=\"訪\",\"訪：\"&$B$22,$B$22))","v":"利用者I"}]
[null,null,null,null,null,null,null,null,null,null,null,null,null,null,null,null,null,null,null,null,null,null,null,null,null,null,null,null,null,null,null,null,null,null,null,null,null,null,{"$f":"IF(C23=\"●\",$B$22,\"\")","v":""},{"$f":"IF(D23=\"●\",$B$22,\"\")","v":""},"","","","","","","","","","","","","","","","","","","","","","","","","","","","","","",null,null,{"$f":"IF(AK23=\"●\",$B$22,\"\")","v":""},{"$f":"IF(AL23=\"●\",$B$22,\"\")","v":""},{"$f":"IF(AM23=\"●\",$B$22,\"\")","v":""},{"$f":"IF(AN23=\"●\",$B$22,\"\")","v":""},{"$f":"IF(AO23=\"●\",$B$22,\"\")","v":""},{"$f":"IF(AP23=\"●\",$B$22,\"\")","v":""},{"$f":"IF(AQ23=\"●\",$B$22,\"\")","v":""},{"$f":"IF(AR23=\"●\",$B$22,\"\")","v":""},{"$f":"IF(AS23=\"●\",$B$22,\"\")","v":""},{"$f":"IF(AT23=\"●\",$B$22,\"\")","v":""},{"$f":"IF(AU23=\"●\",$B$22,\"\")","v":""},{"$f":"IF(AV23=\"●\",$B$22,\"\")","v":""},{"$f":"IF(AW23=\"●\",$B$22,\"\")","v":""},{"$f":"IF(AX23=\"●\",$B$22,\"\")","v":""},{"$f":"IF(AY23=\"●\",$B$22,\"\")","v":""},{"$f":"IF(AZ23=\"●\",$B$22,\"\")","v":""},{"$f":"IF(BA23=\"●\",$B$22,\"\")","v":""},{"$f":"IF(BB23=\"●\",$B$22,\"\")","v":""},{"$f":"IF(BC23=\"●\",$B$22,\"\")","v":""},{"$f":"IF(BD23=\"●\",$B$22,\"\")","v":""},{"$f":"IF(BE23=\"●\",$B$22,\"\")","v":""},{"$f":"IF(BF23=\"●\",$B$22,\"\")","v":""},{"$f":"IF(BG23=\"●\",$B$22,\"\")","v":""},{"$f":"IF(BH23=\"●\",$B$22,\"\")","v":""},{"$f":"IF(BI23=\"●\",$B$22,\"\")","v":""},{"$f":"IF(BJ23=\"●\",$B$22,\"\")","v":""},{"$f":"IF(BK23=\"●\",$B$22,\"\")","v":""},{"$f":"IF(BL23=\"●\",$B$22,\"\")","v":""},{"$f":"IF(BM23=\"●\",$B$22,\"\")","v":""},{"$f":"IF(BN23=\"●\",$B$22,\"\")","v":""},{"$f":"IF(BO23=\"●\",$B$22,\"\")","v":""},{"$f":"IF(BP23=\"●\",$B$22,\"\")","v":""}]
[10,{"$f":"IF(Top!C49<>\"\",Top!C49,\"\")","v":"利用者J"},"訪","訪","訪","訪","訪","訪","訪","訪","訪","訪","訪","訪","訪","訪","訪","訪","訪","訪","訪","訪","訪","訪","訪","訪","訪","訪","訪","訪","訪","訪","訪","訪","利用",null,null,"利用者J",{"$f":"IF(C24=\"休\",\"\",IF(C24=\"訪\",\"訪：\"&$B$24,$B$24))","v":"訪：利用者J"},{"$f":"IF(D24=\"休\",\"\",IF(D24=\"訪\",\"訪：\"&$B$24,$B$24))","v":"訪：利用者J"},"訪：利用者J","訪：利用者J","訪：利用者J","訪：利用者J","訪：利用者J","訪：利用者J","訪：利用者J","訪：利用者J","訪：利用者J","訪：利用者J","訪：利用者J","訪：利用者J","訪：利用者J","訪：利用者J","訪：利用者J","訪：利用者J","訪：利用者J","訪：利用者J","訪：利用者J","訪：利用者J","訪：利用者J","訪：利用者J","訪：利用者J","訪：利用者J","訪：利用者J","訪：利用者J","訪：利用者J","訪：利用者J","訪：利用者J","訪：利用者J",null,null,{"$f":"IF(AK24=\"休\",\"\",IF(AK24=\"訪\",\"訪：\"&$B$24,$B$24))","v":"利用者J"},{"$f":"IF(AL24=\"休\",\"\",IF(AL24=\"訪\",\"訪：\"&$B$24,$B$24))","v":"利用者J"},{"$f":"IF(AM24=\"休\",\"\",IF(AM24=\"訪\",\"訪：\"&$B$24,$B$24))","v":"利用者J"},{"$f":"IF(AN24=\"休\",\"\",IF(AN24=\"訪\",\"訪：\"&$B$24,$B$24))","v":"利用者J"},{"$f":"IF(AO24=\"休\",\"\",IF(AO24=\"訪\",\"訪：\"&$B$24,$B$24))","v":"利用者J"},{"$f":"IF(AP24=\"休\",\"\",IF(AP24=\"訪\",\"訪：\"&$B$24,$B$24))","v":"利用者J"},{"$f":"IF(AQ24=\"休\",\"\",IF(AQ24=\"訪\",\"訪：\"&$B$24,$B$24))","v":"利用者J"},{"$f":"IF(AR24=\"休\",\"\",IF(AR24=\"訪\",\"訪：\"&$B$24,$B$24))","v":"利用者J"},{"$f":"IF(AS24=\"休\",\"\",IF(AS24=\"訪\",\"訪：\"&$B$24,$B$24))","v":"利用者J"},{"$f":"IF(AT24=\"休\",\"\",IF(AT24=\"訪\",\"訪：\"&$B$24,$B$24))","v":"利用者J"},{"$f":"IF(AU24=\"休\",\"\",IF(AU24=\"訪\",\"訪：\"&$B$24,$B$24))","v":"利用者J"},{"$f":"IF(AV24=\"休\",\"\",IF(AV24=\"訪\",\"訪：\"&$B$24,$B$24))","v":"利用者J"},{"$f":"IF(AW24=\"休\",\"\",IF(AW24=\"訪\",\"訪：\"&$B$24,$B$24))","v":"利用者J"},{"$f":"IF(AX24=\"休\",\"\",IF(AX24=\"訪\",\"訪：\"&$B$24,$B$24))","v":"利用者J"},{"$f":"IF(AY24=\"休\",\"\",IF(AY24=\"訪\",\"訪：\"&$B$24,$B$24))","v":"利用者J"},{"$f":"IF(AZ24=\"休\",\"\",IF(AZ24=\"訪\",\"訪：\"&$B$24,$B$24))","v":"利用者J"},{"$f":"IF(BA24=\"休\",\"\",IF(BA24=\"訪\",\"訪：\"&$B$24,$B$24))","v":"利用者J"},{"$f":"IF(BB24=\"休\",\"\",IF(BB24=\"訪\",\"訪：\"&$B$24,$B$24))","v":"利用者J"},{"$f":"IF(BC24=\"休\",\"\",IF(BC24=\"訪\",\"訪：\"&$B$24,$B$24))","v":"利用者J"},{"$f":"IF(BD24=\"休\",\"\",IF(BD24=\"訪\",\"訪：\"&$B$24,$B$24))","v":"利用者J"},{"$f":"IF(BE24=\"休\",\"\",IF(BE24=\"訪\",\"訪：\"&$B$24,$B$24))","v":"利用者J"},{"$f":"IF(BF24=\"休\",\"\",IF(BF24=\"訪\",\"訪：\"&$B$24,$B$24))","v":"利用者J"},{"$f":"IF(BG24=\"休\",\"\",IF(BG24=\"訪\",\"訪：\"&$B$24,$B$24))","v":"利用者J"},{"$f":"IF(BH24=\"休\",\"\",IF(BH24=\"訪\",\"訪：\"&$B$24,$B$24))","v":"利用者J"},{"$f":"IF(BI24=\"休\",\"\",IF(BI24=\"訪\",\"訪：\"&$B$24,$B$24))","v":"利用者J"},{"$f":"IF(BJ24=\"休\",\"\",IF(BJ24=\"訪\",\"訪：\"&$B$24,$B$24))","v":"利用者J"},{"$f":"IF(BK24=\"休\",\"\",IF(BK24=\"訪\",\"訪：\"&$B$24,$B$24))","v":"利用者J"},{"$f":"IF(BL24=\"休\",\"\",IF(BL24=\"訪\",\"訪：\"&$B$24,$B$24))","v":"利用者J"},{"$f":"IF(BM24=\"休\",\"\",IF(BM24=\"訪\",\"訪：\"&$B$24,$B$24))","v":"利用者J"},{"$f":"IF(BN24=\"休\",\"\",IF(BN24=\"訪\",\"訪：\"&$B$24,$B$24))","v":"利用者J"},{"$f":"IF(BO24=\"休\",\"\",IF(BO24=\"訪\",\"訪：\"&$B$24,$B$24))","v":"利用者J"},{"$f":"IF(BP24=\"休\",\"\",IF(BP24=\"訪\",\"訪：\"&$B$24,$B$24))","v":"利用者J"}]
[null,null,null,null,null,null,null,null,null,null,null,null,null,null,null,null,null,null,null,null,null,null,null,null,null,null,null,null,null,null,null,null,null,null,null,null,null,null,{"$f":"IF(C25=\"●\",$B$24,\"\")","v":""},{"$f":"IF(D25=\"●\",$B$24,\"\")","v":""},"","","","","","","","","","","","","","","","","","","","","","","","","","","","","","",null,null,{"$f":"IF(AK25=\"●\",$B$24,\"\")","v":""},{"$f":"IF(AL25=\"●\",$B$24,\"\")","v":""},{"$f":"IF(AM25=\"●\",$B$24,\"\")","v":""},{"$f":"IF(AN25=\"●\",$B$24,\"\")","v":""},{"$f":"IF(AO25=\"●\",$B$24,\"\")","v":""},{"$f":"IF(AP25=\"●\",$B$24,\"\")","v":""},{"$f":"IF(AQ25=\"●\",$B$24,\"\")","v":""},{"$f":"IF(AR25=\"●\",$B$24,\"\")","v":""},{"$f":"IF(AS25=\"●\",$B$24,\"\")","v":""},{"$f":"IF(AT25=\"●\",$B$24,\"\")","v":""},{"$f":"IF(AU25=\"●\",$B$24,\"\")","v":""},{"$f":"IF(AV25=\"●\",$B$24,\"\")","v":""},{"$f":"IF(AW25=\"●\",$B$24,\"\")","v":""},{"$f":"IF(AX25=\"●\",$B$24,\"\")","v":""},{"$f":"IF(AY25=\"●\",$B$24,\"\")","v":""},{"$f":"IF(AZ25=\"●\",$B$24,\"\")","v":""},{"$f":"IF(BA25=\"●\",$B$24,\"\")","v":""},{"$f":"IF(BB25=\"●\",$B$24,\"\")","v":""},{"$f":"IF(BC25=\"●\",$B$24,\"\")","v":""},{"$f":"IF(BD25=\"●\",$B$24,\"\")","v":""},{"$f":"IF(BE25=\"●\",$B$24,\"\")","v":""},{"$f":"IF(BF25=\"●\",$B$24,\"\")","v":""},{"$f":"IF(BG25=\"●\",$B$24,\"\")","v":""},{"$f":"IF(BH25=\"●\",$B$24,\"\")","v":""},{"$f":"IF(BI25=\"●\",$B$24,\"\")","v":""},{"$f":"IF(BJ25=\"●\",$B$24,\"\")","v":""},{"$f":"IF(BK25=\"●\",$B$24,\"\")","v":""},{"$f":"IF(BL25=\"●\",$B$24,\"\")","v":""},{"$f":"IF(BM25=\"●\",$B$24,\"\")","v":""},{"$f":"IF(BN25=\"●\",$B$24,\"\")","v":""},{"$f":"IF(BO25=\"●\",$B$24,\"\")","v":""},{"$f":"IF(BP25=\"●\",$B$24,\"\")","v":""}]
[11,{"$f":"IF(Top!C50<>\"\",Top!C50,\"\")","v":""},null,null,null,null,null,null,null,null,null,null,null,null,null,null,null,null,null,null,null,null,null,null,null,null,null,null,null,null,null,null,null,null,"",null,null,"",{"$f":"IF(C26=\"休\",\"\",IF(C26=\"訪\",\"訪：\"&$B$26,$B$26))","v":""},{"$f":"IF(D26=\"休\",\"\",IF(D26=\"訪\",\"訪：\"&$B$26,$B$26))","v":""},"","","","","","","","","","","","","","","","","","","","","","","","","","","","","","",null,null,{"$f":"IF(AK26=\"休\",\"\",IF(AK26=\"訪\",\"訪：\"&$B$26,$B$26))","v":""},{"$f":"IF(AL26=\"休\",\"\",IF(AL26=\"訪\",\"訪：\"&$B$26,$B$26))","v":""},{"$f":"IF(AM26=\"休\",\"\",IF(AM26=\"訪\",\"訪：\"&$B$26,$B$26))","v":""},{"$f":"IF(AN26=\"休\",\"\",IF(AN26=\"訪\",\"訪：\"&$B$26,$B$26))","v":""},{"$f":"IF(AO26=\"休\",\"\",IF(AO26=\"訪\",\"訪：\"&$B$26,$B$26))","v":""},{"$f":"IF(AP26=\"休\",\"\",IF(AP26=\"訪\",\"訪：\"&$B$26,$B$26))","v":""},{"$f":"IF(AQ26=\"休\",\"\",IF(AQ26=\"訪\",\"訪：\"&$B$26,$B$26))","v":""},{"$f":"IF(AR26=\"休\",\"\",IF(AR26=\"訪\",\"訪：\"&$B$26,$B$26))","v":""},{"$f":"IF(AS26=\"休\",\"\",IF(AS26=\"訪\",\"訪：\"&$B$26,$B$26))","v":""},{"$f":"IF(AT26=\"休\",\"\",IF(AT26=\"訪\",\"訪：\"&$B$26,$B$26))","v":""},{"$f":"IF(AU26=\"休\",\"\",IF(AU26=\"訪\",\"訪：\"&$B$26,$B$26))","v":""},{"$f":"IF(AV26=\"休\",\"\",IF(AV26=\"訪\",\"訪：\"&$B$26,$B$26))","v":""},{"$f":"IF(AW26=\"休\",\"\",IF(AW26=\"訪\",\"訪：\"&$B$26,$B$26))","v":""},{"$f":"IF(AX26=\"休\",\"\",IF(AX26=\"訪\",\"訪：\"&$B$26,$B$26))","v":""},{"$f":"IF(AY26=\"休\",\"\",IF(AY26=\"訪\",\"訪：\"&$B$26,$B$26))","v":""},{"$f":"IF(AZ26=\"休\",\"\",IF(AZ26=\"訪\",\"訪：\"&$B$26,$B$26))","v":""},{"$f":"IF(BA26=\"休\",\"\",IF(BA26=\"訪\",\"訪：\"&$B$26,$B$26))","v":""},{"$f":"IF(BB26=\"休\",\"\",IF(BB26=\"訪\",\"訪：\"&$B$26,$B$26))","v":""},{"$f":"IF(BC26=\"休\",\"\",IF(BC26=\"訪\",\"訪：\"&$B$26,$B$26))","v":""},{"$f":"IF(BD26=\"休\",\"\",IF(BD26=\"訪\",\"訪：\"&$B$26,$B$26))","v":""},{"$f":"IF(BE26=\"休\",\"\",IF(BE26=\"訪\",\"訪：\"&$B$26,$B$26))","v":""},{"$f":"IF(BF26=\"休\",\"\",IF(BF26=\"訪\",\"訪：\"&$B$26,$B$26))","v":""},{"$f":"IF(BG26=\"休\",\"\",IF(BG26=\"訪\",\"訪：\"&$B$26,$B$26))","v":""},{"$f":"IF(BH26=\"休\",\"\",IF(BH26=\"訪\",\"訪：\"&$B$26,$B$26))","v":""},{"$f":"IF(BI26=\"休\",\"\",IF(BI26=\"訪\",\"訪：\"&$B$26,$B$26))","v":""},{"$f":"IF(BJ26=\"休\",\"\",IF(BJ26=\"訪\",\"訪：\"&$B$26,$B$26))","v":""},{"$f":"IF(BK26=\"休\",\"\",IF(BK26=\"訪\",\"訪：\"&$B$26,$B$26))","v":""},{"$f":"IF(BL26=\"休\",\"\",IF(BL26=\"訪\",\"訪：\"&$B$26,$B$26))","v":""},{"$f":"IF(BM26=\"休\",\"\",IF(BM26=\"訪\",\"訪：\"&$B$26,$B$26))","v":""},{"$f":"IF(BN26=\"休\",\"\",IF(BN26=\"訪\",\"訪：\"&$B$26,$B$26))","v":""},{"$f":"IF(BO26=\"休\",\"\",IF(BO26=\"訪\",\"訪：\"&$B$26,$B$26))","v":""},{"$f":"IF(BP26=\"休\",\"\",IF(BP26=\"訪\",\"訪：\"&$B$26,$B$26))","v":""}]
[null,null,null,null,null,null,null,null,null,null,null,null,null,null,null,null,null,null,null,null,null,null,null,null,null,null,null,null,null,null,null,null,null,null,null,null,null,null,{"$f":"IF(C27=\"●\",$B$26,\"\")","v":""},{"$f":"IF(D27=\"●\",$B$26,\"\")","v":""},"","","","","","","","","","","","","","","","","","","","","","","","","","","","","","",null,null,{"$f":"IF(AK27=\"●\",$B$26,\"\")","v":""},{"$f":"IF(AL27=\"●\",$B$26,\"\")","v":""},{"$f":"IF(AM27=\"●\",$B$26,\"\")","v":""},{"$f":"IF(AN27=\"●\",$B$26,\"\")","v":""},{"$f":"IF(AO27=\"●\",$B$26,\"\")","v":""},{"$f":"IF(AP27=\"●\",$B$26,\"\")","v":""},{"$f":"IF(AQ27=\"●\",$B$26,\"\")","v":""},{"$f":"IF(AR27=\"●\",$B$26,\"\")","v":""},{"$f":"IF(AS27=\"●\",$B$26,\"\")","v":""},{"$f":"IF(AT27=\"●\",$B$26,\"\")","v":""},{"$f":"IF(AU27=\"●\",$B$26,\"\")","v":""},{"$f":"IF(AV27=\"●\",$B$26,\"\")","v":""},{"$f":"IF(AW27=\"●\",$B$26,\"\")","v":""},{"$f":"IF(AX27=\"●\",$B$26,\"\")","v":""},{"$f":"IF(AY27=\"●\",$B$26,\"\")","v":""},{"$f":"IF(AZ27=\"●\",$B$26,\"\")","v":""},{"$f":"IF(BA27=\"●\",$B$26,\"\")","v":""},{"$f":"IF(BB27=\"●\",$B$26,\"\")","v":""},{"$f":"IF(BC27=\"●\",$B$26,\"\")","v":""},{"$f":"IF(BD27=\"●\",$B$26,\"\")","v":""},{"$f":"IF(BE27=\"●\",$B$26,\"\")","v":""},{"$f":"IF(BF27=\"●\",$B$26,\"\")","v":""},{"$f":"IF(BG27=\"●\",$B$26,\"\")","v":""},{"$f":"IF(BH27=\"●\",$B$26,\"\")","v":""},{"$f":"IF(BI27=\"●\",$B$26,\"\")","v":""},{"$f":"IF(BJ27=\"●\",$B$26,\"\")","v":""},{"$f":"IF(BK27=\"●\",$B$26,\"\")","v":""},{"$f":"IF(BL27=\"●\",$B$26,\"\")","v":""},{"$f":"IF(BM27=\"●\",$B$26,\"\")","v":""},{"$f":"IF(BN27=\"●\",$B$26,\"\")","v":""},{"$f":"IF(BO27=\"●\",$B$26,\"\")","v":""},{"$f":"IF(BP27=\"●\",$B$26,\"\")","v":""}]
[12,{"$f":"IF(Top!C51<>\"\",Top!C51,\"\")","v":""},null,null,null,null,null,null,null,null,null,null,null,null,null,null,null,null,null,null,null,null,null,null,null,null,null,null,null,null,null,null,null,null,"",null,null,"",{"$f":"IF(C28=\"休\",\"\",IF(C28=\"訪\",\"訪：\"&$B$28,$B$28))","v":""},{"$f":"IF(D28=\"休\",\"\",IF(D28=\"訪\",\"訪：\"&$B$28,$B$28))","v":""},"","","","","","","","","","","","","","","","","","","","","","","","","","","","","","",null,null,{"$f":"IF(AK28=\"休\",\"\",IF(AK28=\"訪\",\"訪：\"&$B$28,$B$28))","v":""},{"$f":"IF(AL28=\"休\",\"\",IF(AL28=\"訪\",\"訪：\"&$B$28,$B$28))","v":""},{"$f":"IF(AM28=\"休\",\"\",IF(AM28=\"訪\",\"訪：\"&$B$28,$B$28))","v":""},{"$f":"IF(AN28=\"休\",\"\",IF(AN28=\"訪\",\"訪：\"&$B$28,$B$28))","v":""},{"$f":"IF(AO28=\"休\",\"\",IF(AO28=\"訪\",\"訪：\"&$B$28,$B$28))","v":""},{"$f":"IF(AP28=\"休\",\"\",IF(AP28=\"訪\",\"訪：\"&$B$28,$B$28))","v":""},{"$f":"IF(AQ28=\"休\",\"\",IF(AQ28=\"訪\",\"訪：\"&$B$28,$B$28))","v":""},{"$f":"IF(AR28=\"休\",\"\",IF(AR28=\"訪\",\"訪：\"&$B$28,$B$28))","v":""},{"$f":"IF(AS28=\"休\",\"\",IF(AS28=\"訪\",\"訪：\"&$B$28,$B$28))","v":""},{"$f":"IF(AT28=\"休\",\"\",IF(AT28=\"訪\",\"訪：\"&$B$28,$B$28))","v":""},{"$f":"IF(AU28=\"休\",\"\",IF(AU28=\"訪\",\"訪：\"&$B$28,$B$28))","v":""},{"$f":"IF(AV28=\"休\",\"\",IF(AV28=\"訪\",\"訪：\"&$B$28,$B$28))","v":""},{"$f":"IF(AW28=\"休\",\"\",IF(AW28=\"訪\",\"訪：\"&$B$28,$B$28))","v":""},{"$f":"IF(AX28=\"休\",\"\",IF(AX28=\"訪\",\"訪：\"&$B$28,$B$28))","v":""},{"$f":"IF(AY28=\"休\",\"\",IF(AY28=\"訪\",\"訪：\"&$B$28,$B$28))","v":""},{"$f":"IF(AZ28=\"休\",\"\",IF(AZ28=\"訪\",\"訪：\"&$B$28,$B$28))","v":""},{"$f":"IF(BA28=\"休\",\"\",IF(BA28=\"訪\",\"訪：\"&$B$28,$B$28))","v":""},{"$f":"IF(BB28=\"休\",\"\",IF(BB28=\"訪\",\"訪：\"&$B$28,$B$28))","v":""},{"$f":"IF(BC28=\"休\",\"\",IF(BC28=\"訪\",\"訪：\"&$B$28,$B$28))","v":""},{"$f":"IF(BD28=\"休\",\"\",IF(BD28=\"訪\",\"訪：\"&$B$28,$B$28))","v":""},{"$f":"IF(BE28=\"休\",\"\",IF(BE28=\"訪\",\"訪：\"&$B$28,$B$28))","v":""},{"$f":"IF(BF28=\"休\",\"\",IF(BF28=\"訪\",\"訪：\"&$B$28,$B$28))","v":""},{"$f":"IF(BG28=\"休\",\"\",IF(BG28=\"訪\",\"訪：\"&$B$28,$B$28))","v":""},{"$f":"IF(BH28=\"休\",\"\",IF(BH28=\"訪\",\"訪：\"&$B$28,$B$28))","v":""},{"$f":"IF(BI28=\"休\",\"\",IF(BI28=\"訪\",\"訪：\"&$B$28,$B$28))","v":""},{"$f":"IF(BJ28=\"休\",\"\",IF(BJ28=\"訪\",\"訪：\"&$B$28,$B$28))","v":""},{"$f":"IF(BK28=\"休\",\"\",IF(BK28=\"訪\",\"訪：\"&$B$28,$B$28))","v":""},{"$f":"IF(BL28=\"休\",\"\",IF(BL28=\"訪\",\"訪：\"&$B$28,$B$28))","v":""},{"$f":"IF(BM28=\"休\",\"\",IF(BM28=\"訪\",\"訪：\"&$B$28,$B$28))","v":""},{"$f":"IF(BN28=\"休\",\"\",IF(BN28=\"訪\",\"訪：\"&$B$28,$B$28))","v":""},{"$f":"IF(BO28=\"休\",\"\",IF(BO28=\"訪\",\"訪：\"&$B$28,$B$28))","v":""},{"$f":"IF(BP28=\"休\",\"\",IF(BP28=\"訪\",\"訪：\"&$B$28,$B$28))","v":""}]
[null,null,null,null,null,null,null,null,null,null,null,null,null,null,null,null,null,null,null,null,null,null,null,null,null,null,null,null,null,null,null,null,null,null,null,null,null,null,{"$f":"IF(C29=\"●\",$B$28,\"\")","v":""},{"$f":"IF(D29=\"●\",$B$28,\"\")","v":""},"","","","","","","","","","","","","","","","","","","","","","","","","","","","","","",null,null,{"$f":"IF(AK29=\"●\",$B$28,\"\")","v":""},{"$f":"IF(AL29=\"●\",$B$28,\"\")","v":""},{"$f":"IF(AM29=\"●\",$B$28,\"\")","v":""},{"$f":"IF(AN29=\"●\",$B$28,\"\")","v":""},{"$f":"IF(AO29=\"●\",$B$28,\"\")","v":""},{"$f":"IF(AP29=\"●\",$B$28,\"\")","v":""},{"$f":"IF(AQ29=\"●\",$B$28,\"\")","v":""},{"$f":"IF(AR29=\"●\",$B$28,\"\")","v":""},{"$f":"IF(AS29=\"●\",$B$28,\"\")","v":""},{"$f":"IF(AT29=\"●\",$B$28,\"\")","v":""},{"$f":"IF(AU29=\"●\",$B$28,\"\")","v":""},{"$f":"IF(AV29=\"●\",$B$28,\"\")","v":""},{"$f":"IF(AW29=\"●\",$B$28,\"\")","v":""},{"$f":"IF(AX29=\"●\",$B$28,\"\")","v":""},{"$f":"IF(AY29=\"●\",$B$28,\"\")","v":""},{"$f":"IF(AZ29=\"●\",$B$28,\"\")","v":""},{"$f":"IF(BA29=\"●\",$B$28,\"\")","v":""},{"$f":"IF(BB29=\"●\",$B$28,\"\")","v":""},{"$f":"IF(BC29=\"●\",$B$28,\"\")","v":""},{"$f":"IF(BD29=\"●\",$B$28,\"\")","v":""},{"$f":"IF(BE29=\"●\",$B$28,\"\")","v":""},{"$f":"IF(BF29=\"●\",$B$28,\"\")","v":""},{"$f":"IF(BG29=\"●\",$B$28,\"\")","v":""},{"$f":"IF(BH29=\"●\",$B$28,\"\")","v":""},{"$f":"IF(BI29=\"●\",$B$28,\"\")","v":""},{"$f":"IF(BJ29=\"●\",$B$28,\"\")","v":""},{"$f":"IF(BK29=\"●\",$B$28,\"\")","v":""},{"$f":"IF(BL29=\"●\",$B$28,\"\")","v":""},{"$f":"IF(BM29=\"●\",$B$28,\"\")","v":""},{"$f":"IF(BN29=\"●\",$B$28,\"\")","v":""},{"$f":"IF(BO29=\"●\",$B$28,\"\")","v":""},{"$f":"IF(BP29=\"●\",$B$28,\"\")","v":""}]
[13,{"$f":"IF(Top!C52<>\"\",Top!C52,\"\")","v":""},null,null,null,null,null,null,null,null,null,null,null,null,null,null,null,null,null,null,null,null,null,null,null,null,null,null,null,null,null,null,null,null,"",null,null,"",{"$f":"IF(C30=\"休\",\"\",IF(C30=\"訪\",\"訪：\"&$B$30,$B$30))","v":""},{"$f":"IF(D30=\"休\",\"\",IF(D30=\"訪\",\"訪：\"&$B$30,$B$30))","v":""},"","","","","","","","","","","","","","","","","","","","","","","","","","","","","","",null,null,{"$f":"IF(AK30=\"休\",\"\",IF(AK30=\"訪\",\"訪：\"&$B$30,$B$30))","v":""},{"$f":"IF(AL30=\"休\",\"\",IF(AL30=\"訪\",\"訪：\"&$B$30,$B$30))","v":""},{"$f":"IF(AM30=\"休\",\"\",IF(AM30=\"訪\",\"訪：\"&$B$30,$B$30))","v":""},{"$f":"IF(AN30=\"休\",\"\",IF(AN30=\"訪\",\"訪：\"&$B$30,$B$30))","v":""},{"$f":"IF(AO30=\"休\",\"\",IF(AO30=\"訪\",\"訪：\"&$B$30,$B$30))","v":""},{"$f":"IF(AP30=\"休\",\"\",IF(AP30=\"訪\",\"訪：\"&$B$30,$B$30))","v":""},{"$f":"IF(AQ30=\"休\",\"\",IF(AQ30=\"訪\",\"訪：\"&$B$30,$B$30))","v":""},{"$f":"IF(AR30=\"休\",\"\",IF(AR30=\"訪\",\"訪：\"&$B$30,$B$30))","v":""},{"$f":"IF(AS30=\"休\",\"\",IF(AS30=\"訪\",\"訪：\"&$B$30,$B$30))","v":""},{"$f":"IF(AT30=\"休\",\"\",IF(AT30=\"訪\",\"訪：\"&$B$30,$B$30))","v":""},{"$f":"IF(AU30=\"休\",\"\",IF(AU30=\"訪\",\"訪：\"&$B$30,$B$30))","v":""},{"$f":"IF(AV30=\"休\",\"\",IF(AV30=\"訪\",\"訪：\"&$B$30,$B$30))","v":""},{"$f":"IF(AW30=\"休\",\"\",IF(AW30=\"訪\",\"訪：\"&$B$30,$B$30))","v":""},{"$f":"IF(AX30=\"休\",\"\",IF(AX30=\"訪\",\"訪：\"&$B$30,$B$30))","v":""},{"$f":"IF(AY30=\"休\",\"\",IF(AY30=\"訪\",\"訪：\"&$B$30,$B$30))","v":""},{"$f":"IF(AZ30=\"休\",\"\",IF(AZ30=\"訪\",\"訪：\"&$B$30,$B$30))","v":""},{"$f":"IF(BA30=\"休\",\"\",IF(BA30=\"訪\",\"訪：\"&$B$30,$B$30))","v":""},{"$f":"IF(BB30=\"休\",\"\",IF(BB30=\"訪\",\"訪：\"&$B$30,$B$30))","v":""},{"$f":"IF(BC30=\"休\",\"\",IF(BC30=\"訪\",\"訪：\"&$B$30,$B$30))","v":""},{"$f":"IF(BD30=\"休\",\"\",IF(BD30=\"訪\",\"訪：\"&$B$30,$B$30))","v":""},{"$f":"IF(BE30=\"休\",\"\",IF(BE30=\"訪\",\"訪：\"&$B$30,$B$30))","v":""},{"$f":"IF(BF30=\"休\",\"\",IF(BF30=\"訪\",\"訪：\"&$B$30,$B$30))","v":""},{"$f":"IF(BG30=\"休\",\"\",IF(BG30=\"訪\",\"訪：\"&$B$30,$B$30))","v":""},{"$f":"IF(BH30=\"休\",\"\",IF(BH30=\"訪\",\"訪：\"&$B$30,$B$30))","v":""},{"$f":"IF(BI30=\"休\",\"\",IF(BI30=\"訪\",\"訪：\"&$B$30,$B$30))","v":""},{"$f":"IF(BJ30=\"休\",\"\",IF(BJ30=\"訪\",\"訪：\"&$B$30,$B$30))","v":""},{"$f":"IF(BK30=\"休\",\"\",IF(BK30=\"訪\",\"訪：\"&$B$30,$B$30))","v":""},{"$f":"IF(BL30=\"休\",\"\",IF(BL30=\"訪\",\"訪：\"&$B$30,$B$30))","v":""},{"$f":"IF(BM30=\"休\",\"\",IF(BM30=\"訪\",\"訪：\"&$B$30,$B$30))","v":""},{"$f":"IF(BN30=\"休\",\"\",IF(BN30=\"訪\",\"訪：\"&$B$30,$B$30))","v":""},{"$f":"IF(BO30=\"休\",\"\",IF(BO30=\"訪\",\"訪：\"&$B$30,$B$30))","v":""},{"$f":"IF(BP30=\"休\",\"\",IF(BP30=\"訪\",\"訪：\"&$B$30,$B$30))","v":""}]
[null,null,null,null,null,null,null,null,null,null,null,null,null,null,null,null,null,null,null,null,null,null,null,null,null,null,null,null,null,null,null,null,null,null,null,null,null,null,{"$f":"IF(C31=\"●\",$B$30,\"\")","v":""},{"$f":"IF(D31=\"●\",$B$30,\"\")","v":""},"","","","","","","","","","","","","","","","","","","","","","","","","","","","","","",null,null,{"$f":"IF(AK31=\"●\",$B$30,\"\")","v":""},{"$f":"IF(AL31=\"●\",$B$30,\"\")","v":""},{"$f":"IF(AM31=\"●\",$B$30,\"\")","v":""},{"$f":"IF(AN31=\"●\",$B$30,\"\")","v":""},{"$f":"IF(AO31=\"●\",$B$30,\"\")","v":""},{"$f":"IF(AP31=\"●\",$B$30,\"\")","v":""},{"$f":"IF(AQ31=\"●\",$B$30,\"\")","v":""},{"$f":"IF(AR31=\"●\",$B$30,\"\")","v":""},{"$f":"IF(AS31=\"●\",$B$30,\"\")","v":""},{"$f":"IF(AT31=\"●\",$B$30,\"\")","v":""},{"$f":"IF(AU31=\"●\",$B$30,\"\")","v":""},{"$f":"IF(AV31=\"●\",$B$30,\"\")","v":""},{"$f":"IF(AW31=\"●\",$B$30,\"\")","v":""},{"$f":"IF(AX31=\"●\",$B$30,\"\")","v":""},{"$f":"IF(AY31=\"●\",$B$30,\"\")","v":""},{"$f":"IF(AZ31=\"●\",$B$30,\"\")","v":""},{"$f":"IF(BA31=\"●\",$B$30,\"\")","v":""},{"$f":"IF(BB31=\"●\",$B$30,\"\")","v":""},{"$f":"IF(BC31=\"●\",$B$30,\"\")","v":""},{"$f":"IF(BD31=\"●\",$B$30,\"\")","v":""},{"$f":"IF(BE31=\"●\",$B$30,\"\")","v":""},{"$f":"IF(BF31=\"●\",$B$30,\"\")","v":""},{"$f":"IF(BG31=\"●\",$B$30,\"\")","v":""},{"$f":"IF(BH31=\"●\",$B$30,\"\")","v":""},{"$f":"IF(BI31=\"●\",$B$30,\"\")","v":""},{"$f":"IF(BJ31=\"●\",$B$30,\"\")","v":""},{"$f":"IF(BK31=\"●\",$B$30,\"\")","v":""},{"$f":"IF(BL31=\"●\",$B$30,\"\")","v":""},{"$f":"IF(BM31=\"●\",$B$30,\"\")","v":""},{"$f":"IF(BN31=\"●\",$B$30,\"\")","v":""},{"$f":"IF(BO31=\"●\",$B$30,\"\")","v":""},{"$f":"IF(BP31=\"●\",$B$30,\"\")","v":""}]
[14,{"$f":"IF(Top!C53<>\"\",Top!C53,\"\")","v":""},null,null,null,null,null,null,null,null,null,null,null,null,null,null,null,null,null,null,null,null,null,null,null,null,null,null,null,null,null,null,null,null,"",null,null,"",{"$f":"IF(C32=\"休\",\"\",IF(C32=\"訪\",\"訪：\"&$B$32,$B$32))","v":""},{"$f":"IF(D32=\"休\",\"\",IF(D32=\"訪\",\"訪：\"&$B$32,$B$32))","v":""},"","","","","","","","","","","","","","","","","","","","","","","","","","","","","","",null,null,{"$f":"IF(AK32=\"休\",\"\",IF(AK32=\"訪\",\"訪：\"&$B$32,$B$32))","v":""},{"$f":"IF(AL32=\"休\",\"\",IF(AL32=\"訪\",\"訪：\"&$B$32,$B$32))","v":""},{"$f":"IF(AM32=\"休\",\"\",IF(AM32=\"訪\",\"訪：\"&$B$32,$B$32))","v":""},{"$f":"IF(AN32=\"休\",\"\",IF(AN32=\"訪\",\"訪：\"&$B$32,$B$32))","v":""},{"$f":"IF(AO32=\"休\",\"\",IF(AO32=\"訪\",\"訪：\"&$B$32,$B$32))","v":""},{"$f":"IF(AP32=\"休\",\"\",IF(AP32=\"訪\",\"訪：\"&$B$32,$B$32))","v":""},{"$f":"IF(AQ32=\"休\",\"\",IF(AQ32=\"訪\",\"訪：\"&$B$32,$B$32))","v":""},{"$f":"IF(AR32=\"休\",\"\",IF(AR32=\"訪\",\"訪：\"&$B$32,$B$32))","v":""},{"$f":"IF(AS32=\"休\",\"\",IF(AS32=\"訪\",\"訪：\"&$B$32,$B$32))","v":""},{"$f":"IF(AT32=\"休\",\"\",IF(AT32=\"訪\",\"訪：\"&$B$32,$B$32))","v":""},{"$f":"IF(AU32=\"休\",\"\",IF(AU32=\"訪\",\"訪：\"&$B$32,$B$32))","v":""},{"$f":"IF(AV32=\"休\",\"\",IF(AV32=\"訪\",\"訪：\"&$B$32,$B$32))","v":""},{"$f":"IF(AW32=\"休\",\"\",IF(AW32=\"訪\",\"訪：\"&$B$32,$B$32))","v":""},{"$f":"IF(AX32=\"休\",\"\",IF(AX32=\"訪\",\"訪：\"&$B$32,$B$32))","v":""},{"$f":"IF(AY32=\"休\",\"\",IF(AY32=\"訪\",\"訪：\"&$B$32,$B$32))","v":""},{"$f":"IF(AZ32=\"休\",\"\",IF(AZ32=\"訪\",\"訪：\"&$B$32,$B$32))","v":""},{"$f":"IF(BA32=\"休\",\"\",IF(BA32=\"訪\",\"訪：\"&$B$32,$B$32))","v":""},{"$f":"IF(BB32=\"休\",\"\",IF(BB32=\"訪\",\"訪：\"&$B$32,$B$32))","v":""},{"$f":"IF(BC32=\"休\",\"\",IF(BC32=\"訪\",\"訪：\"&$B$32,$B$32))","v":""},{"$f":"IF(BD32=\"休\",\"\",IF(BD32=\"訪\",\"訪：\"&$B$32,$B$32))","v":""},{"$f":"IF(BE32=\"休\",\"\",IF(BE32=\"訪\",\"訪：\"&$B$32,$B$32))","v":""},{"$f":"IF(BF32=\"休\",\"\",IF(BF32=\"訪\",\"訪：\"&$B$32,$B$32))","v":""},{"$f":"IF(BG32=\"休\",\"\",IF(BG32=\"訪\",\"訪：\"&$B$32,$B$32))","v":""},{"$f":"IF(BH32=\"休\",\"\",IF(BH32=\"訪\",\"訪：\"&$B$32,$B$32))","v":""},{"$f":"IF(BI32=\"休\",\"\",IF(BI32=\"訪\",\"訪：\"&$B$32,$B$32))","v":""},{"$f":"IF(BJ32=\"休\",\"\",IF(BJ32=\"訪\",\"訪：\"&$B$32,$B$32))","v":""},{"$f":"IF(BK32=\"休\",\"\",IF(BK32=\"訪\",\"訪：\"&$B$32,$B$32))","v":""},{"$f":"IF(BL32=\"休\",\"\",IF(BL32=\"訪\",\"訪：\"&$B$32,$B$32))","v":""},{"$f":"IF(BM32=\"休\",\"\",IF(BM32=\"訪\",\"訪：\"&$B$32,$B$32))","v":""},{"$f":"IF(BN32=\"休\",\"\",IF(BN32=\"訪\",\"訪：\"&$B$32,$B$32))","v":""},{"$f":"IF(BO32=\"休\",\"\",IF(BO32=\"訪\",\"訪：\"&$B$32,$B$32))","v":""},{"$f":"IF(BP32=\"休\",\"\",IF(BP32=\"訪\",\"訪：\"&$B$32,$B$32))","v":""}]
[null,null,null,null,null,null,null,null,null,null,null,null,null,null,null,null,null,null,null,null,null,null,null,null,null,null,null,null,null,null,null,null,null,null,null,null,null,null,{"$f":"IF(C33=\"●\",$B$32,\"\")","v":""},"","","","","","","","","","","","","","","","","","","","","","","","","","","","","","","",null,null,{"$f":"IF(AK33=\"●\",$B$32,\"\")","v":""},{"$f":"IF(AL33=\"●\",$B$32,\"\")","v":""},{"$f":"IF(AM33=\"●\",$B$32,\"\")","v":""},{"$f":"IF(AN33=\"●\",$B$32,\"\")","v":""},{"$f":"IF(AO33=\"●\",$B$32,\"\")","v":""},{"$f":"IF(AP33=\"●\",$B$32,\"\")","v":""},{"$f":"IF(AQ33=\"●\",$B$32,\"\")","v":""},{"$f":"IF(AR33=\"●\",$B$32,\"\")","v":""},{"$f":"IF(AS33=\"●\",$B$32,\"\")","v":""},{"$f":"IF(AT33=\"●\",$B$32,\"\")","v":""},{"$f":"IF(AU33=\"●\",$B$32,\"\")","v":""},{"$f":"IF(AV33=\"●\",$B$32,\"\")","v":""},{"$f":"IF(AW33=\"●\",$B$32,\"\")","v":""},{"$f":"IF(AX33=\"●\",$B$32,\"\")","v":""},{"$f":"IF(AY33=\"●\",$B$32,\"\")","v":""},{"$f":"IF(AZ33=\"●\",$B$32,\"\")","v":""},{"$f":"IF(BA33=\"●\",$B$32,\"\")","v":""},{"$f":"IF(BB33=\"●\",$B$32,\"\")","v":""},{"$f":"IF(BC33=\"●\",$B$32,\"\")","v":""},{"$f":"IF(BD33=\"●\",$B$32,\"\")","v":""},{"$f":"IF(BE33=\"●\",$B$32,\"\")","v":""},{"$f":"IF(BF33=\"●\",$B$32,\"\")","v":""},{"$f":"IF(BG33=\"●\",$B$32,\"\")","v":""},{"$f":"IF(BH33=\"●\",$B$32,\"\")","v":""},{"$f":"IF(BI33=\"●\",$B$32,\"\")","v":""},{"$f":"IF(BJ33=\"●\",$B$32,\"\")","v":""},{"$f":"IF(BK33=\"●\",$B$32,\"\")","v":""},{"$f":"IF(BL33=\"●\",$B$32,\"\")","v":""},{"$f":"IF(BM33=\"●\",$B$32,\"\")","v":""},{"$f":"IF(BN33=\"●\",$B$32,\"\")","v":""},{"$f":"IF(BO33=\"●\",$B$32,\"\")","v":""},{"$f":"IF(BP33=\"●\",$B$32,\"\")","v":""}]
[15,{"$f":"IF(Top!C54<>\"\",Top!C54,\"\")","v":""},null,null,null,null,null,null,null,null,null,null,null,null,null,null,null,null,null,null,null,null,null,null,null,null,null,null,null,null,null,null,null,null,"",null,null,"",{"$f":"IF(C34=\"休\",\"\",IF(C34=\"訪\",\"訪：\"&$B$34,$B$34))","v":""},{"$f":"IF(D34=\"休\",\"\",IF(D34=\"訪\",\"訪：\"&$B$34,$B$34))","v":""},"","","","","","","","","","","","","","","","","","","","","","","","","","","","","","",null,null,{"$f":"IF(AK34=\"休\",\"\",IF(AK34=\"訪\",\"訪：\"&$B$34,$B$34))","v":""},{"$f":"IF(AL34=\"休\",\"\",IF(AL34=\"訪\",\"訪：\"&$B$34,$B$34))","v":""},{"$f":"IF(AM34=\"休\",\"\",IF(AM34=\"訪\",\"訪：\"&$B$34,$B$34))","v":""},{"$f":"IF(AN34=\"休\",\"\",IF(AN34=\"訪\",\"訪：\"&$B$34,$B$34))","v":""},{"$f":"IF(AO34=\"休\",\"\",IF(AO34=\"訪\",\"訪：\"&$B$34,$B$34))","v":""},{"$f":"IF(AP34=\"休\",\"\",IF(AP34=\"訪\",\"訪：\"&$B$34,$B$34))","v":""},{"$f":"IF(AQ34=\"休\",\"\",IF(AQ34=\"訪\",\"訪：\"&$B$34,$B$34))","v":""},{"$f":"IF(AR34=\"休\",\"\",IF(AR34=\"訪\",\"訪：\"&$B$34,$B$34))","v":""},{"$f":"IF(AS34=\"休\",\"\",IF(AS34=\"訪\",\"訪：\"&$B$34,$B$34))","v":""},{"$f":"IF(AT34=\"休\",\"\",IF(AT34=\"訪\",\"訪：\"&$B$34,$B$34))","v":""},{"$f":"IF(AU34=\"休\",\"\",IF(AU34=\"訪\",\"訪：\"&$B$34,$B$34))","v":""},{"$f":"IF(AV34=\"休\",\"\",IF(AV34=\"訪\",\"訪：\"&$B$34,$B$34))","v":""},{"$f":"IF(AW34=\"休\",\"\",IF(AW34=\"訪\",\"訪：\"&$B$34,$B$34))","v":""},{"$f":"IF(AX34=\"休\",\"\",IF(AX34=\"訪\",\"訪：\"&$B$34,$B$34))","v":""},{"$f":"IF(AY34=\"休\",\"\",IF(AY34=\"訪\",\"訪：\"&$B$34,$B$34))","v":""},{"$f":"IF(AZ34=\"休\",\"\",IF(AZ34=\"訪\",\"訪：\"&$B$34,$B$34))","v":""},{"$f":"IF(BA34=\"休\",\"\",IF(BA34=\"訪\",\"訪：\"&$B$34,$B$34))","v":""},{"$f":"IF(BB34=\"休\",\"\",IF(BB34=\"訪\",\"訪：\"&$B$34,$B$34))","v":""},{"$f":"IF(BC34=\"休\",\"\",IF(BC34=\"訪\",\"訪：\"&$B$34,$B$34))","v":""},{"$f":"IF(BD34=\"休\",\"\",IF(BD34=\"訪\",\"訪：\"&$B$34,$B$34))","v":""},{"$f":"IF(BE34=\"休\",\"\",IF(BE34=\"訪\",\"訪：\"&$B$34,$B$34))","v":""},{"$f":"IF(BF34=\"休\",\"\",IF(BF34=\"訪\",\"訪：\"&$B$34,$B$34))","v":""},{"$f":"IF(BG34=\"休\",\"\",IF(BG34=\"訪\",\"訪：\"&$B$34,$B$34))","v":""},{"$f":"IF(BH34=\"休\",\"\",IF(BH34=\"訪\",\"訪：\"&$B$34,$B$34))","v":""},{"$f":"IF(BI34=\"休\",\"\",IF(BI34=\"訪\",\"訪：\"&$B$34,$B$34))","v":""},{"$f":"IF(BJ34=\"休\",\"\",IF(BJ34=\"訪\",\"訪：\"&$B$34,$B$34))","v":""},{"$f":"IF(BK34=\"休\",\"\",IF(BK34=\"訪\",\"訪：\"&$B$34,$B$34))","v":""},{"$f":"IF(BL34=\"休\",\"\",IF(BL34=\"訪\",\"訪：\"&$B$34,$B$34))","v":""},{"$f":"IF(BM34=\"休\",\"\",IF(BM34=\"訪\",\"訪：\"&$B$34,$B$34))","v":""},{"$f":"IF(BN34=\"休\",\"\",IF(BN34=\"訪\",\"訪：\"&$B$34,$B$34))","v":""},{"$f":"IF(BO34=\"休\",\"\",IF(BO34=\"訪\",\"訪：\"&$B$34,$B$34))","v":""},{"$f":"IF(BP34=\"休\",\"\",IF(BP34=\"訪\",\"訪：\"&$B$34,$B$34))","v":""}]
[null,null,null,null,null,null,null,null,null,null,null,null,null,null,null,null,null,null,null,null,null,null,null,null,null,null,null,null,null,null,null,null,null,null,null,null,null,null,{"$f":"IF(C35=\"●\",$B$34,\"\")","v":""},{"$f":"IF(D35=\"●\",$B$34,\"\")","v":""},"","","","","","","","","","","","","","","","","","","","","","","","","","","","","","",null,null,{"$f":"IF(AK35=\"●\",$B$34,\"\")","v":""},{"$f":"IF(AL35=\"●\",$B$34,\"\")","v":""},{"$f":"IF(AM35=\"●\",$B$34,\"\")","v":""},{"$f":"IF(AN35=\"●\",$B$34,\"\")","v":""},{"$f":"IF(AO35=\"●\",$B$34,\"\")","v":""},{"$f":"IF(AP35=\"●\",$B$34,\"\")","v":""},{"$f":"IF(AQ35=\"●\",$B$34,\"\")","v":""},{"$f":"IF(AR35=\"●\",$B$34,\"\")","v":""},{"$f":"IF(AS35=\"●\",$B$34,\"\")","v":""},{"$f":"IF(AT35=\"●\",$B$34,\"\")","v":""},{"$f":"IF(AU35=\"●\",$B$34,\"\")","v":""},{"$f":"IF(AV35=\"●\",$B$34,\"\")","v":""},{"$f":"IF(AW35=\"●\",$B$34,\"\")","v":""},{"$f":"IF(AX35=\"●\",$B$34,\"\")","v":""},{"$f":"IF(AY35=\"●\",$B$34,\"\")","v":""},{"$f":"IF(AZ35=\"●\",$B$34,\"\")","v":""},{"$f":"IF(BA35=\"●\",$B$34,\"\")","v":""},{"$f":"IF(BB35=\"●\",$B$34,\"\")","v":""},{"$f":"IF(BC35=\"●\",$B$34,\"\")","v":""},{"$f":"IF(BD35=\"●\",$B$34,\"\")","v":""},{"$f":"IF(BE35=\"●\",$B$34,\"\")","v":""},{"$f":"IF(BF35=\"●\",$B$34,\"\")","v":""},{"$f":"IF(BG35=\"●\",$B$34,\"\")","v":""},{"$f":"IF(BH35=\"●\",$B$34,\"\")","v":""},{"$f":"IF(BI35=\"●\",$B$34,\"\")","v":""},{"$f":"IF(BJ35=\"●\",$B$34,\"\")","v":""},{"$f":"IF(BK35=\"●\",$B$34,\"\")","v":""},{"$f":"IF(BL35=\"●\",$B$34,\"\")","v":""},{"$f":"IF(BM35=\"●\",$B$34,\"\")","v":""},{"$f":"IF(BN35=\"●\",$B$34,\"\")","v":""},{"$f":"IF(BO35=\"●\",$B$34,\"\")","v":""},{"$f":"IF(BP35=\"●\",$B$34,\"\")","v":""}]
[16,{"$f":"IF(Top!C55<>\"\",Top!C55,\"\")","v":""},null,null,null,null,null,null,null,null,null,null,null,null,null,null,null,null,null,null,null,null,null,null,null,null,null,null,null,null,null,null,null,null,{"$f":"LEFT(B36,2)","v":""},null,null,{"$f":"B36","v":""},{"$f":"IF(C36=\"休\",\"\",IF(C36=\"訪\",\"訪：\"&$B$36,$B$36))","v":""},{"$f":"IF(D36=\"休\",\"\",IF(D36=\"訪\",\"訪：\"&$B$36,$B$36))","v":""},"","","","","","","","","","","","","","","","","","","","","","","","","","","","","","",null,null,{"$f":"IF(AK36=\"休\",\"\",IF(AK36=\"訪\",\"訪：\"&$B$36,$B$36))","v":""},{"$f":"IF(AL36=\"休\",\"\",IF(AL36=\"訪\",\"訪：\"&$B$36,$B$36))","v":""},{"$f":"IF(AM36=\"休\",\"\",IF(AM36=\"訪\",\"訪：\"&$B$36,$B$36))","v":""},{"$f":"IF(AN36=\"休\",\"\",IF(AN36=\"訪\",\"訪：\"&$B$36,$B$36))","v":""},{"$f":"IF(AO36=\"休\",\"\",IF(AO36=\"訪\",\"訪：\"&$B$36,$B$36))","v":""},{"$f":"IF(AP36=\"休\",\"\",IF(AP36=\"訪\",\"訪：\"&$B$36,$B$36))","v":""},{"$f":"IF(AQ36=\"休\",\"\",IF(AQ36=\"訪\",\"訪：\"&$B$36,$B$36))","v":""},{"$f":"IF(AR36=\"休\",\"\",IF(AR36=\"訪\",\"訪：\"&$B$36,$B$36))","v":""},{"$f":"IF(AS36=\"休\",\"\",IF(AS36=\"訪\",\"訪：\"&$B$36,$B$36))","v":""},{"$f":"IF(AT36=\"休\",\"\",IF(AT36=\"訪\",\"訪：\"&$B$36,$B$36))","v":""},{"$f":"IF(AU36=\"休\",\"\",IF(AU36=\"訪\",\"訪：\"&$B$36,$B$36))","v":""},{"$f":"IF(AV36=\"休\",\"\",IF(AV36=\"訪\",\"訪：\"&$B$36,$B$36))","v":""},{"$f":"IF(AW36=\"休\",\"\",IF(AW36=\"訪\",\"訪：\"&$B$36,$B$36))","v":""},{"$f":"IF(AX36=\"休\",\"\",IF(AX36=\"訪\",\"訪：\"&$B$36,$B$36))","v":""},{"$f":"IF(AY36=\"休\",\"\",IF(AY36=\"訪\",\"訪：\"&$B$36,$B$36))","v":""},{"$f":"IF(AZ36=\"休\",\"\",IF(AZ36=\"訪\",\"訪：\"&$B$36,$B$36))","v":""},{"$f":"IF(BA36=\"休\",\"\",IF(BA36=\"訪\",\"訪：\"&$B$36,$B$36))","v":""},{"$f":"IF(BB36=\"休\",\"\",IF(BB36=\"訪\",\"訪：\"&$B$36,$B$36))","v":""},{"$f":"IF(BC36=\"休\",\"\",IF(BC36=\"訪\",\"訪：\"&$B$36,$B$36))","v":""},{"$f":"IF(BD36=\"休\",\"\",IF(BD36=\"訪\",\"訪：\"&$B$36,$B$36))","v":""},{"$f":"IF(BE36=\"休\",\"\",IF(BE36=\"訪\",\"訪：\"&$B$36,$B$36))","v":""},{"$f":"IF(BF36=\"休\",\"\",IF(BF36=\"訪\",\"訪：\"&$B$36,$B$36))","v":""},{"$f":"IF(BG36=\"休\",\"\",IF(BG36=\"訪\",\"訪：\"&$B$36,$B$36))","v":""},{"$f":"IF(BH36=\"休\",\"\",IF(BH36=\"訪\",\"訪：\"&$B$36,$B$36))","v":""},{"$f":"IF(BI36=\"休\",\"\",IF(BI36=\"訪\",\"訪：\"&$B$36,$B$36))","v":""},{"$f":"IF(BJ36=\"休\",\"\",IF(BJ36=\"訪\",\"訪：\"&$B$36,$B$36))","v":""},{"$f":"IF(BK36=\"休\",\"\",IF(BK36=\"訪\",\"訪：\"&$B$36,$B$36))","v":""},{"$f":"IF(BL36=\"休\",\"\",IF(BL36=\"訪\",\"訪：\"&$B$36,$B$36))","v":""},{"$f":"IF(BM36=\"休\",\"\",IF(BM36=\"訪\",\"訪：\"&$B$36,$B$36))","v":""},{"$f":"IF(BN36=\"休\",\"\",IF(BN36=\"訪\",\"訪：\"&$B$36,$B$36))","v":""},{"$f":"IF(BO36=\"休\",\"\",IF(BO36=\"訪\",\"訪：\"&$B$36,$B$36))","v":""},{"$f":"IF(BP36=\"休\",\"\",IF(BP36=\"訪\",\"訪：\"&$B$36,$B$36))","v":""}]
[null,null,null,null,null,null,null,null,null,null,null,null,null,null,null,null,null,null,null,null,null,null,null,null,null,null,null,null,null,null,null,null,null,null,null,null,null,null,{"$f":"IF(C37=\"●\",$B$36,\"\")","v":""},"","","","","","","","","","","","","","","","","","","","","","","","","","","","","","","",null,null,{"$f":"IF(AK37=\"●\",$B$36,\"\")","v":""},{"$f":"IF(AL37=\"●\",$B$36,\"\")","v":""},{"$f":"IF(AM37=\"●\",$B$36,\"\")","v":""},{"$f":"IF(AN37=\"●\",$B$36,\"\")","v":""},{"$f":"IF(AO37=\"●\",$B$36,\"\")","v":""},{"$f":"IF(AP37=\"●\",$B$36,\"\")","v":""},{"$f":"IF(AQ37=\"●\",$B$36,\"\")","v":""},{"$f":"IF(AR37=\"●\",$B$36,\"\")","v":""},{"$f":"IF(AS37=\"●\",$B$36,\"\")","v":""},{"$f":"IF(AT37=\"●\",$B$36,\"\")","v":""},{"$f":"IF(AU37=\"●\",$B$36,\"\")","v":""},{"$f":"IF(AV37=\"●\",$B$36,\"\")","v":""},{"$f":"IF(AW37=\"●\",$B$36,\"\")","v":""},{"$f":"IF(AX37=\"●\",$B$36,\"\")","v":""},{"$f":"IF(AY37=\"●\",$B$36,\"\")","v":""},{"$f":"IF(AZ37=\"●\",$B$36,\"\")","v":""},{"$f":"IF(BA37=\"●\",$B$36,\"\")","v":""},{"$f":"IF(BB37=\"●\",$B$36,\"\")","v":""},{"$f":"IF(BC37=\"●\",$B$36,\"\")","v":""},{"$f":"IF(BD37=\"●\",$B$36,\"\")","v":""},{"$f":"IF(BE37=\"●\",$B$36,\"\")","v":""},{"$f":"IF(BF37=\"●\",$B$36,\"\")","v":""},{"$f":"IF(BG37=\"●\",$B$36,\"\")","v":""},{"$f":"IF(BH37=\"●\",$B$36,\"\")","v":""},{"$f":"IF(BI37=\"●\",$B$36,\"\")","v":""},{"$f":"IF(BJ37=\"●\",$B$36,\"\")","v":""},{"$f":"IF(BK37=\"●\",$B$36,\"\")","v":""},{"$f":"IF(BL37=\"●\",$B$36,\"\")","v":""},{"$f":"IF(BM37=\"●\",$B$36,\"\")","v":""},{"$f":"IF(BN37=\"●\",$B$36,\"\")","v":""},{"$f":"IF(BO37=\"●\",$B$36,\"\")","v":""},{"$f":"IF(BP37=\"●\",$B$36,\"\")","v":""}]
[17,{"$f":"IF(Top!C56<>\"\",Top!C56,\"\")","v":""},null,null,null,null,null,null,null,null,null,null,null,null,null,null,null,null,null,null,null,null,null,null,null,null,null,null,null,null,null,null,null,null,"",null,null,"",{"$f":"IF(C38=\"休\",\"\",IF(C38=\"訪\",\"訪：\"&$B$38,$B$38))","v":""},{"$f":"IF(D38=\"休\",\"\",IF(D38=\"訪\",\"訪：\"&$B$38,$B$38))","v":""},"","","","","","","","","","","","","","","","","","","","","","","","","","","","","","",null,null,{"$f":"IF(AK38=\"休\",\"\",IF(AK38=\"訪\",\"訪：\"&$B$38,$B$38))","v":""},{"$f":"IF(AL38=\"休\",\"\",IF(AL38=\"訪\",\"訪：\"&$B$38,$B$38))","v":""},{"$f":"IF(AM38=\"休\",\"\",IF(AM38=\"訪\",\"訪：\"&$B$38,$B$38))","v":""},{"$f":"IF(AN38=\"休\",\"\",IF(AN38=\"訪\",\"訪：\"&$B$38,$B$38))","v":""},{"$f":"IF(AO38=\"休\",\"\",IF(AO38=\"訪\",\"訪：\"&$B$38,$B$38))","v":""},{"$f":"IF(AP38=\"休\",\"\",IF(AP38=\"訪\",\"訪：\"&$B$38,$B$38))","v":""},{"$f":"IF(AQ38=\"休\",\"\",IF(AQ38=\"訪\",\"訪：\"&$B$38,$B$38))","v":""},{"$f":"IF(AR38=\"休\",\"\",IF(AR38=\"訪\",\"訪：\"&$B$38,$B$38))","v":""},{"$f":"IF(AS38=\"休\",\"\",IF(AS38=\"訪\",\"訪：\"&$B$38,$B$38))","v":""},{"$f":"IF(AT38=\"休\",\"\",IF(AT38=\"訪\",\"訪：\"&$B$38,$B$38))","v":""},{"$f":"IF(AU38=\"休\",\"\",IF(AU38=\"訪\",\"訪：\"&$B$38,$B$38))","v":""},{"$f":"IF(AV38=\"休\",\"\",IF(AV38=\"訪\",\"訪：\"&$B$38,$B$38))","v":""},{"$f":"IF(AW38=\"休\",\"\",IF(AW38=\"訪\",\"訪：\"&$B$38,$B$38))","v":""},{"$f":"IF(AX38=\"休\",\"\",IF(AX38=\"訪\",\"訪：\"&$B$38,$B$38))","v":""},{"$f":"IF(AY38=\"休\",\"\",IF(AY38=\"訪\",\"訪：\"&$B$38,$B$38))","v":""},{"$f":"IF(AZ38=\"休\",\"\",IF(AZ38=\"訪\",\"訪：\"&$B$38,$B$38))","v":""},{"$f":"IF(BA38=\"休\",\"\",IF(BA38=\"訪\",\"訪：\"&$B$38,$B$38))","v":""},{"$f":"IF(BB38=\"休\",\"\",IF(BB38=\"訪\",\"訪：\"&$B$38,$B$38))","v":""},{"$f":"IF(BC38=\"休\",\"\",IF(BC38=\"訪\",\"訪：\"&$B$38,$B$38))","v":""},{"$f":"IF(BD38=\"休\",\"\",IF(BD38=\"訪\",\"訪：\"&$B$38,$B$38))","v":""},{"$f":"IF(BE38=\"休\",\"\",IF(BE38=\"訪\",\"訪：\"&$B$38,$B$38))","v":""},{"$f":"IF(BF38=\"休\",\"\",IF(BF38=\"訪\",\"訪：\"&$B$38,$B$38))","v":""},{"$f":"IF(BG38=\"休\",\"\",IF(BG38=\"訪\",\"訪：\"&$B$38,$B$38))","v":""},{"$f":"IF(BH38=\"休\",\"\",IF(BH38=\"訪\",\"訪：\"&$B$38,$B$38))","v":""},{"$f":"IF(BI38=\"休\",\"\",IF(BI38=\"訪\",\"訪：\"&$B$38,$B$38))","v":""},{"$f":"IF(BJ38=\"休\",\"\",IF(BJ38=\"訪\",\"訪：\"&$B$38,$B$38))","v":""},{"$f":"IF(BK38=\"休\",\"\",IF(BK38=\"訪\",\"訪：\"&$B$38,$B$38))","v":""},{"$f":"IF(BL38=\"休\",\"\",IF(BL38=\"訪\",\"訪：\"&$B$38,$B$38))","v":""},{"$f":"IF(BM38=\"休\",\"\",IF(BM38=\"訪\",\"訪：\"&$B$38,$B$38))","v":""},{"$f":"IF(BN38=\"休\",\"\",IF(BN38=\"訪\",\"訪：\"&$B$38,$B$38))","v":""},{"$f":"IF(BO38=\"休\",\"\",IF(BO38=\"訪\",\"訪：\"&$B$38,$B$38))","v":""},{"$f":"IF(BP38=\"休\",\"\",IF(BP38=\"訪\",\"訪：\"&$B$38,$B$38))","v":""}]
[null,null,null,null,null,null,null,null,null,null,null,null,null,null,null,null,null,null,null,null,null,null,null,null,null,null,null,null,null,null,null,null,null,null,null,null,null,null,{"$f":"IF(C39=\"●\",$B$38,\"\")","v":""},{"$f":"IF(D39=\"●\",$B$38,\"\")","v":""},"","","","","","","","","","","","","","","","","","","","","","","","","","","","","","",null,null,{"$f":"IF(AK39=\"●\",$B$38,\"\")","v":""},{"$f":"IF(AL39=\"●\",$B$38,\"\")","v":""},{"$f":"IF(AM39=\"●\",$B$38,\"\")","v":""},{"$f":"IF(AN39=\"●\",$B$38,\"\")","v":""},{"$f":"IF(AO39=\"●\",$B$38,\"\")","v":""},{"$f":"IF(AP39=\"●\",$B$38,\"\")","v":""},{"$f":"IF(AQ39=\"●\",$B$38,\"\")","v":""},{"$f":"IF(AR39=\"●\",$B$38,\"\")","v":""},{"$f":"IF(AS39=\"●\",$B$38,\"\")","v":""},{"$f":"IF(AT39=\"●\",$B$38,\"\")","v":""},{"$f":"IF(AU39=\"●\",$B$38,\"\")","v":""},{"$f":"IF(AV39=\"●\",$B$38,\"\")","v":""},{"$f":"IF(AW39=\"●\",$B$38,\"\")","v":""},{"$f":"IF(AX39=\"●\",$B$38,\"\")","v":""},{"$f":"IF(AY39=\"●\",$B$38,\"\")","v":""},{"$f":"IF(AZ39=\"●\",$B$38,\"\")","v":""},{"$f":"IF(BA39=\"●\",$B$38,\"\")","v":""},{"$f":"IF(BB39=\"●\",$B$38,\"\")","v":""},{"$f":"IF(BC39=\"●\",$B$38,\"\")","v":""},{"$f":"IF(BD39=\"●\",$B$38,\"\")","v":""},{"$f":"IF(BE39=\"●\",$B$38,\"\")","v":""},{"$f":"IF(BF39=\"●\",$B$38,\"\")","v":""},{"$f":"IF(BG39=\"●\",$B$38,\"\")","v":""},{"$f":"IF(BH39=\"●\",$B$38,\"\")","v":""},{"$f":"IF(BI39=\"●\",$B$38,\"\")","v":""},{"$f":"IF(BJ39=\"●\",$B$38,\"\")","v":""},{"$f":"IF(BK39=\"●\",$B$38,\"\")","v":""},{"$f":"IF(BL39=\"●\",$B$38,\"\")","v":""},{"$f":"IF(BM39=\"●\",$B$38,\"\")","v":""},{"$f":"IF(BN39=\"●\",$B$38,\"\")","v":""},{"$f":"IF(BO39=\"●\",$B$38,\"\")","v":""},{"$f":"IF(BP39=\"●\",$B$38,\"\")","v":""}]
[18,{"$f":"IF(Top!C57<>\"\",Top!C57,\"\")","v":""},null,null,null,null,null,null,null,null,null,null,null,null,null,null,null,null,null,null,null,null,null,null,null,null,null,null,null,null,null,null,null,null,"",null,null,"",{"$f":"IF(C40=\"休\",\"\",IF(C40=\"訪\",\"訪：\"&$B$40,$B$40))","v":""},{"$f":"IF(D40=\"休\",\"\",IF(D40=\"訪\",\"訪：\"&$B$40,$B$40))","v":""},"","","","","","","","","","","","","","","","","","","","","","","","","","","","","","",null,null,{"$f":"IF(AK40=\"休\",\"\",IF(AK40=\"訪\",\"訪：\"&$B$40,$B$40))","v":""},{"$f":"IF(AL40=\"休\",\"\",IF(AL40=\"訪\",\"訪：\"&$B$40,$B$40))","v":""},{"$f":"IF(AM40=\"休\",\"\",IF(AM40=\"訪\",\"訪：\"&$B$40,$B$40))","v":""},{"$f":"IF(AN40=\"休\",\"\",IF(AN40=\"訪\",\"訪：\"&$B$40,$B$40))","v":""},{"$f":"IF(AO40=\"休\",\"\",IF(AO40=\"訪\",\"訪：\"&$B$40,$B$40))","v":""},{"$f":"IF(AP40=\"休\",\"\",IF(AP40=\"訪\",\"訪：\"&$B$40,$B$40))","v":""},{"$f":"IF(AQ40=\"休\",\"\",IF(AQ40=\"訪\",\"訪：\"&$B$40,$B$40))","v":""},{"$f":"IF(AR40=\"休\",\"\",IF(AR40=\"訪\",\"訪：\"&$B$40,$B$40))","v":""},{"$f":"IF(AS40=\"休\",\"\",IF(AS40=\"訪\",\"訪：\"&$B$40,$B$40))","v":""},{"$f":"IF(AT40=\"休\",\"\",IF(AT40=\"訪\",\"訪：\"&$B$40,$B$40))","v":""},{"$f":"IF(AU40=\"休\",\"\",IF(AU40=\"訪\",\"訪：\"&$B$40,$B$40))","v":""},{"$f":"IF(AV40=\"休\",\"\",IF(AV40=\"訪\",\"訪：\"&$B$40,$B$40))","v":""},{"$f":"IF(AW40=\"休\",\"\",IF(AW40=\"訪\",\"訪：\"&$B$40,$B$40))","v":""},{"$f":"IF(AX40=\"休\",\"\",IF(AX40=\"訪\",\"訪：\"&$B$40,$B$40))","v":""},{"$f":"IF(AY40=\"休\",\"\",IF(AY40=\"訪\",\"訪：\"&$B$40,$B$40))","v":""},{"$f":"IF(AZ40=\"休\",\"\",IF(AZ40=\"訪\",\"訪：\"&$B$40,$B$40))","v":""},{"$f":"IF(BA40=\"休\",\"\",IF(BA40=\"訪\",\"訪：\"&$B$40,$B$40))","v":""},{"$f":"IF(BB40=\"休\",\"\",IF(BB40=\"訪\",\"訪：\"&$B$40,$B$40))","v":""},{"$f":"IF(BC40=\"休\",\"\",IF(BC40=\"訪\",\"訪：\"&$B$40,$B$40))","v":""},{"$f":"IF(BD40=\"休\",\"\",IF(BD40=\"訪\",\"訪：\"&$B$40,$B$40))","v":""},{"$f":"IF(BE40=\"休\",\"\",IF(BE40=\"訪\",\"訪：\"&$B$40,$B$40))","v":""},{"$f":"IF(BF40=\"休\",\"\",IF(BF40=\"訪\",\"訪：\"&$B$40,$B$40))","v":""},{"$f":"IF(BG40=\"休\",\"\",IF(BG40=\"訪\",\"訪：\"&$B$40,$B$40))","v":""},{"$f":"IF(BH40=\"休\",\"\",IF(BH40=\"訪\",\"訪：\"&$B$40,$B$40))","v":""},{"$f":"IF(BI40=\"休\",\"\",IF(BI40=\"訪\",\"訪：\"&$B$40,$B$40))","v":""},{"$f":"IF(BJ40=\"休\",\"\",IF(BJ40=\"訪\",\"訪：\"&$B$40,$B$40))","v":""},{"$f":"IF(BK40=\"休\",\"\",IF(BK40=\"訪\",\"訪：\"&$B$40,$B$40))","v":""},{"$f":"IF(BL40=\"休\",\"\",IF(BL40=\"訪\",\"訪：\"&$B$40,$B$40))","v":""},{"$f":"IF(BM40=\"休\",\"\",IF(BM40=\"訪\",\"訪：\"&$B$40,$B$40))","v":""},{"$f":"IF(BN40=\"休\",\"\",IF(BN40=\"訪\",\"訪：\"&$B$40,$B$40))","v":""},{"$f":"IF(BO40=\"休\",\"\",IF(BO40=\"訪\",\"訪：\"&$B$40,$B$40))","v":""},{"$f":"IF(BP40=\"休\",\"\",IF(BP40=\"訪\",\"訪：\"&$B$40,$B$40))","v":""}]
[null,null,null,null,null,null,null,null,null,null,null,null,null,null,null,null,null,null,null,null,null,null,null,null,null,null,null,null,null,null,null,null,null,null,null,null,null,null,{"$f":"IF(C41=\"●\",$B$40,\"\")","v":""},{"$f":"IF(D41=\"●\",$B$40,\"\")","v":""},"","","","","","","","","","","","","","","","","","","","","","","","","","","","","","",null,null,{"$f":"IF(AK41=\"●\",$B$40,\"\")","v":""},{"$f":"IF(AL41=\"●\",$B$40,\"\")","v":""},{"$f":"IF(AM41=\"●\",$B$40,\"\")","v":""},{"$f":"IF(AN41=\"●\",$B$40,\"\")","v":""},{"$f":"IF(AO41=\"●\",$B$40,\"\")","v":""},{"$f":"IF(AP41=\"●\",$B$40,\"\")","v":""},{"$f":"IF(AQ41=\"●\",$B$40,\"\")","v":""},{"$f":"IF(AR41=\"●\",$B$40,\"\")","v":""},{"$f":"IF(AS41=\"●\",$B$40,\"\")","v":""},{"$f":"IF(AT41=\"●\",$B$40,\"\")","v":""},{"$f":"IF(AU41=\"●\",$B$40,\"\")","v":""},{"$f":"IF(AV41=\"●\",$B$40,\"\")","v":""},{"$f":"IF(AW41=\"●\",$B$40,\"\")","v":""},{"$f":"IF(AX41=\"●\",$B$40,\"\")","v":""},{"$f":"IF(AY41=\"●\",$B$40,\"\")","v":""},{"$f":"IF(AZ41=\"●\",$B$40,\"\")","v":""},{"$f":"IF(BA41=\"●\",$B$40,\"\")","v":""},{"$f":"IF(BB41=\"●\",$B$40,\"\")","v":""},{"$f":"IF(BC41=\"●\",$B$40,\"\")","v":""},{"$f":"IF(BD41=\"●\",$B$40,\"\")","v":""},{"$f":"IF(BE41=\"●\",$B$40,\"\")","v":""},{"$f":"IF(BF41=\"●\",$B$40,\"\")","v":""},{"$f":"IF(BG41=\"●\",$B$40,\"\")","v":""},{"$f":"IF(BH41=\"●\",$B$40,\"\")","v":""},{"$f":"IF(BI41=\"●\",$B$40,\"\")","v":""},{"$f":"IF(BJ41=\"●\",$B$40,\"\")","v":""},{"$f":"IF(BK41=\"●\",$B$40,\"\")","v":""},{"$f":"IF(BL41=\"●\",$B$40,\"\")","v":""},{"$f":"IF(BM41=\"●\",$B$40,\"\")","v":""},{"$f":"IF(BN41=\"●\",$B$40,\"\")","v":""},{"$f":"IF(BO41=\"●\",$B$40,\"\")","v":""},{"$f":"IF(BP41=\"●\",$B$40,\"\")","v":""}]
[19,{"$f":"IF(Top!C58<>\"\",Top!C58,\"\")","v":""},null,null,null,null,null,null,null,null,null,null,null,null,null,null,null,null,null,null,null,null,null,null,null,null,null,null,null,null,null,null,null,null,"",null,null,"",{"$f":"IF(C42=\"休\",\"\",IF(C42=\"訪\",\"訪：\"&$B$42,$B$42))","v":""},{"$f":"IF(D42=\"休\",\"\",IF(D42=\"訪\",\"訪：\"&$B$42,$B$42))","v":""},"","","","","","","","","","","","","","","","","","","","","","","","","","","","","","",null,null,{"$f":"IF(AK42=\"休\",\"\",IF(AK42=\"訪\",\"訪：\"&$B$42,$B$42))","v":""},{"$f":"IF(AL42=\"休\",\"\",IF(AL42=\"訪\",\"訪：\"&$B$42,$B$42))","v":""},{"$f":"IF(AM42=\"休\",\"\",IF(AM42=\"訪\",\"訪：\"&$B$42,$B$42))","v":""},{"$f":"IF(AN42=\"休\",\"\",IF(AN42=\"訪\",\"訪：\"&$B$42,$B$42))","v":""},{"$f":"IF(AO42=\"休\",\"\",IF(AO42=\"訪\",\"訪：\"&$B$42,$B$42))","v":""},{"$f":"IF(AP42=\"休\",\"\",IF(AP42=\"訪\",\"訪：\"&$B$42,$B$42))","v":""},{"$f":"IF(AQ42=\"休\",\"\",IF(AQ42=\"訪\",\"訪：\"&$B$42,$B$42))","v":""},{"$f":"IF(AR42=\"休\",\"\",IF(AR42=\"訪\",\"訪：\"&$B$42,$B$42))","v":""},{"$f":"IF(AS42=\"休\",\"\",IF(AS42=\"訪\",\"訪：\"&$B$42,$B$42))","v":""},{"$f":"IF(AT42=\"休\",\"\",IF(AT42=\"訪\",\"訪：\"&$B$42,$B$42))","v":""},{"$f":"IF(AU42=\"休\",\"\",IF(AU42=\"訪\",\"訪：\"&$B$42,$B$42))","v":""},{"$f":"IF(AV42=\"休\",\"\",IF(AV42=\"訪\",\"訪：\"&$B$42,$B$42))","v":""},{"$f":"IF(AW42=\"休\",\"\",IF(AW42=\"訪\",\"訪：\"&$B$42,$B$42))","v":""},{"$f":"IF(AX42=\"休\",\"\",IF(AX42=\"訪\",\"訪：\"&$B$42,$B$42))","v":""},{"$f":"IF(AY42=\"休\",\"\",IF(AY42=\"訪\",\"訪：\"&$B$42,$B$42))","v":""},{"$f":"IF(AZ42=\"休\",\"\",IF(AZ42=\"訪\",\"訪：\"&$B$42,$B$42))","v":""},{"$f":"IF(BA42=\"休\",\"\",IF(BA42=\"訪\",\"訪：\"&$B$42,$B$42))","v":""},{"$f":"IF(BB42=\"休\",\"\",IF(BB42=\"訪\",\"訪：\"&$B$42,$B$42))","v":""},{"$f":"IF(BC42=\"休\",\"\",IF(BC42=\"訪\",\"訪：\"&$B$42,$B$42))","v":""},{"$f":"IF(BD42=\"休\",\"\",IF(BD42=\"訪\",\"訪：\"&$B$42,$B$42))","v":""},{"$f":"IF(BE42=\"休\",\"\",IF(BE42=\"訪\",\"訪：\"&$B$42,$B$42))","v":""},{"$f":"IF(BF42=\"休\",\"\",IF(BF42=\"訪\",\"訪：\"&$B$42,$B$42))","v":""},{"$f":"IF(BG42=\"休\",\"\",IF(BG42=\"訪\",\"訪：\"&$B$42,$B$42))","v":""},{"$f":"IF(BH42=\"休\",\"\",IF(BH42=\"訪\",\"訪：\"&$B$42,$B$42))","v":""},{"$f":"IF(BI42=\"休\",\"\",IF(BI42=\"訪\",\"訪：\"&$B$42,$B$42))","v":""},{"$f":"IF(BJ42=\"休\",\"\",IF(BJ42=\"訪\",\"訪：\"&$B$42,$B$42))","v":""},{"$f":"IF(BK42=\"休\",\"\",IF(BK42=\"訪\",\"訪：\"&$B$42,$B$42))","v":""},{"$f":"IF(BL42=\"休\",\"\",IF(BL42=\"訪\",\"訪：\"&$B$42,$B$42))","v":""},{"$f":"IF(BM42=\"休\",\"\",IF(BM42=\"訪\",\"訪：\"&$B$42,$B$42))","v":""},{"$f":"IF(BN42=\"休\",\"\",IF(BN42=\"訪\",\"訪：\"&$B$42,$B$42))","v":""},{"$f":"IF(BO42=\"休\",\"\",IF(BO42=\"訪\",\"訪：\"&$B$42,$B$42))","v":""},{"$f":"IF(BP42=\"休\",\"\",IF(BP42=\"訪\",\"訪：\"&$B$42,$B$42))","v":""}]
[null,null,null,null,null,null,null,null,null,null,null,null,null,null,null,null,null,null,null,null,null,null,null,null,null,null,null,null,null,null,null,null,null,null,null,null,null,null,{"$f":"IF(C43=\"●\",$B$42,\"\")","v":""},{"$f":"IF(D43=\"●\",$B$42,\"\")","v":""},"","","","","","","","","","","","","","","","","","","","","","","","","","","","","","",null,null,{"$f":"IF(AK43=\"●\",$B$42,\"\")","v":""},{"$f":"IF(AL43=\"●\",$B$42,\"\")","v":""},{"$f":"IF(AM43=\"●\",$B$42,\"\")","v":""},{"$f":"IF(AN43=\"●\",$B$42,\"\")","v":""},{"$f":"IF(AO43=\"●\",$B$42,\"\")","v":""},{"$f":"IF(AP43=\"●\",$B$42,\"\")","v":""},{"$f":"IF(AQ43=\"●\",$B$42,\"\")","v":""},{"$f":"IF(AR43=\"●\",$B$42,\"\")","v":""},{"$f":"IF(AS43=\"●\",$B$42,\"\")","v":""},{"$f":"IF(AT43=\"●\",$B$42,\"\")","v":""},{"$f":"IF(AU43=\"●\",$B$42,\"\")","v":""},{"$f":"IF(AV43=\"●\",$B$42,\"\")","v":""},{"$f":"IF(AW43=\"●\",$B$42,\"\")","v":""},{"$f":"IF(AX43=\"●\",$B$42,\"\")","v":""},{"$f":"IF(AY43=\"●\",$B$42,\"\")","v":""},{"$f":"IF(AZ43=\"●\",$B$42,\"\")","v":""},{"$f":"IF(BA43=\"●\",$B$42,\"\")","v":""},{"$f":"IF(BB43=\"●\",$B$42,\"\")","v":""},{"$f":"IF(BC43=\"●\",$B$42,\"\")","v":""},{"$f":"IF(BD43=\"●\",$B$42,\"\")","v":""},{"$f":"IF(BE43=\"●\",$B$42,\"\")","v":""},{"$f":"IF(BF43=\"●\",$B$42,\"\")","v":""},{"$f":"IF(BG43=\"●\",$B$42,\"\")","v":""},{"$f":"IF(BH43=\"●\",$B$42,\"\")","v":""},{"$f":"IF(BI43=\"●\",$B$42,\"\")","v":""},{"$f":"IF(BJ43=\"●\",$B$42,\"\")","v":""},{"$f":"IF(BK43=\"●\",$B$42,\"\")","v":""},{"$f":"IF(BL43=\"●\",$B$42,\"\")","v":""},{"$f":"IF(BM43=\"●\",$B$42,\"\")","v":""},{"$f":"IF(BN43=\"●\",$B$42,\"\")","v":""},{"$f":"IF(BO43=\"●\",$B$42,\"\")","v":""},{"$f":"IF(BP43=\"●\",$B$42,\"\")","v":""}]
[20,{"$f":"IF(Top!C59<>\"\",Top!C59,\"\")","v":""},null,null,null,null,null,null,null,null,null,null,null,null,null,null,null,null,null,null,null,null,null,null,null,null,null,null,null,null,null,null,null,null,"",null,null,"",{"$f":"IF(C44=\"休\",\"\",IF(C44=\"訪\",\"訪：\"&$B$44,$B$44))","v":""},{"$f":"IF(D44=\"休\",\"\",IF(D44=\"訪\",\"訪：\"&$B$44,$B$44))","v":""},"","","","","","","","","","","","","","","","","","","","","","","","","","","","","","",null,null,{"$f":"IF(AK44=\"休\",\"\",IF(AK44=\"訪\",\"訪：\"&$B$44,$B$44))","v":""},{"$f":"IF(AL44=\"休\",\"\",IF(AL44=\"訪\",\"訪：\"&$B$44,$B$44))","v":""},{"$f":"IF(AM44=\"休\",\"\",IF(AM44=\"訪\",\"訪：\"&$B$44,$B$44))","v":""},{"$f":"IF(AN44=\"休\",\"\",IF(AN44=\"訪\",\"訪：\"&$B$44,$B$44))","v":""},{"$f":"IF(AO44=\"休\",\"\",IF(AO44=\"訪\",\"訪：\"&$B$44,$B$44))","v":""},{"$f":"IF(AP44=\"休\",\"\",IF(AP44=\"訪\",\"訪：\"&$B$44,$B$44))","v":""},{"$f":"IF(AQ44=\"休\",\"\",IF(AQ44=\"訪\",\"訪：\"&$B$44,$B$44))","v":""},{"$f":"IF(AR44=\"休\",\"\",IF(AR44=\"訪\",\"訪：\"&$B$44,$B$44))","v":""},{"$f":"IF(AS44=\"休\",\"\",IF(AS44=\"訪\",\"訪：\"&$B$44,$B$44))","v":""},{"$f":"IF(AT44=\"休\",\"\",IF(AT44=\"訪\",\"訪：\"&$B$44,$B$44))","v":""},{"$f":"IF(AU44=\"休\",\"\",IF(AU44=\"訪\",\"訪：\"&$B$44,$B$44))","v":""},{"$f":"IF(AV44=\"休\",\"\",IF(AV44=\"訪\",\"訪：\"&$B$44,$B$44))","v":""},{"$f":"IF(AW44=\"休\",\"\",IF(AW44=\"訪\",\"訪：\"&$B$44,$B$44))","v":""},{"$f":"IF(AX44=\"休\",\"\",IF(AX44=\"訪\",\"訪：\"&$B$44,$B$44))","v":""},{"$f":"IF(AY44=\"休\",\"\",IF(AY44=\"訪\",\"訪：\"&$B$44,$B$44))","v":""},{"$f":"IF(AZ44=\"休\",\"\",IF(AZ44=\"訪\",\"訪：\"&$B$44,$B$44))","v":""},{"$f":"IF(BA44=\"休\",\"\",IF(BA44=\"訪\",\"訪：\"&$B$44,$B$44))","v":""},{"$f":"IF(BB44=\"休\",\"\",IF(BB44=\"訪\",\"訪：\"&$B$44,$B$44))","v":""},{"$f":"IF(BC44=\"休\",\"\",IF(BC44=\"訪\",\"訪：\"&$B$44,$B$44))","v":""},{"$f":"IF(BD44=\"休\",\"\",IF(BD44=\"訪\",\"訪：\"&$B$44,$B$44))","v":""},{"$f":"IF(BE44=\"休\",\"\",IF(BE44=\"訪\",\"訪：\"&$B$44,$B$44))","v":""},{"$f":"IF(BF44=\"休\",\"\",IF(BF44=\"訪\",\"訪：\"&$B$44,$B$44))","v":""},{"$f":"IF(BG44=\"休\",\"\",IF(BG44=\"訪\",\"訪：\"&$B$44,$B$44))","v":""},{"$f":"IF(BH44=\"休\",\"\",IF(BH44=\"訪\",\"訪：\"&$B$44,$B$44))","v":""},{"$f":"IF(BI44=\"休\",\"\",IF(BI44=\"訪\",\"訪：\"&$B$44,$B$44))","v":""},{"$f":"IF(BJ44=\"休\",\"\",IF(BJ44=\"訪\",\"訪：\"&$B$44,$B$44))","v":""},{"$f":"IF(BK44=\"休\",\"\",IF(BK44=\"訪\",\"訪：\"&$B$44,$B$44))","v":""},{"$f":"IF(BL44=\"休\",\"\",IF(BL44=\"訪\",\"訪：\"&$B$44,$B$44))","v":""},{"$f":"IF(BM44=\"休\",\"\",IF(BM44=\"訪\",\"訪：\"&$B$44,$B$44))","v":""},{"$f":"IF(BN44=\"休\",\"\",IF(BN44=\"訪\",\"訪：\"&$B$44,$B$44))","v":""},{"$f":"IF(BO44=\"休\",\"\",IF(BO44=\"訪\",\"訪：\"&$B$44,$B$44))","v":""},{"$f":"IF(BP44=\"休\",\"\",IF(BP44=\"訪\",\"訪：\"&$B$44,$B$44))","v":""}]
[null,null,null,null,null,null,null,null,null,null,null,null,null,null,null,null,null,null,null,null,null,null,null,null,null,null,null,null,null,null,null,null,null,null,null,null,null,null,{"$f":"IF(C45=\"●\",$B$44,\"\")","v":""},{"$f":"IF(D45=\"●\",$B$44,\"\")","v":""},"","","","","","","","","","","","","","","","","","","","","","","","","","","","","","",null,null,{"$f":"IF(AK45=\"●\",$B$44,\"\")","v":""},{"$f":"IF(AL45=\"●\",$B$44,\"\")","v":""},{"$f":"IF(AM45=\"●\",$B$44,\"\")","v":""},{"$f":"IF(AN45=\"●\",$B$44,\"\")","v":""},{"$f":"IF(AO45=\"●\",$B$44,\"\")","v":""},{"$f":"IF(AP45=\"●\",$B$44,\"\")","v":""},{"$f":"IF(AQ45=\"●\",$B$44,\"\")","v":""},{"$f":"IF(AR45=\"●\",$B$44,\"\")","v":""},{"$f":"IF(AS45=\"●\",$B$44,\"\")","v":""},{"$f":"IF(AT45=\"●\",$B$44,\"\")","v":""},{"$f":"IF(AU45=\"●\",$B$44,\"\")","v":""},{"$f":"IF(AV45=\"●\",$B$44,\"\")","v":""},{"$f":"IF(AW45=\"●\",$B$44,\"\")","v":""},{"$f":"IF(AX45=\"●\",$B$44,\"\")","v":""},{"$f":"IF(AY45=\"●\",$B$44,\"\")","v":""},{"$f":"IF(AZ45=\"●\",$B$44,\"\")","v":""},{"$f":"IF(BA45=\"●\",$B$44,\"\")","v":""},{"$f":"IF(BB45=\"●\",$B$44,\"\")","v":""},{"$f":"IF(BC45=\"●\",$B$44,\"\")","v":""},{"$f":"IF(BD45=\"●\",$B$44,\"\")","v":""},{"$f":"IF(BE45=\"●\",$B$44,\"\")","v":""},{"$f":"IF(BF45=\"●\",$B$44,\"\")","v":""},{"$f":"IF(BG45=\"●\",$B$44,\"\")","v":""},{"$f":"IF(BH45=\"●\",$B$44,\"\")","v":""},{"$f":"IF(BI45=\"●\",$B$44,\"\")","v":""},{"$f":"IF(BJ45=\"●\",$B$44,\"\")","v":""},{"$f":"IF(BK45=\"●\",$B$44,\"\")","v":""},{"$f":"IF(BL45=\"●\",$B$44,\"\")","v":""},{"$f":"IF(BM45=\"●\",$B$44,\"\")","v":""},{"$f":"IF(BN45=\"●\",$B$44,\"\")","v":""},{"$f":"IF(BO45=\"●\",$B$44,\"\")","v":""},{"$f":"IF(BP45=\"●\",$B$44,\"\")","v":""}]
[21,{"$f":"IF(Top!C60<>\"\",Top!C60,\"\")","v":""},null,null,null,null,null,null,null,null,null,null,null,null,null,null,null,null,null,null,null,null,null,null,null,null,null,null,null,null,null,null,null,null,"",null,null,"",{"$f":"IF(C46=\"休\",\"\",IF(C46=\"訪\",\"訪：\"&$B$46,$B$46))","v":""},{"$f":"IF(D46=\"休\",\"\",IF(D46=\"訪\",\"訪：\"&$B$46,$B$46))","v":""},"","","","","","","","","","","","","","","","","","","","","","","","","","","","","","",null,null,{"$f":"IF(AK46=\"休\",\"\",IF(AK46=\"訪\",\"訪：\"&$B$46,$B$46))","v":""},{"$f":"IF(AL46=\"休\",\"\",IF(AL46=\"訪\",\"訪：\"&$B$46,$B$46))","v":""},{"$f":"IF(AM46=\"休\",\"\",IF(AM46=\"訪\",\"訪：\"&$B$46,$B$46))","v":""},{"$f":"IF(AN46=\"休\",\"\",IF(AN46=\"訪\",\"訪：\"&$B$46,$B$46))","v":""},{"$f":"IF(AO46=\"休\",\"\",IF(AO46=\"訪\",\"訪：\"&$B$46,$B$46))","v":""},{"$f":"IF(AP46=\"休\",\"\",IF(AP46=\"訪\",\"訪：\"&$B$46,$B$46))","v":""},{"$f":"IF(AQ46=\"休\",\"\",IF(AQ46=\"訪\",\"訪：\"&$B$46,$B$46))","v":""},{"$f":"IF(AR46=\"休\",\"\",IF(AR46=\"訪\",\"訪：\"&$B$46,$B$46))","v":""},{"$f":"IF(AS46=\"休\",\"\",IF(AS46=\"訪\",\"訪：\"&$B$46,$B$46))","v":""},{"$f":"IF(AT46=\"休\",\"\",IF(AT46=\"訪\",\"訪：\"&$B$46,$B$46))","v":""},{"$f":"IF(AU46=\"休\",\"\",IF(AU46=\"訪\",\"訪：\"&$B$46,$B$46))","v":""},{"$f":"IF(AV46=\"休\",\"\",IF(AV46=\"訪\",\"訪：\"&$B$46,$B$46))","v":""},{"$f":"IF(AW46=\"休\",\"\",IF(AW46=\"訪\",\"訪：\"&$B$46,$B$46))","v":""},{"$f":"IF(AX46=\"休\",\"\",IF(AX46=\"訪\",\"訪：\"&$B$46,$B$46))","v":""},{"$f":"IF(AY46=\"休\",\"\",IF(AY46=\"訪\",\"訪：\"&$B$46,$B$46))","v":""},{"$f":"IF(AZ46=\"休\",\"\",IF(AZ46=\"訪\",\"訪：\"&$B$46,$B$46))","v":""},{"$f":"IF(BA46=\"休\",\"\",IF(BA46=\"訪\",\"訪：\"&$B$46,$B$46))","v":""},{"$f":"IF(BB46=\"休\",\"\",IF(BB46=\"訪\",\"訪：\"&$B$46,$B$46))","v":""},{"$f":"IF(BC46=\"休\",\"\",IF(BC46=\"訪\",\"訪：\"&$B$46,$B$46))","v":""},{"$f":"IF(BD46=\"休\",\"\",IF(BD46=\"訪\",\"訪：\"&$B$46,$B$46))","v":""},{"$f":"IF(BE46=\"休\",\"\",IF(BE46=\"訪\",\"訪：\"&$B$46,$B$46))","v":""},{"$f":"IF(BF46=\"休\",\"\",IF(BF46=\"訪\",\"訪：\"&$B$46,$B$46))","v":""},{"$f":"IF(BG46=\"休\",\"\",IF(BG46=\"訪\",\"訪：\"&$B$46,$B$46))","v":""},{"$f":"IF(BH46=\"休\",\"\",IF(BH46=\"訪\",\"訪：\"&$B$46,$B$46))","v":""},{"$f":"IF(BI46=\"休\",\"\",IF(BI46=\"訪\",\"訪：\"&$B$46,$B$46))","v":""},{"$f":"IF(BJ46=\"休\",\"\",IF(BJ46=\"訪\",\"訪：\"&$B$46,$B$46))","v":""},{"$f":"IF(BK46=\"休\",\"\",IF(BK46=\"訪\",\"訪：\"&$B$46,$B$46))","v":""},{"$f":"IF(BL46=\"休\",\"\",IF(BL46=\"訪\",\"訪：\"&$B$46,$B$46))","v":""},{"$f":"IF(BM46=\"休\",\"\",IF(BM46=\"訪\",\"訪：\"&$B$46,$B$46))","v":""},{"$f":"IF(BN46=\"休\",\"\",IF(BN46=\"訪\",\"訪：\"&$B$46,$B$46))","v":""},{"$f":"IF(BO46=\"休\",\"\",IF(BO46=\"訪\",\"訪：\"&$B$46,$B$46))","v":""},{"$f":"IF(BP46=\"休\",\"\",IF(BP46=\"訪\",\"訪：\"&$B$46,$B$46))","v":""}]
[null,null,null,null,null,null,null,null,null,null,null,null,null,null,null,null,null,null,null,null,null,null,null,null,null,null,null,null,null,null,null,null,null,null,null,null,null,null,{"$f":"IF(C47=\"●\",$B$46,\"\")","v":""},{"$f":"IF(D47=\"●\",$B$46,\"\")","v":""},"","","","","","","","","","","","","","","","","","","","","","","","","","","","","","",null,null,{"$f":"IF(AK47=\"●\",$B$46,\"\")","v":""},{"$f":"IF(AL47=\"●\",$B$46,\"\")","v":""},{"$f":"IF(AM47=\"●\",$B$46,\"\")","v":""},{"$f":"IF(AN47=\"●\",$B$46,\"\")","v":""},{"$f":"IF(AO47=\"●\",$B$46,\"\")","v":""},{"$f":"IF(AP47=\"●\",$B$46,\"\")","v":""},{"$f":"IF(AQ47=\"●\",$B$46,\"\")","v":""},{"$f":"IF(AR47=\"●\",$B$46,\"\")","v":""},{"$f":"IF(AS47=\"●\",$B$46,\"\")","v":""},{"$f":"IF(AT47=\"●\",$B$46,\"\")","v":""},{"$f":"IF(AU47=\"●\",$B$46,\"\")","v":""},{"$f":"IF(AV47=\"●\",$B$46,\"\")","v":""},{"$f":"IF(AW47=\"●\",$B$46,\"\")","v":""},{"$f":"IF(AX47=\"●\",$B$46,\"\")","v":""},{"$f":"IF(AY47=\"●\",$B$46,\"\")","v":""},{"$f":"IF(AZ47=\"●\",$B$46,\"\")","v":""},{"$f":"IF(BA47=\"●\",$B$46,\"\")","v":""},{"$f":"IF(BB47=\"●\",$B$46,\"\")","v":""},{"$f":"IF(BC47=\"●\",$B$46,\"\")","v":""},{"$f":"IF(BD47=\"●\",$B$46,\"\")","v":""},{"$f":"IF(BE47=\"●\",$B$46,\"\")","v":""},{"$f":"IF(BF47=\"●\",$B$46,\"\")","v":""},{"$f":"IF(BG47=\"●\",$B$46,\"\")","v":""},{"$f":"IF(BH47=\"●\",$B$46,\"\")","v":""},{"$f":"IF(BI47=\"●\",$B$46,\"\")","v":""},{"$f":"IF(BJ47=\"●\",$B$46,\"\")","v":""},{"$f":"IF(BK47=\"●\",$B$46,\"\")","v":""},{"$f":"IF(BL47=\"●\",$B$46,\"\")","v":""},{"$f":"IF(BM47=\"●\",$B$46,\"\")","v":""},{"$f":"IF(BN47=\"●\",$B$46,\"\")","v":""},{"$f":"IF(BO47=\"●\",$B$46,\"\")","v":""},{"$f":"IF(BP47=\"●\",$B$46,\"\")","v":""}]
[22,{"$f":"IF(Top!C61<>\"\",Top!C61,\"\")","v":""},null,null,null,null,null,null,null,null,null,null,null,null,null,null,null,null,null,null,null,null,null,null,null,null,null,null,null,null,null,null,null,null,"",null,null,"",{"$f":"IF(C48=\"休\",\"\",IF(C48=\"訪\",\"訪：\"&$B$48,$B$48))","v":""},{"$f":"IF(D48=\"休\",\"\",IF(D48=\"訪\",\"訪：\"&$B$48,$B$48))","v":""},"","","","","","","","","","","","","","","","","","","","","","","","","","","","","","",null,null,{"$f":"IF(AK48=\"休\",\"\",IF(AK48=\"訪\",\"訪：\"&$B$48,$B$48))","v":""},{"$f":"IF(AL48=\"休\",\"\",IF(AL48=\"訪\",\"訪：\"&$B$48,$B$48))","v":""},{"$f":"IF(AM48=\"休\",\"\",IF(AM48=\"訪\",\"訪：\"&$B$48,$B$48))","v":""},{"$f":"IF(AN48=\"休\",\"\",IF(AN48=\"訪\",\"訪：\"&$B$48,$B$48))","v":""},{"$f":"IF(AO48=\"休\",\"\",IF(AO48=\"訪\",\"訪：\"&$B$48,$B$48))","v":""},{"$f":"IF(AP48=\"休\",\"\",IF(AP48=\"訪\",\"訪：\"&$B$48,$B$48))","v":""},{"$f":"IF(AQ48=\"休\",\"\",IF(AQ48=\"訪\",\"訪：\"&$B$48,$B$48))","v":""},{"$f":"IF(AR48=\"休\",\"\",IF(AR48=\"訪\",\"訪：\"&$B$48,$B$48))","v":""},{"$f":"IF(AS48=\"休\",\"\",IF(AS48=\"訪\",\"訪：\"&$B$48,$B$48))","v":""},{"$f":"IF(AT48=\"休\",\"\",IF(AT48=\"訪\",\"訪：\"&$B$48,$B$48))","v":""},{"$f":"IF(AU48=\"休\",\"\",IF(AU48=\"訪\",\"訪：\"&$B$48,$B$48))","v":""},{"$f":"IF(AV48=\"休\",\"\",IF(AV48=\"訪\",\"訪：\"&$B$48,$B$48))","v":""},{"$f":"IF(AW48=\"休\",\"\",IF(AW48=\"訪\",\"訪：\"&$B$48,$B$48))","v":""},{"$f":"IF(AX48=\"休\",\"\",IF(AX48=\"訪\",\"訪：\"&$B$48,$B$48))","v":""},{"$f":"IF(AY48=\"休\",\"\",IF(AY48=\"訪\",\"訪：\"&$B$48,$B$48))","v":""},{"$f":"IF(AZ48=\"休\",\"\",IF(AZ48=\"訪\",\"訪：\"&$B$48,$B$48))","v":""},{"$f":"IF(BA48=\"休\",\"\",IF(BA48=\"訪\",\"訪：\"&$B$48,$B$48))","v":""},{"$f":"IF(BB48=\"休\",\"\",IF(BB48=\"訪\",\"訪：\"&$B$48,$B$48))","v":""},{"$f":"IF(BC48=\"休\",\"\",IF(BC48=\"訪\",\"訪：\"&$B$48,$B$48))","v":""},{"$f":"IF(BD48=\"休\",\"\",IF(BD48=\"訪\",\"訪：\"&$B$48,$B$48))","v":""},{"$f":"IF(BE48=\"休\",\"\",IF(BE48=\"訪\",\"訪：\"&$B$48,$B$48))","v":""},{"$f":"IF(BF48=\"休\",\"\",IF(BF48=\"訪\",\"訪：\"&$B$48,$B$48))","v":""},{"$f":"IF(BG48=\"休\",\"\",IF(BG48=\"訪\",\"訪：\"&$B$48,$B$48))","v":""},{"$f":"IF(BH48=\"休\",\"\",IF(BH48=\"訪\",\"訪：\"&$B$48,$B$48))","v":""},{"$f":"IF(BI48=\"休\",\"\",IF(BI48=\"訪\",\"訪：\"&$B$48,$B$48))","v":""},{"$f":"IF(BJ48=\"休\",\"\",IF(BJ48=\"訪\",\"訪：\"&$B$48,$B$48))","v":""},{"$f":"IF(BK48=\"休\",\"\",IF(BK48=\"訪\",\"訪：\"&$B$48,$B$48))","v":""},{"$f":"IF(BL48=\"休\",\"\",IF(BL48=\"訪\",\"訪：\"&$B$48,$B$48))","v":""},{"$f":"IF(BM48=\"休\",\"\",IF(BM48=\"訪\",\"訪：\"&$B$48,$B$48))","v":""},{"$f":"IF(BN48=\"休\",\"\",IF(BN48=\"訪\",\"訪：\"&$B$48,$B$48))","v":""},{"$f":"IF(BO48=\"休\",\"\",IF(BO48=\"訪\",\"訪：\"&$B$48,$B$48))","v":""},{"$f":"IF(BP48=\"休\",\"\",IF(BP48=\"訪\",\"訪：\"&$B$48,$B$48))","v":""}]
[null,null,null,null,null,null,null,null,null,null,null,null,null,null,null,null,null,null,null,null,null,null,null,null,null,null,null,null,null,null,null,null,null,null,null,null,null,null,{"$f":"IF(C49=\"●\",$B$48,\"\")","v":""},{"$f":"IF(D49=\"●\",$B$48,\"\")","v":""},"","","","","","","","","","","","","","","","","","","","","","","","","","","","","","",null,null,{"$f":"IF(AK49=\"●\",$B$48,\"\")","v":""},{"$f":"IF(AL49=\"●\",$B$48,\"\")","v":""},{"$f":"IF(AM49=\"●\",$B$48,\"\")","v":""},{"$f":"IF(AN49=\"●\",$B$48,\"\")","v":""},{"$f":"IF(AO49=\"●\",$B$48,\"\")","v":""},{"$f":"IF(AP49=\"●\",$B$48,\"\")","v":""},{"$f":"IF(AQ49=\"●\",$B$48,\"\")","v":""},{"$f":"IF(AR49=\"●\",$B$48,\"\")","v":""},{"$f":"IF(AS49=\"●\",$B$48,\"\")","v":""},{"$f":"IF(AT49=\"●\",$B$48,\"\")","v":""},{"$f":"IF(AU49=\"●\",$B$48,\"\")","v":""},{"$f":"IF(AV49=\"●\",$B$48,\"\")","v":""},{"$f":"IF(AW49=\"●\",$B$48,\"\")","v":""},{"$f":"IF(AX49=\"●\",$B$48,\"\")","v":""},{"$f":"IF(AY49=\"●\",$B$48,\"\")","v":""},{"$f":"IF(AZ49=\"●\",$B$48,\"\")","v":""},{"$f":"IF(BA49=\"●\",$B$48,\"\")","v":""},{"$f":"IF(BB49=\"●\",$B$48,\"\")","v":""},{"$f":"IF(BC49=\"●\",$B$48,\"\")","v":""},{"$f":"IF(BD49=\"●\",$B$48,\"\")","v":""},{"$f":"IF(BE49=\"●\",$B$48,\"\")","v":""},{"$f":"IF(BF49=\"●\",$B$48,\"\")","v":""},{"$f":"IF(BG49=\"●\",$B$48,\"\")","v":""},{"$f":"IF(BH49=\"●\",$B$48,\"\")","v":""},{"$f":"IF(BI49=\"●\",$B$48,\"\")","v":""},{"$f":"IF(BJ49=\"●\",$B$48,\"\")","v":""},{"$f":"IF(BK49=\"●\",$B$48,\"\")","v":""},{"$f":"IF(BL49=\"●\",$B$48,\"\")","v":""},{"$f":"IF(BM49=\"●\",$B$48,\"\")","v":""},{"$f":"IF(BN49=\"●\",$B$48,\"\")","v":""},{"$f":"IF(BO49=\"●\",$B$48,\"\")","v":""},{"$f":"IF(BP49=\"●\",$B$48,\"\")","v":""}]
[23,{"$f":"IF(Top!C62<>\"\",Top!C62,\"\")","v":""},null,null,null,null,null,null,null,null,null,null,null,null,null,null,null,null,null,null,null,null,null,null,null,null,null,null,null,null,null,null,null,null,"",null,null,"",{"$f":"IF(C50=\"休\",\"\",IF(C50=\"訪\",\"訪：\"&$B$50,$B$50))","v":""},{"$f":"IF(D50=\"休\",\"\",IF(D50=\"訪\",\"訪：\"&$B$50,$B$50))","v":""},"","","","","","","","","","","","","","","","","","","","","","","","","","","","","","",null,null,{"$f":"IF(AK50=\"休\",\"\",IF(AK50=\"訪\",\"訪：\"&$B$50,$B$50))","v":""},{"$f":"IF(AL50=\"休\",\"\",IF(AL50=\"訪\",\"訪：\"&$B$50,$B$50))","v":""},{"$f":"IF(AM50=\"休\",\"\",IF(AM50=\"訪\",\"訪：\"&$B$50,$B$50))","v":""},{"$f":"IF(AN50=\"休\",\"\",IF(AN50=\"訪\",\"訪：\"&$B$50,$B$50))","v":""},{"$f":"IF(AO50=\"休\",\"\",IF(AO50=\"訪\",\"訪：\"&$B$50,$B$50))","v":""},{"$f":"IF(AP50=\"休\",\"\",IF(AP50=\"訪\",\"訪：\"&$B$50,$B$50))","v":""},{"$f":"IF(AQ50=\"休\",\"\",IF(AQ50=\"訪\",\"訪：\"&$B$50,$B$50))","v":""},{"$f":"IF(AR50=\"休\",\"\",IF(AR50=\"訪\",\"訪：\"&$B$50,$B$50))","v":""},{"$f":"IF(AS50=\"休\",\"\",IF(AS50=\"訪\",\"訪：\"&$B$50,$B$50))","v":""},{"$f":"IF(AT50=\"休\",\"\",IF(AT50=\"訪\",\"訪：\"&$B$50,$B$50))","v":""},{"$f":"IF(AU50=\"休\",\"\",IF(AU50=\"訪\",\"訪：\"&$B$50,$B$50))","v":""},{"$f":"IF(AV50=\"休\",\"\",IF(AV50=\"訪\",\"訪：\"&$B$50,$B$50))","v":""},{"$f":"IF(AW50=\"休\",\"\",IF(AW50=\"訪\",\"訪：\"&$B$50,$B$50))","v":""},{"$f":"IF(AX50=\"休\",\"\",IF(AX50=\"訪\",\"訪：\"&$B$50,$B$50))","v":""},{"$f":"IF(AY50=\"休\",\"\",IF(AY50=\"訪\",\"訪：\"&$B$50,$B$50))","v":""},{"$f":"IF(AZ50=\"休\",\"\",IF(AZ50=\"訪\",\"訪：\"&$B$50,$B$50))","v":""},{"$f":"IF(BA50=\"休\",\"\",IF(BA50=\"訪\",\"訪：\"&$B$50,$B$50))","v":""},{"$f":"IF(BB50=\"休\",\"\",IF(BB50=\"訪\",\"訪：\"&$B$50,$B$50))","v":""},{"$f":"IF(BC50=\"休\",\"\",IF(BC50=\"訪\",\"訪：\"&$B$50,$B$50))","v":""},{"$f":"IF(BD50=\"休\",\"\",IF(BD50=\"訪\",\"訪：\"&$B$50,$B$50))","v":""},{"$f":"IF(BE50=\"休\",\"\",IF(BE50=\"訪\",\"訪：\"&$B$50,$B$50))","v":""},{"$f":"IF(BF50=\"休\",\"\",IF(BF50=\"訪\",\"訪：\"&$B$50,$B$50))","v":""},{"$f":"IF(BG50=\"休\",\"\",IF(BG50=\"訪\",\"訪：\"&$B$50,$B$50))","v":""},{"$f":"IF(BH50=\"休\",\"\",IF(BH50=\"訪\",\"訪：\"&$B$50,$B$50))","v":""},{"$f":"IF(BI50=\"休\",\"\",IF(BI50=\"訪\",\"訪：\"&$B$50,$B$50))","v":""},{"$f":"IF(BJ50=\"休\",\"\",IF(BJ50=\"訪\",\"訪：\"&$B$50,$B$50))","v":""},{"$f":"IF(BK50=\"休\",\"\",IF(BK50=\"訪\",\"訪：\"&$B$50,$B$50))","v":""},{"$f":"IF(BL50=\"休\",\"\",IF(BL50=\"訪\",\"訪：\"&$B$50,$B$50))","v":""},{"$f":"IF(BM50=\"休\",\"\",IF(BM50=\"訪\",\"訪：\"&$B$50,$B$50))","v":""},{"$f":"IF(BN50=\"休\",\"\",IF(BN50=\"訪\",\"訪：\"&$B$50,$B$50))","v":""},{"$f":"IF(BO50=\"休\",\"\",IF(BO50=\"訪\",\"訪：\"&$B$50,$B$50))","v":""},{"$f":"IF(BP50=\"休\",\"\",IF(BP50=\"訪\",\"訪：\"&$B$50,$B$50))","v":""}]
[null,null,null,null,null,null,null,null,null,null,null,null,null,null,null,null,null,null,null,null,null,null,null,null,null,null,null,null,null,null,null,null,null,null,null,null,null,null,{"$f":"IF(C51=\"●\",$B$50,\"\")","v":""},{"$f":"IF(D51=\"●\",$B$50,\"\")","v":""},"","","","","","","","","","","","","","","","","","","","","","","","","","","","","","",null,null,{"$f":"IF(AK51=\"●\",$B$50,\"\")","v":""},{"$f":"IF(AL51=\"●\",$B$50,\"\")","v":""},{"$f":"IF(AM51=\"●\",$B$50,\"\")","v":""},{"$f":"IF(AN51=\"●\",$B$50,\"\")","v":""},{"$f":"IF(AO51=\"●\",$B$50,\"\")","v":""},{"$f":"IF(AP51=\"●\",$B$50,\"\")","v":""},{"$f":"IF(AQ51=\"●\",$B$50,\"\")","v":""},{"$f":"IF(AR51=\"●\",$B$50,\"\")","v":""},{"$f":"IF(AS51=\"●\",$B$50,\"\")","v":""},{"$f":"IF(AT51=\"●\",$B$50,\"\")","v":""},{"$f":"IF(AU51=\"●\",$B$50,\"\")","v":""},{"$f":"IF(AV51=\"●\",$B$50,\"\")","v":""},{"$f":"IF(AW51=\"●\",$B$50,\"\")","v":""},{"$f":"IF(AX51=\"●\",$B$50,\"\")","v":""},{"$f":"IF(AY51=\"●\",$B$50,\"\")","v":""},{"$f":"IF(AZ51=\"●\",$B$50,\"\")","v":""},{"$f":"IF(BA51=\"●\",$B$50,\"\")","v":""},{"$f":"IF(BB51=\"●\",$B$50,\"\")","v":""},{"$f":"IF(BC51=\"●\",$B$50,\"\")","v":""},{"$f":"IF(BD51=\"●\",$B$50,\"\")","v":""},{"$f":"IF(BE51=\"●\",$B$50,\"\")","v":""},{"$f":"IF(BF51=\"●\",$B$50,\"\")","v":""},{"$f":"IF(BG51=\"●\",$B$50,\"\")","v":""},{"$f":"IF(BH51=\"●\",$B$50,\"\")","v":""},{"$f":"IF(BI51=\"●\",$B$50,\"\")","v":""},{"$f":"IF(BJ51=\"●\",$B$50,\"\")","v":""},{"$f":"IF(BK51=\"●\",$B$50,\"\")","v":""},{"$f":"IF(BL51=\"●\",$B$50,\"\")","v":""},{"$f":"IF(BM51=\"●\",$B$50,\"\")","v":""},{"$f":"IF(BN51=\"●\",$B$50,\"\")","v":""},{"$f":"IF(BO51=\"●\",$B$50,\"\")","v":""},{"$f":"IF(BP51=\"●\",$B$50,\"\")","v":""}]
[24,{"$f":"IF(Top!C63<>\"\",Top!C63,\"\")","v":""},null,null,null,null,null,null,null,null,null,null,null,null,null,null,null,null,null,null,null,null,null,null,null,null,null,null,null,null,null,null,null,null,"",null,null,"",{"$f":"IF(C52=\"休\",\"\",IF(C52=\"訪\",\"訪：\"&$B$52,$B$52))","v":""},{"$f":"IF(D52=\"休\",\"\",IF(D52=\"訪\",\"訪：\"&$B$52,$B$52))","v":""},"","","","","","","","","","","","","","","","","","","","","","","","","","","","","","",null,null,{"$f":"IF(AK52=\"休\",\"\",IF(AK52=\"訪\",\"訪：\"&$B$52,$B$52))","v":""},{"$f":"IF(AL52=\"休\",\"\",IF(AL52=\"訪\",\"訪：\"&$B$52,$B$52))","v":""},{"$f":"IF(AM52=\"休\",\"\",IF(AM52=\"訪\",\"訪：\"&$B$52,$B$52))","v":""},{"$f":"IF(AN52=\"休\",\"\",IF(AN52=\"訪\",\"訪：\"&$B$52,$B$52))","v":""},{"$f":"IF(AO52=\"休\",\"\",IF(AO52=\"訪\",\"訪：\"&$B$52,$B$52))","v":""},{"$f":"IF(AP52=\"休\",\"\",IF(AP52=\"訪\",\"訪：\"&$B$52,$B$52))","v":""},{"$f":"IF(AQ52=\"休\",\"\",IF(AQ52=\"訪\",\"訪：\"&$B$52,$B$52))","v":""},{"$f":"IF(AR52=\"休\",\"\",IF(AR52=\"訪\",\"訪：\"&$B$52,$B$52))","v":""},{"$f":"IF(AS52=\"休\",\"\",IF(AS52=\"訪\",\"訪：\"&$B$52,$B$52))","v":""},{"$f":"IF(AT52=\"休\",\"\",IF(AT52=\"訪\",\"訪：\"&$B$52,$B$52))","v":""},{"$f":"IF(AU52=\"休\",\"\",IF(AU52=\"訪\",\"訪：\"&$B$52,$B$52))","v":""},{"$f":"IF(AV52=\"休\",\"\",IF(AV52=\"訪\",\"訪：\"&$B$52,$B$52))","v":""},{"$f":"IF(AW52=\"休\",\"\",IF(AW52=\"訪\",\"訪：\"&$B$52,$B$52))","v":""},{"$f":"IF(AX52=\"休\",\"\",IF(AX52=\"訪\",\"訪：\"&$B$52,$B$52))","v":""},{"$f":"IF(AY52=\"休\",\"\",IF(AY52=\"訪\",\"訪：\"&$B$52,$B$52))","v":""},{"$f":"IF(AZ52=\"休\",\"\",IF(AZ52=\"訪\",\"訪：\"&$B$52,$B$52))","v":""},{"$f":"IF(BA52=\"休\",\"\",IF(BA52=\"訪\",\"訪：\"&$B$52,$B$52))","v":""},{"$f":"IF(BB52=\"休\",\"\",IF(BB52=\"訪\",\"訪：\"&$B$52,$B$52))","v":""},{"$f":"IF(BC52=\"休\",\"\",IF(BC52=\"訪\",\"訪：\"&$B$52,$B$52))","v":""},{"$f":"IF(BD52=\"休\",\"\",IF(BD52=\"訪\",\"訪：\"&$B$52,$B$52))","v":""},{"$f":"IF(BE52=\"休\",\"\",IF(BE52=\"訪\",\"訪：\"&$B$52,$B$52))","v":""},{"$f":"IF(BF52=\"休\",\"\",IF(BF52=\"訪\",\"訪：\"&$B$52,$B$52))","v":""},{"$f":"IF(BG52=\"休\",\"\",IF(BG52=\"訪\",\"訪：\"&$B$52,$B$52))","v":""},{"$f":"IF(BH52=\"休\",\"\",IF(BH52=\"訪\",\"訪：\"&$B$52,$B$52))","v":""},{"$f":"IF(BI52=\"休\",\"\",IF(BI52=\"訪\",\"訪：\"&$B$52,$B$52))","v":""},{"$f":"IF(BJ52=\"休\",\"\",IF(BJ52=\"訪\",\"訪：\"&$B$52,$B$52))","v":""},{"$f":"IF(BK52=\"休\",\"\",IF(BK52=\"訪\",\"訪：\"&$B$52,$B$52))","v":""},{"$f":"IF(BL52=\"休\",\"\",IF(BL52=\"訪\",\"訪：\"&$B$52,$B$52))","v":""},{"$f":"IF(BM52=\"休\",\"\",IF(BM52=\"訪\",\"訪：\"&$B$52,$B$52))","v":""},{"$f":"IF(BN52=\"休\",\"\",IF(BN52=\"訪\",\"訪：\"&$B$52,$B$52))","v":""},{"$f":"IF(BO52=\"休\",\"\",IF(BO52=\"訪\",\"訪：\"&$B$52,$B$52))","v":""},{"$f":"IF(BP52=\"休\",\"\",IF(BP52=\"訪\",\"訪：\"&$B$52,$B$52))","v":""}]
[null,null,null,null,null,null,null,null,null,null,null,null,null,null,null,null,null,null,null,null,null,null,null,null,null,null,null,null,null,null,null,null,null,null,null,null,null,null,{"$f":"IF(C53=\"●\",$B$52,\"\")","v":""},{"$f":"IF(D53=\"●\",$B$52,\"\")","v":""},"","","","","","","","","","","","","","","","","","","","","","","","","","","","","","",null,null,{"$f":"IF(AK53=\"●\",$B$52,\"\")","v":""},{"$f":"IF(AL53=\"●\",$B$52,\"\")","v":""},{"$f":"IF(AM53=\"●\",$B$52,\"\")","v":""},{"$f":"IF(AN53=\"●\",$B$52,\"\")","v":""},{"$f":"IF(AO53=\"●\",$B$52,\"\")","v":""},{"$f":"IF(AP53=\"●\",$B$52,\"\")","v":""},{"$f":"IF(AQ53=\"●\",$B$52,\"\")","v":""},{"$f":"IF(AR53=\"●\",$B$52,\"\")","v":""},{"$f":"IF(AS53=\"●\",$B$52,\"\")","v":""},{"$f":"IF(AT53=\"●\",$B$52,\"\")","v":""},{"$f":"IF(AU53=\"●\",$B$52,\"\")","v":""},{"$f":"IF(AV53=\"●\",$B$52,\"\")","v":""},{"$f":"IF(AW53=\"●\",$B$52,\"\")","v":""},{"$f":"IF(AX53=\"●\",$B$52,\"\")","v":""},{"$f":"IF(AY53=\"●\",$B$52,\"\")","v":""},{"$f":"IF(AZ53=\"●\",$B$52,\"\")","v":""},{"$f":"IF(BA53=\"●\",$B$52,\"\")","v":""},{"$f":"IF(BB53=\"●\",$B$52,\"\")","v":""},{"$f":"IF(BC53=\"●\",$B$52,\"\")","v":""},{"$f":"IF(BD53=\"●\",$B$52,\"\")","v":""},{"$f":"IF(BE53=\"●\",$B$52,\"\")","v":""},{"$f":"IF(BF53=\"●\",$B$52,\"\")","v":""},{"$f":"IF(BG53=\"●\",$B$52,\"\")","v":""},{"$f":"IF(BH53=\"●\",$B$52,\"\")","v":""},{"$f":"IF(BI53=\"●\",$B$52,\"\")","v":""},{"$f":"IF(BJ53=\"●\",$B$52,\"\")","v":""},{"$f":"IF(BK53=\"●\",$B$52,\"\")","v":""},{"$f":"IF(BL53=\"●\",$B$52,\"\")","v":""},{"$f":"IF(BM53=\"●\",$B$52,\"\")","v":""},{"$f":"IF(BN53=\"●\",$B$52,\"\")","v":""},{"$f":"IF(BO53=\"●\",$B$52,\"\")","v":""},{"$f":"IF(BP53=\"●\",$B$52,\"\")","v":""}]
[25,{"$f":"IF(Top!C64<>\"\",Top!C64,\"\")","v":""},null,null,null,null,null,null,null,null,null,null,null,null,null,null,null,null,null,null,null,null,null,null,null,null,null,null,null,null,null,null,null,null,"",null,null,"",{"$f":"IF(C54=\"休\",\"\",IF(C54=\"訪\",\"訪：\"&$B$54,$B$54))","v":""},{"$f":"IF(D54=\"休\",\"\",IF(D54=\"訪\",\"訪：\"&$B$54,$B$54))","v":""},"","","","","","","","","","","","","","","","","","","","","","","","","","","","","","",null,null,{"$f":"IF(AK54=\"休\",\"\",IF(AK54=\"訪\",\"訪：\"&$B$54,$B$54))","v":""},{"$f":"IF(AL54=\"休\",\"\",IF(AL54=\"訪\",\"訪：\"&$B$54,$B$54))","v":""},{"$f":"IF(AM54=\"休\",\"\",IF(AM54=\"訪\",\"訪：\"&$B$54,$B$54))","v":""},{"$f":"IF(AN54=\"休\",\"\",IF(AN54=\"訪\",\"訪：\"&$B$54,$B$54))","v":""},{"$f":"IF(AO54=\"休\",\"\",IF(AO54=\"訪\",\"訪：\"&$B$54,$B$54))","v":""},{"$f":"IF(AP54=\"休\",\"\",IF(AP54=\"訪\",\"訪：\"&$B$54,$B$54))","v":""},{"$f":"IF(AQ54=\"休\",\"\",IF(AQ54=\"訪\",\"訪：\"&$B$54,$B$54))","v":""},{"$f":"IF(AR54=\"休\",\"\",IF(AR54=\"訪\",\"訪：\"&$B$54,$B$54))","v":""},{"$f":"IF(AS54=\"休\",\"\",IF(AS54=\"訪\",\"訪：\"&$B$54,$B$54))","v":""},{"$f":"IF(AT54=\"休\",\"\",IF(AT54=\"訪\",\"訪：\"&$B$54,$B$54))","v":""},{"$f":"IF(AU54=\"休\",\"\",IF(AU54=\"訪\",\"訪：\"&$B$54,$B$54))","v":""},{"$f":"IF(AV54=\"休\",\"\",IF(AV54=\"訪\",\"訪：\"&$B$54,$B$54))","v":""},{"$f":"IF(AW54=\"休\",\"\",IF(AW54=\"訪\",\"訪：\"&$B$54,$B$54))","v":""},{"$f":"IF(AX54=\"休\",\"\",IF(AX54=\"訪\",\"訪：\"&$B$54,$B$54))","v":""},{"$f":"IF(AY54=\"休\",\"\",IF(AY54=\"訪\",\"訪：\"&$B$54,$B$54))","v":""},{"$f":"IF(AZ54=\"休\",\"\",IF(AZ54=\"訪\",\"訪：\"&$B$54,$B$54))","v":""},{"$f":"IF(BA54=\"休\",\"\",IF(BA54=\"訪\",\"訪：\"&$B$54,$B$54))","v":""},{"$f":"IF(BB54=\"休\",\"\",IF(BB54=\"訪\",\"訪：\"&$B$54,$B$54))","v":""},{"$f":"IF(BC54=\"休\",\"\",IF(BC54=\"訪\",\"訪：\"&$B$54,$B$54))","v":""},{"$f":"IF(BD54=\"休\",\"\",IF(BD54=\"訪\",\"訪：\"&$B$54,$B$54))","v":""},{"$f":"IF(BE54=\"休\",\"\",IF(BE54=\"訪\",\"訪：\"&$B$54,$B$54))","v":""},{"$f":"IF(BF54=\"休\",\"\",IF(BF54=\"訪\",\"訪：\"&$B$54,$B$54))","v":""},{"$f":"IF(BG54=\"休\",\"\",IF(BG54=\"訪\",\"訪：\"&$B$54,$B$54))","v":""},{"$f":"IF(BH54=\"休\",\"\",IF(BH54=\"訪\",\"訪：\"&$B$54,$B$54))","v":""},{"$f":"IF(BI54=\"休\",\"\",IF(BI54=\"訪\",\"訪：\"&$B$54,$B$54))","v":""},{"$f":"IF(BJ54=\"休\",\"\",IF(BJ54=\"訪\",\"訪：\"&$B$54,$B$54))","v":""},{"$f":"IF(BK54=\"休\",\"\",IF(BK54=\"訪\",\"訪：\"&$B$54,$B$54))","v":""},{"$f":"IF(BL54=\"休\",\"\",IF(BL54=\"訪\",\"訪：\"&$B$54,$B$54))","v":""},{"$f":"IF(BM54=\"休\",\"\",IF(BM54=\"訪\",\"訪：\"&$B$54,$B$54))","v":""},{"$f":"IF(BN54=\"休\",\"\",IF(BN54=\"訪\",\"訪：\"&$B$54,$B$54))","v":""},{"$f":"IF(BO54=\"休\",\"\",IF(BO54=\"訪\",\"訪：\"&$B$54,$B$54))","v":""},{"$f":"IF(BP54=\"休\",\"\",IF(BP54=\"訪\",\"訪：\"&$B$54,$B$54))","v":""}]
[null,null,null,null,null,null,null,null,null,null,null,null,null,null,null,null,null,null,null,null,null,null,null,null,null,null,null,null,null,null,null,null,null,null,null,null,null,null,{"$f":"IF(C55=\"●\",$B$54,\"\")","v":""},{"$f":"IF(D55=\"●\",$B$54,\"\")","v":""},"","","","","","","","","","","","","","","","","","","","","","","","","","","","","","",null,null,{"$f":"IF(AK55=\"●\",$B$54,\"\")","v":""},{"$f":"IF(AL55=\"●\",$B$54,\"\")","v":""},{"$f":"IF(AM55=\"●\",$B$54,\"\")","v":""},{"$f":"IF(AN55=\"●\",$B$54,\"\")","v":""},{"$f":"IF(AO55=\"●\",$B$54,\"\")","v":""},{"$f":"IF(AP55=\"●\",$B$54,\"\")","v":""},{"$f":"IF(AQ55=\"●\",$B$54,\"\")","v":""},{"$f":"IF(AR55=\"●\",$B$54,\"\")","v":""},{"$f":"IF(AS55=\"●\",$B$54,\"\")","v":""},{"$f":"IF(AT55=\"●\",$B$54,\"\")","v":""},{"$f":"IF(AU55=\"●\",$B$54,\"\")","v":""},{"$f":"IF(AV55=\"●\",$B$54,\"\")","v":""},{"$f":"IF(AW55=\"●\",$B$54,\"\")","v":""},{"$f":"IF(AX55=\"●\",$B$54,\"\")","v":""},{"$f":"IF(AY55=\"●\",$B$54,\"\")","v":""},{"$f":"IF(AZ55=\"●\",$B$54,\"\")","v":""},{"$f":"IF(BA55=\"●\",$B$54,\"\")","v":""},{"$f":"IF(BB55=\"●\",$B$54,\"\")","v":""},{"$f":"IF(BC55=\"●\",$B$54,\"\")","v":""},{"$f":"IF(BD55=\"●\",$B$54,\"\")","v":""},{"$f":"IF(BE55=\"●\",$B$54,\"\")","v":""},{"$f":"IF(BF55=\"●\",$B$54,\"\")","v":""},{"$f":"IF(BG55=\"●\",$B$54,\"\")","v":""},{"$f":"IF(BH55=\"●\",$B$54,\"\")","v":""},{"$f":"IF(BI55=\"●\",$B$54,\"\")","v":""},{"$f":"IF(BJ55=\"●\",$B$54,\"\")","v":""},{"$f":"IF(BK55=\"●\",$B$54,\"\")","v":""},{"$f":"IF(BL55=\"●\",$B$54,\"\")","v":""},{"$f":"IF(BM55=\"●\",$B$54,\"\")","v":""},{"$f":"IF(BN55=\"●\",$B$54,\"\")","v":""},{"$f":"IF(BO55=\"●\",$B$54,\"\")","v":""},{"$f":"IF(BP55=\"●\",$B$54,\"\")","v":""}]
[null,null,{"$f":"C1","v":6},{"$f":"D1","v":6},{"$f":"E1","v":5},3,3,6,6,6,5,6,5,4,6,6,3,3,5,5,5,6,5,5,6,6,5,4,6,6,6,6,6,""]
[null,null,{"$f":"利用人数-COUNTIF(C6:C55,\"休\")","v":9},{"$f":"利用人数-COUNTIF(D6:D55,\"休\")","v":9},9,6,7,9,9,9,8,9,9,7,9,9,6,6,8,{"$f":"利用人数-COUNTIF(T6:T55,\"休\")","v":9},8,9,8,{"$f":"利用人数-COUNTIF(X6:X55,\"休\")","v":8},9,9,9,7,9,9,9,9,9,9]
[]
[]
[]
[]
[]
[]
[]
[]
[]
[]
[]
[]
[null,"祝日",{"$f":"IF(C4=\"\",\"\",IF(ISNA(MATCH(C4,休日,0)),0,1))","v":0},0,0,0,0,0,0,0,0,0,0,0,0,0,0,0,0,0,0,0,0,0,0,0,0,0,0,0,0,0,0,""]
[null,"日祝日",{"$f":"IF(WEEKDAY(C5)=1,1,IF(C70=1,1,0))","v":0},{"$f":"IF(WEEKDAY(D5)=1,1,IF(D70=1,1,0))","v":0},1,0,0,0,0,0,0,1,0,0,0,0,0,0,1,0,0,0,0,0,0,1,0,0,0,0,0,0,1,{"$error":"#VALUE!"}]
[]
[]
[]
[]
[]
[]
[]
[]
[]
[]
[]
[]
[]
[]
[]
[]
[]
[]
[]
[]
[]
[]
[]
[]
[]
[]
[]
[]
[null,"日付",{"$f":"C4","v":"2013-05-31"},{"$f":"D4","v":"2013-06-01"},"2013-06-02","2013-06-03","2013-06-04","2013-06-05","2013-06-06","2013-06-07","2013-06-08","2013-06-09","2013-06-10","2013-06-11","2013-06-12","2013-06-13","2013-06-14","2013-06-15","2013-06-16","2013-06-17","2013-06-18","2013-06-19","2013-06-20","2013-06-21","2013-06-22","2013-06-23","2013-06-24","2013-06-25","2013-06-26","2013-06-27","2013-06-28","2013-06-29","2013-06-30",""]
[1,{"$f":"Top!C40","v":"利用者A"},{"$f":"C6","v":0},{"$f":"D6","v":0},0,0,0,0,0,0,0,0,0,0,0,0,0,0,0,0,0,0,0,0,0,0,0,0,0,0,0,0,0,0]
[2,{"$f":"Top!C41","v":"利用者B"},{"$f":"C8","v":0},{"$f":"D8","v":0},"休","休","休",0,0,0,0,0,0,0,0,0,"休","休","休",0,0,0,0,0,0,0,0,0,0,0,0,0,0,0]
[3,{"$f":"Top!C42","v":"利用者C"},{"$f":"C10","v":"訪"},{"$f":"D10","v":"訪"},"訪","訪","訪","訪","訪","訪","訪","訪","訪","訪","訪","訪","訪","訪","訪","訪","訪","訪","訪","訪","訪","訪","訪","訪","訪","訪","訪","訪","訪","訪"]
[4,{"$f":"Top!C43","v":"利用者D"},{"$f":"C12","v":0},{"$f":"D12","v":0},0,"休","休","休","休",0,0,0,0,"休","休",0,"休","休",0,0,"休","休",0,0,0,0,0,"休","休",0,0,0,0,0]
[5,{"$f":"Top!C44","v":"利用者E"},{"$f":"C14","v":0},{"$f":"D14","v":"休"},0,"休",0,0,0,0,"休",0,"休",0,0,0,0,"休",0,"休",0,0,0,0,"休",0,"休",0,0,0,0,"休",0,"休"]
[6,{"$f":"Top!C45","v":"利用者F"},{"$f":"C16","v":"休"},{"$f":"D16","v":0},"訪","休","訪",0,0,"休",0,"休","訪","休",0,"休","休",0,"休","訪","休",0,"休","休",0,"休","訪","休",0,"休","休",0,"休","訪"]
[7,{"$f":"Top!C46","v":"利用者G"},{"$f":"C18","v":"訪"},{"$f":"D18","v":"訪"},"訪","訪","訪","訪","訪","訪","訪","訪","訪","訪","訪","訪","訪","訪","訪","訪","訪","訪","訪","訪","訪","訪","訪","訪","訪","訪","訪","訪","訪","訪"]
[8,{"$f":"Top!C47","v":"利用者H"},{"$f":"C20","v":0},{"$f":"D20","v":0},0,0,0,0,0,0,0,0,0,0,0,0,0,0,0,0,0,0,0,0,0,0,0,0,0,0,0,0,0,0]
[9,{"$f":"Top!C48","v":"利用者I"},{"$f":"C22","v":0},{"$f":"D22","v":0},0,0,"休",0,0,0,"休",0,0,"休",0,0,"休","休",0,0,0,0,"休","休",0,0,0,"休",0,0,0,0,0,0]
[10,{"$f":"Top!C49","v":"利用者J"},{"$f":"C24","v":"訪"},{"$f":"D24","v":"訪"},"訪","訪","訪","訪","訪","訪","訪","訪","訪","訪","訪","訪","訪","訪","訪","訪","訪","訪","訪","訪","訪","訪","訪","訪","訪","訪","訪","訪","訪","訪"]
[11,{"$f":"Top!C50","v":0},{"$f":"C26","v":0},{"$f":"D26","v":0},0,0,0,0,0,0,0,0,0,0,0,0,0,0,0,0,0,0,0,0,0,0,0,0,0,0,0,0,0,0]
[12,{"$f":"Top!C51","v":0},{"$f":"C28","v":0},{"$f":"D28","v":0},0,0,0,0,0,0,0,0,0,0,0,0,0,0,0,0,0,0,0,0,0,0,0,0,0,0,0,0,0,0]
[13,{"$f":"Top!C52","v":0},{"$f":"C30","v":0},{"$f":"D30","v":0},0,0,0,0,0,0,0,0,0,0,0,0,0,0,0,0,0,0,0,0,0,0,0,0,0,0,0,0,0,0]
[14,{"$f":"Top!C53","v":0},{"$f":"C32","v":0},{"$f":"D32","v":0},0,0,0,0,0,0,0,0,0,0,0,0,0,0,0,0,0,0,0,0,0,0,0,0,0,0,0,0,0,0]
[15,{"$f":"Top!C54","v":0},{"$f":"C34","v":0},{"$f":"D34","v":0},0,0,0,0,0,0,0,0,0,0,0,0,0,0,0,0,0,0,0,0,0,0,0,0,0,0,0,0,0,0]
[16,{"$f":"Top!C55","v":0},{"$f":"C36","v":0},{"$f":"D36","v":0},0,0,0,0,0,0,0,0,0,0,0,0,0,0,0,0,0,0,0,0,0,0,0,0,0,0,0,0,0,0]
[17,{"$f":"Top!C56","v":0},{"$f":"C38","v":0},{"$f":"D38","v":0},0,0,0,0,0,0,0,0,0,0,0,0,0,0,0,0,0,0,0,0,0,0,0,0,0,0,0,0,0,0]
[18,{"$f":"Top!C57","v":0},{"$f":"C40","v":0},{"$f":"D40","v":0},0,0,0,0,0,0,0,0,0,0,0,0,0,0,0,0,0,0,0,0,0,0,0,0,0,0,0,0,0,0]
[19,{"$f":"Top!C58","v":0},{"$f":"C42","v":0},{"$f":"D42","v":0},0,0,0,0,0,0,0,0,0,0,0,0,0,0,0,0,0,0,0,0,0,0,0,0,0,0,0,0,0,0]
[20,{"$f":"Top!C59","v":0},{"$f":"C44","v":0},{"$f":"D44","v":0},0,0,0,0,0,0,0,0,0,0,0,0,0,0,0,0,0,0,0,0,0,0,0,0,0,0,0,0,0,0]
[21,{"$f":"Top!C60","v":0},{"$f":"C46","v":0},{"$f":"D46","v":0},0,0,0,0,0,0,0,0,0,0,0,0,0,0,0,0,0,0,0,0,0,0,0,0,0,0,0,0,0,0]
[22,{"$f":"Top!C61","v":0},{"$f":"C48","v":0},{"$f":"D48","v":0},0,0,0,0,0,0,0,0,0,0,0,0,0,0,0,0,0,0,0,0,0,0,0,0,0,0,0,0,0,0]
[23,{"$f":"Top!C62","v":0},{"$f":"C50","v":0},{"$f":"D50","v":0},0,0,0,0,0,0,0,0,0,0,0,0,0,0,0,0,0,0,0,0,0,0,0,0,0,0,0,0,0,0]
[24,{"$f":"Top!C63","v":0},{"$f":"C52","v":0},{"$f":"D52","v":0},0,0,0,0,0,0,0,0,0,0,0,0,0,0,0,0,0,0,0,0,0,0,0,0,0,0,0,0,0,0]
[25,{"$f":"Top!C64","v":0},{"$f":"C54","v":0},{"$f":"D54","v":0},0,0,0,0,0,0,0,0,0,0,0,0,0,0,0,0,0,0,0,0,0,0,0,0,0,0,0,0,0,0]
[]
[null,"日付",{"$f":"C4","v":"2013-05-31"},{"$f":"D4","v":"2013-06-01"},"2013-06-02","2013-06-03","2013-06-04","2013-06-05","2013-06-06","2013-06-07","2013-06-08","2013-06-09","2013-06-10","2013-06-11","2013-06-12","2013-06-13","2013-06-14","2013-06-15","2013-06-16","2013-06-17","2013-06-18","2013-06-19","2013-06-20","2013-06-21","2013-06-22","2013-06-23","2013-06-24","2013-06-25","2013-06-26","2013-06-27","2013-06-28","2013-06-29","2013-06-30",""]
[1,{"$f":"Top!C40","v":"利用者A"},{"$f":"C7","v":"●"},{"$f":"D7","v":"●"},"●","●",0,"●","●","●","●","●","●","●","●","●","●","●","●","●","●","●","●","●","●","●","●",0,"●","●","●","●","●","●"]
[2,{"$f":"Top!C41","v":"利用者B"},{"$f":"C9","v":"●"},{"$f":"D9","v":"●"},0,0,0,"●","●","●","●","●","●","●","●","●",0,0,0,"●","●","●","●","●","●","●","●","●","●","●","●","●","●","●"]
[3,{"$f":"Top!C42","v":"利用者C"},{"$f":"C11","v":0},{"$f":"D11","v":0},0,0,0,0,0,0,0,0,0,0,0,0,0,0,0,0,0,0,0,0,0,0,0,0,0,0,0,0,0,0]
[4,{"$f":"Top!C43","v":"利用者D"},{"$f":"C13","v":0},{"$f":"D13","v":0},0,0,0,0,0,0,0,0,0,0,0,0,0,0,0,0,0,0,0,0,0,0,0,0,0,0,0,0,0,0]
[5,{"$f":"Top!C44","v":"利用者E"},{"$f":"C15","v":0},{"$f":"D15","v":0},0,0,"●","●","●",0,0,0,0,"●","●","●",0,0,0,0,"●","●","●",0,0,0,0,"●","●","●",0,0,0,0]
[6,{"$f":"Top!C45","v":"利用者F"},{"$f":"C17","v":0},{"$f":"D17","v":0},0,0,0,0,0,0,0,0,0,0,0,0,0,0,0,0,0,0,0,0,0,0,0,0,0,0,0,0,0,0]
[7,{"$f":"Top!C46","v":"利用者G"},{"$f":"C19","v":"●"},{"$f":"D19","v":"●"},"●","●","●","●","●","●","●","●","●","●","●","●","●","●","●","●","●","●","●","●","●","●","●","●","●","●","●","●","●","●"]
[8,{"$f":"Top!C47","v":"利用者H"},{"$f":"C21","v":"●"},{"$f":"D21","v":"●"},"●","●","●","●","●","●","●","●","●","●","●","●","●","●","●","●","●","●","●","●","●","●","●","●","●","●","●","●","●","●"]
[9,{"$f":"Top!C48","v":"利用者I"},{"$f":"C23","v":0},{"$f":"D23","v":0},0,0,0,0,0,0,0,0,0,0,0,0,0,0,0,0,0,0,0,0,0,0,0,0,0,0,0,0,0,0]
[10,{"$f":"Top!C49","v":"利用者J"},{"$f":"C25","v":0},{"$f":"D25","v":0},0,0,0,0,0,0,0,0,0,0,0,0,0,0,0,0,0,0,0,0,0,0,0,0,0,0,0,0,0,0]
[11,{"$f":"Top!C50","v":0},{"$f":"C27","v":0},{"$f":"D27","v":0},0,0,0,0,0,0,0,0,0,0,0,0,0,0,0,0,0,0,0,0,0,0,0,0,0,0,0,0,0,0]
[12,{"$f":"Top!C51","v":0},{"$f":"C29","v":0},{"$f":"D29","v":0},0,0,0,0,0,0,0,0,0,0,0,0,0,0,0,0,0,0,0,0,0,0,0,0,0,0,0,0,0,0]
[13,{"$f":"Top!C52","v":0},{"$f":"C31","v":0},{"$f":"D31","v":0},0,0,0,0,0,0,0,0,0,0,0,0,0,0,0,0,0,0,0,0,0,0,0,0,0,0,0,0,0,0]
[14,{"$f":"Top!C53","v":0},{"$f":"C33","v":0},{"$f":"D33","v":0},0,0,0,0,0,0,0,0,0,0,0,0,0,0,0,0,0,0,0,0,0,0,0,0,0,0,0,0,0,0]
[15,{"$f":"Top!C54","v":0},{"$f":"C35","v":0},{"$f":"D35","v":0},0,0,0,0,0,0,0,0,0,0,0,0,0,0,0,0,0,0,0,0,0,0,0,0,0,0,0,0,0,0]
[16,{"$f":"Top!C55","v":0},{"$f":"C37","v":0},{"$f":"D37","v":0},0,0,0,0,0,0,0,0,0,0,0,0,0,0,0,0,0,0,0,0,0,0,0,0,0,0,0,0,0,0]
[17,{"$f":"Top!C56","v":0},{"$f":"C39","v":0},{"$f":"D39","v":0},0,0,0,0,0,0,0,0,0,0,0,0,0,0,0,0,0,0,0,0,0,0,0,0,0,0,0,0,0,0]
[18,{"$f":"Top!C57","v":0},{"$f":"C41","v":0},{"$f":"D41","v":0},0,0,0,0,0,0,0,0,0,0,0,0,0,0,0,0,0,0,0,0,0,0,0,0,0,0,0,0,0,0]
[19,{"$f":"Top!C58","v":0},{"$f":"C43","v":0},{"$f":"D43","v":0},0,0,0,0,0,0,0,0,0,0,0,0,0,0,0,0,0,0,0,0,0,0,0,0,0,0,0,0,0,0]
[20,{"$f":"Top!C59","v":0},{"$f":"C45","v":0},{"$f":"D45","v":0},0,0,0,0,0,0,0,0,0,0,0,0,0,0,0,0,0,0,0,0,0,0,0,0,0,0,0,0,0,0]
[21,{"$f":"Top!C60","v":0},{"$f":"C47","v":0},{"$f":"D47","v":0},0,0,0,0,0,0,0,0,0,0,0,0,0,0,0,0,0,0,0,0,0,0,0,0,0,0,0,0,0,0]
[22,{"$f":"Top!C61","v":0},{"$f":"C49","v":0},{"$f":"D49","v":0},0,0,0,0,0,0,0,0,0,0,0,0,0,0,0,0,0,0,0,0,0,0,0,0,0,0,0,0,0,0]
[23,{"$f":"Top!C62","v":0},{"$f":"C51","v":0},{"$f":"D51","v":0},0,0,0,0,0,0,0,0,0,0,0,0,0,0,0,0,0,0,0,0,0,0,0,0,0,0,0,0,0,0]
[24,{"$f":"Top!C63","v":0},{"$f":"C53","v":0},{"$f":"D53","v":0},0,0,0,0,0,0,0,0,0,0,0,0,0,0,0,0,0,0,0,0,0,0,0,0,0,0,0,0,0,0]
[25,{"$f":"Top!C64","v":0},{"$f":"C55","v":0},{"$f":"D55","v":0},0,0,0,0,0,0,0,0,0,0,0,0,0,0,0,0,0,0,0,0,0,0,0,0,0,0,0,0,0,0]
[]
[null,"VLOOKUPの列取得番号",2,3,4,5,6,7,8,9,10,11,12,13,14,15,16,17,18,19,20,21,22,23,24,25,26,27,28,29,30,31,32,33]
[null,"日付",{"$f":"DATE(年,月,1)-1","v":"2013-05-31"},{"$f":"C155+1","v":"2013-06-01"},{"$f":"D155+1","v":"2013-06-02"},"2013-06-03","2013-06-04","2013-06-05","2013-06-06","2013-06-07","2013-06-08","2013-06-09","2013-06-10","2013-06-11","2013-06-12","2013-06-13","2013-06-14","2013-06-15","2013-06-16","2013-06-17","2013-06-18","2013-06-19","2013-06-20","2013-06-21","2013-06-22","2013-06-23","2013-06-24","2013-06-25","2013-06-26","2013-06-27","2013-06-28","2013-06-29","2013-06-30","2013-07-01"]
[null,"朝",{"$f":"SUM(C160:C164)","v":0},{"$f":"SUM(D160:D164)","v":0},0,0,0,0,0,0,0,0,0,0,0,0,0,0,0,0,0,0,0,0,0,0,0,0,0,0,0,0,0,0]
[null,"昼",{"$f":"SUM(C165:C169)","v":0},{"$f":"SUM(D165:D169)","v":0},0,0,0,0,0,0,0,0,0,0,0,0,0,0,0,0,0,0,0,0,0,0,0,0,0,0,0,0,0,0]
[null,"夕",{"$f":"SUM(C170:C174)","v":{"$error":"#N/A"}},{"$f":"SUM(D170:D174)","v":{"$error":"#N/A"}},{"$error":"#N/A"},{"$error":"#N/A"},{"$error":"#N/A"},{"$error":"#N/A"},{"$error":"#N/A"},{"$error":"#N/A"},{"$error":"#N/A"},{"$error":"#N/A"},{"$error":"#N/A"},{"$error":"#N/A"},{"$error":"#N/A"},{"$error":"#N/A"},{"$error":"#N/A"},{"$error":"#N/A"},{"$error":"#N/A"},{"$error":"#N/A"},{"$error":"#N/A"},{"$error":"#N/A"},{"$error":"#N/A"},{"$error":"#N/A"},{"$error":"#N/A"},{"$error":"#N/A"},{"$error":"#N/A"},{"$error":"#N/A"},{"$error":"#N/A"},{"$error":"#N/A"},{"$error":"#N/A"},{"$error":"#N/A"},{"$error":"#N/A"},{"$error":"#N/A"}]
[null,"夕後",{"$f":"C181","v":0},{"$f":"D181","v":0},0,0,0,0,0,0,0,0,0,0,0,0,0,0,0,0,0,0,0,0,0,0,0,0,0,0,0,0,0,0]
["朝",{"$f":"IF(Top!F69<>\"\",Top!F69,\"\")","v":""},{"$f":"IF($B160<>\"\",IF(AND(VLOOKUP($B160,通,C$154,FALSE)=\"訪\",C195<>1),1,\"\"),\"\")","v":""},"","","","","","","","","","","","","","","","","","","","","","","","","","","","","","",""]
["朝",{"$f":"IF(Top!F70<>\"\",Top!F70,\"\")","v":""},{"$f":"IF($B161<>\"\",IF(AND(VLOOKUP($B161,通,C$154,FALSE)<>\"休\",C196<>1),1,\"\"),\"\")","v":""},"","","","","","","","","","","","","","","","","","","","","","","","","","","","","","",""]
["朝",{"$f":"IF(Top!F71<>\"\",Top!F71,\"\")","v":""},{"$f":"IF($B162<>\"\",IF(AND(VLOOKUP($B162,通,C$154,FALSE)<>\"休\",C197<>1),1,\"\"),\"\")","v":""},"","","","","","","","","","","","","","","","","","","","","","","","","","","","","","",""]
["朝",{"$f":"IF(Top!F72<>\"\",Top!F72,\"\")","v":""},{"$f":"IF($B163<>\"\",IF(AND(VLOOKUP($B163,通,C$154,FALSE)<>\"休\",C198<>1),1,\"\"),\"\")","v":""},"","","","","","","","","","","","","","","","","","","","","","","","","","","","","","",""]
["朝",{"$f":"IF(Top!F73<>\"\",Top!F73,\"\")","v":""},{"$f":"IF($B164<>\"\",IF(AND(VLOOKUP($B164,通,C$154,FALSE)<>\"休\",C199<>1),1,\"\"),\"\")","v":""},"","","","","","","","","","","","","","","","","","","","","","","","","","","","","","",""]
["昼",{"$f":"IF(Top!F74<>\"\",Top!F74,\"\")","v":""},{"$f":"IF($B165<>\"\",IF(AND(VLOOKUP($B165,通,C154,FALSE)=\"訪\"),1,\"\"),\"\")","v":""},"","","","","","","","","","","","","","","","","","","","","","","","","","","","","","",""]
["昼",{"$f":"IF(Top!F75<>\"\",Top!F75,\"\")","v":""},{"$f":"IF($B166<>\"\",IF(AND(VLOOKUP($B166,通,C154,FALSE)=\"訪\"),1,\"\"),\"\")","v":""},"","","","","","","","","","","","","","","","","","","","","","","","","","","","","","",""]
["昼",{"$f":"IF(Top!F76<>\"\",Top!F76,\"\")","v":""},{"$f":"IF($B167<>\"\",IF(AND(VLOOKUP($B167,通,C154,FALSE)=\"訪\"),1,\"\"),\"\")","v":""},"","","","","","","","","","","","","","","","","","","","","","","","","","","","","","",""]
["昼",{"$f":"IF(Top!F77<>\"\",Top!F77,\"\")","v":""},{"$f":"IF($B168<>\"\",IF(AND(VLOOKUP($B168,通,C154,FALSE)=\"訪\"),1,\"\"),\"\")","v":""},"","","","","","","","","","","","","","","","","","","","","","","","","","","","","","",""]
["昼",{"$f":"IF(Top!F78<>\"\",Top!F78,\"\")","v":""},{"$f":"IF($B169<>\"\",IF(AND(VLOOKUP($B169,通,C154,FALSE)=\"訪\"),1,\"\"),\"\")","v":""},"","","","","","","","","","","","","","","","","","","","","","","","","","","","","","",""]
["夕",{"$f":"IF(Top!F79<>\"\",Top!F79,\"\")","v":""},{"$f":"IF($B170<>\"\",IF(AND(VLOOKUP($B170,通,C$154,FALSE)<>\"休\",VLOOKUP($B170,泊,C$154,FALSE)<>\"●\"),1,\"\"),\"\")","v":""},"","","","","","","","","",{"$f":"IF($B170<>\"\",IF(AND(VLOOKUP($B170,通,M$154,FALSE)<>\"休\",VLOOKUP($B170,泊,M$154,FALSE)<>\"●\"),1,\"\"),\"\")","v":""},"","","","","","","","","",{"$f":"IF($B170<>\"\",IF(AND(VLOOKUP($B170,通,W$154,FALSE)<>\"休\",VLOOKUP($B170,泊,W$154,FALSE)<>\"●\"),1,\"\"),\"\")","v":""},"","","","","","","","","","","",{"$f":"Top!G79","v":0}]
["夕",{"$f":"IF(Top!F80<>\"\",Top!F80,\"\")","v":""},"","","","","","","","","","","","","","","","","","","","","","","","","","","","","","","","",{"$f":"Top!G80","v":0}]
["夕",{"$f":"IF(Top!F81<>\"\",Top!F81,\"\")","v":""},"","","","","","","","","","","","","","","","","","","","","","","","","","","","","","","","",{"$f":"Top!G81","v":0}]
["夕",{"$f":"IF(Top!F82<>\"\",Top!F82,\"\")","v":""},"","","","","","","","","","","","","","","","","","","","","","","","","","","","","","","","",{"$f":"Top!G82","v":"日祭日"}]
["夕",{"$f":"IF(Top!F83<>\"\",Top!F83,\"\")","v":""},{"$f":"IF(VLOOKUP($B174,泊,C$154,FALSE)<>\"●\",1,0)","v":{"$error":"#N/A"}},{"$error":"#N/A"},{"$error":"#N/A"},{"$error":"#N/A"},{"$error":"#N/A"},{"$error":"#N/A"},{"$error":"#N/A"},{"$error":"#N/A"},{"$error":"#N/A"},{"$error":"#N/A"},{"$error":"#N/A"},{"$error":"#N/A"},{"$error":"#N/A"},{"$error":"#N/A"},{"$error":"#N/A"},{"$error":"#N/A"},{"$error":"#N/A"},{"$error":"#N/A"},{"$error":"#N/A"},{"$error":"#N/A"},{"$error":"#N/A"},{"$error":"#N/A"},{"$error":"#N/A"},{"$error":"#N/A"},{"$error":"#N/A"},{"$error":"#N/A"},{"$error":"#N/A"},{"$error":"#N/A"},{"$error":"#N/A"},{"$error":"#N/A"},{"$error":"#N/A"},{"$error":"#N/A"},{"$f":"Top!G83","v":"泊以外全て"}]
[null,"曜日指定以外"]
[]
[]
[]
[]
[]
[null,"夕食後送り",{"$f":"SUM(C182:C187)","v":0},{"$f":"SUM(D182:D187)","v":0},0,0,0,0,0,0,0,0,0,0,0,0,0,0,0,0,0,0,0,0,0,0,0,0,0,0,0,0,0,0]
[null,{"$f":"IF(Top!F87<>\"\",Top!F87,\"\")","v":""},{"$f":"IF($B$182<>\"\",IF(AND(VLOOKUP($B$182,通,C$154,FALSE)<>\"休\",VLOOKUP($B$182,泊,C$154,FALSE)<>\"●\"),1,0),\"\")","v":""},"","","","","","","","","","","","","","","","","","","","","","","","","","","","","","",""]
[null,{"$f":"IF(Top!F88<>\"\",Top!F88,\"\")","v":""},{"$f":"IF($B$183<>\"\",IF(AND(VLOOKUP($B$183,通,C$154,FALSE)<>\"休\",VLOOKUP($B$183,通,C$154,FALSE)<>\"訪\",VLOOKUP($B$183,泊,C$154,FALSE)<>\"●\"),1,0),\"\")","v":""},"","","","","","","","","","","","","","","","","","","","","","","","","","","","","","",""]
[null,{"$f":"IF(Top!F89<>\"\",Top!F89,\"\")","v":""},{"$f":"IF($B$184<>\"\",IF(AND(VLOOKUP($B$184,通,C$154,FALSE)<>\"休\",VLOOKUP($B$184,泊,C$154,FALSE)<>\"●\"),1,0),\"\")","v":""},"","","","","","","","","","","","","","","","","","","","","","","","","","","","","","",""]
[null,{"$f":"IF(Top!F90<>\"\",Top!F90,\"\")","v":""},{"$f":"IF($B$185<>\"\",IF(AND(VLOOKUP($B$185,通,C$154,FALSE)<>\"休\",VLOOKUP($B$185,泊,C$154,FALSE)<>\"●\"),1,0),\"\")","v":""},"","","","","","","","","","","","","","","","","","","","","","","","","","","","","","",""]
[null,{"$f":"IF(Top!F91<>\"\",Top!F91,\"\")","v":""},{"$f":"IF($B$186<>\"\",IF(AND(VLOOKUP($B$186,通,C$154,FALSE)<>\"休\",VLOOKUP($B$186,泊,C$154,FALSE)<>\"●\"),1,0),\"\")","v":""},"","","","","","","","","","","","","","","","","","","","","","","","","","","","","","",""]
[null,"曜日指定",{"$f":"SUM(C188:C192)","v":0},0,0,0,0,0,0,0,0,{"$f":"SUM(L188:L192)","v":0},{"$f":"SUM(M188:M192)","v":0},0,0,0,0,0,0,0,0,0,0,0,0,0,0,0,0,0,0,0,0,{"$f":"SUM(AH188:AH192)","v":0}]
[null,{"$f":"IF(Top!E94<>\"\",Top!E94,\"\")","v":""},{"$f":"IF($B$188<>\"\",IF(OR(VLOOKUP($B$188,通,C$154,FALSE)=\"休\",VLOOKUP($B$188,泊,C$154,FALSE)=\"●\",ISNA(MATCH(WEEKDAY(C155),Top!$N$94:$T$94,0)=TRUE)),0,1),\"\")","v":""},{"$f":"IF($B$188<>\"\",IF(OR(VLOOKUP($B$188,通,D$154,FALSE)=\"休\",VLOOKUP($B$188,泊,D$154,FALSE)=\"●\",ISNA(MATCH(WEEKDAY(D155),Top!$N$94:$T$94,0)=TRUE)),0,1),\"\")","v":""},{"$f":"IF($B$188<>\"\",IF(OR(VLOOKUP($B$188,通,E$154,FALSE)=\"休\",VLOOKUP($B$188,泊,E$154,FALSE)=\"●\",ISNA(MATCH(WEEKDAY(E155),Top!$N$94:$T$94,0)=TRUE)),0,1),\"\")","v":""},{"$f":"IF($B$188<>\"\",IF(OR(VLOOKUP($B$188,通,F$154,FALSE)=\"休\",VLOOKUP($B$188,泊,F$154,FALSE)=\"●\",ISNA(MATCH(WEEKDAY(F155),Top!$N$94:$T$94,0)=TRUE)),0,1),\"\")","v":""},{"$f":"IF($B$188<>\"\",IF(OR(VLOOKUP($B$188,通,G$154,FALSE)=\"休\",VLOOKUP($B$188,泊,G$154,FALSE)=\"●\",ISNA(MATCH(WEEKDAY(G155),Top!$N$94:$T$94,0)=TRUE)),0,1),\"\")","v":""},{"$f":"IF($B$188<>\"\",IF(OR(VLOOKUP($B$188,通,H$154,FALSE)=\"休\",VLOOKUP($B$188,泊,H$154,FALSE)=\"●\",ISNA(MATCH(WEEKDAY(H155),Top!$N$94:$T$94,0)=TRUE)),0,1),\"\")","v":""},{"$f":"IF($B$188<>\"\",IF(OR(VLOOKUP($B$188,通,I$154,FALSE)=\"休\",VLOOKUP($B$188,泊,I$154,FALSE)=\"●\",ISNA(MATCH(WEEKDAY(I155),Top!$N$94:$T$94,0)=TRUE)),0,1),\"\")","v":""},{"$f":"IF($B$188<>\"\",IF(OR(VLOOKUP($B$188,通,J$154,FALSE)=\"休\",VLOOKUP($B$188,泊,J$154,FALSE)=\"●\",ISNA(MATCH(WEEKDAY(J155),Top!$N$94:$T$94,0)=TRUE)),0,1),\"\")","v":""},{"$f":"IF($B$188<>\"\",IF(OR(VLOOKUP($B$188,通,K$154,FALSE)=\"休\",VLOOKUP($B$188,泊,K$154,FALSE)=\"●\",ISNA(MATCH(WEEKDAY(K155),Top!$N$94:$T$94,0)=TRUE)),0,1),\"\")","v":""},{"$f":"IF($B$188<>\"\",IF(OR(VLOOKUP($B$188,通,L$154,FALSE)=\"休\",VLOOKUP($B$188,泊,L$154,FALSE)=\"●\",ISNA(MATCH(WEEKDAY(L155),Top!$N$94:$T$94,0)=TRUE)),0,1),\"\")","v":""},{"$f":"IF($B$188<>\"\",IF(OR(VLOOKUP($B$188,通,M$154,FALSE)=\"休\",VLOOKUP($B$188,泊,M$154,FALSE)=\"●\",ISNA(MATCH(WEEKDAY(M155),Top!$N$94:$T$94,0)=TRUE)),0,1),\"\")","v":""},{"$f":"IF($B$188<>\"\",IF(OR(VLOOKUP($B$188,通,N$154,FALSE)=\"休\",VLOOKUP($B$188,泊,N$154,FALSE)=\"●\",ISNA(MATCH(WEEKDAY(N155),Top!$N$94:$T$94,0)=TRUE)),0,1),\"\")","v":""},{"$f":"IF($B$188<>\"\",IF(OR(VLOOKUP($B$188,通,O$154,FALSE)=\"休\",VLOOKUP($B$188,泊,O$154,FALSE)=\"●\",ISNA(MATCH(WEEKDAY(O155),Top!$N$94:$T$94,0)=TRUE)),0,1),\"\")","v":""},{"$f":"IF($B$188<>\"\",IF(OR(VLOOKUP($B$188,通,P$154,FALSE)=\"休\",VLOOKUP($B$188,泊,P$154,FALSE)=\"●\",ISNA(MATCH(WEEKDAY(P155),Top!$N$94:$T$94,0)=TRUE)),0,1),\"\")","v":""},{"$f":"IF($B$188<>\"\",IF(OR(VLOOKUP($B$188,通,Q$154,FALSE)=\"休\",VLOOKUP($B$188,泊,Q$154,FALSE)=\"●\",ISNA(MATCH(WEEKDAY(Q155),Top!$N$94:$T$94,0)=TRUE)),0,1),\"\")","v":""},{"$f":"IF($B$188<>\"\",IF(OR(VLOOKUP($B$188,通,R$154,FALSE)=\"休\",VLOOKUP($B$188,泊,R$154,FALSE)=\"●\",ISNA(MATCH(WEEKDAY(R155),Top!$N$94:$T$94,0)=TRUE)),0,1),\"\")","v":""},{"$f":"IF($B$188<>\"\",IF(OR(VLOOKUP($B$188,通,S$154,FALSE)=\"休\",VLOOKUP($B$188,泊,S$154,FALSE)=\"●\",ISNA(MATCH(WEEKDAY(S155),Top!$N$94:$T$94,0)=TRUE)),0,1),\"\")","v":""},{"$f":"IF($B$188<>\"\",IF(OR(VLOOKUP($B$188,通,T$154,FALSE)=\"休\",VLOOKUP($B$188,泊,T$154,FALSE)=\"●\",ISNA(MATCH(WEEKDAY(T155),Top!$N$94:$T$94,0)=TRUE)),0,1),\"\")","v":""},{"$f":"IF($B$188<>\"\",IF(OR(VLOOKUP($B$188,通,U$154,FALSE)=\"休\",VLOOKUP($B$188,泊,U$154,FALSE)=\"●\",ISNA(MATCH(WEEKDAY(U155),Top!$N$94:$T$94,0)=TRUE)),0,1),\"\")","v":""},{"$f":"IF($B$188<>\"\",IF(OR(VLOOKUP($B$188,通,V$154,FALSE)=\"休\",VLOOKUP($B$188,泊,V$154,FALSE)=\"●\",ISNA(MATCH(WEEKDAY(V155),Top!$N$94:$T$94,0)=TRUE)),0,1),\"\")","v":""},{"$f":"IF($B$188<>\"\",IF(OR(VLOOKUP($B$188,通,W$154,FALSE)=\"休\",VLOOKUP($B$188,泊,W$154,FALSE)=\"●\",ISNA(MATCH(WEEKDAY(W155),Top!$N$94:$T$94,0)=TRUE)),0,1),\"\")","v":""},{"$f":"IF($B$188<>\"\",IF(OR(VLOOKUP($B$188,通,X$154,FALSE)=\"休\",VLOOKUP($B$188,泊,X$154,FALSE)=\"●\",ISNA(MATCH(WEEKDAY(X155),Top!$N$94:$T$94,0)=TRUE)),0,1),\"\")","v":""},{"$f":"IF($B$188<>\"\",IF(OR(VLOOKUP($B$188,通,Y$154,FALSE)=\"休\",VLOOKUP($B$188,泊,Y$154,FALSE)=\"●\",ISNA(MATCH(WEEKDAY(Y155),Top!$N$94:$T$94,0)=TRUE)),0,1),\"\")","v":""},{"$f":"IF($B$188<>\"\",IF(OR(VLOOKUP($B$188,通,Z$154,FALSE)=\"休\",VLOOKUP($B$188,泊,Z$154,FALSE)=\"●\",ISNA(MATCH(WEEKDAY(Z155),Top!$N$94:$T$94,0)=TRUE)),0,1),\"\")","v":""},{"$f":"IF($B$188<>\"\",IF(OR(VLOOKUP($B$188,通,AA$154,FALSE)=\"休\",VLOOKUP($B$188,泊,AA$154,FALSE)=\"●\",ISNA(MATCH(WEEKDAY(AA155),Top!$N$94:$T$94,0)=TRUE)),0,1),\"\")","v":""},{"$f":"IF($B$188<>\"\",IF(OR(VLOOKUP($B$188,通,AB$154,FALSE)=\"休\",VLOOKUP($B$188,泊,AB$154,FALSE)=\"●\",ISNA(MATCH(WEEKDAY(AB155),Top!$N$94:$T$94,0)=TRUE)),0,1),\"\")","v":""},{"$f":"IF($B$188<>\"\",IF(OR(VLOOKUP($B$188,通,AC$154,FALSE)=\"休\",VLOOKUP($B$188,泊,AC$154,FALSE)=\"●\",ISNA(MATCH(WEEKDAY(AC155),Top!$N$94:$T$94,0)=TRUE)),0,1),\"\")","v":""},{"$f":"IF($B$188<>\"\",IF(OR(VLOOKUP($B$188,通,AD$154,FALSE)=\"休\",VLOOKUP($B$188,泊,AD$154,FALSE)=\"●\",ISNA(MATCH(WEEKDAY(AD155),Top!$N$94:$T$94,0)=TRUE)),0,1),\"\")","v":""},{"$f":"IF($B$188<>\"\",IF(OR(VLOOKUP($B$188,通,AE$154,FALSE)=\"休\",VLOOKUP($B$188,泊,AE$154,FALSE)=\"●\",ISNA(MATCH(WEEKDAY(AE155),Top!$N$94:$T$94,0)=TRUE)),0,1),\"\")","v":""},{"$f":"IF($B$188<>\"\",IF(OR(VLOOKUP($B$188,通,AF$154,FALSE)=\"休\",VLOOKUP($B$188,泊,AF$154,FALSE)=\"●\",ISNA(MATCH(WEEKDAY(AF155),Top!$N$94:$T$94,0)=TRUE)),0,1),\"\")","v":""},{"$f":"IF($B$188<>\"\",IF(OR(VLOOKUP($B$188,通,AG$154,FALSE)=\"休\",VLOOKUP($B$188,泊,AG$154,FALSE)=\"●\",ISNA(MATCH(WEEKDAY(AG155),Top!$N$94:$T$94,0)=TRUE)),0,1),\"\")","v":""},{"$f":"IF($B$188<>\"\",IF(OR(VLOOKUP($B$188,通,AH$154,FALSE)=\"休\",VLOOKUP($B$188,泊,AH$154,FALSE)=\"●\",ISNA(MATCH(WEEKDAY(AH155),Top!$N$94:$T$94,0)=TRUE)),0,1),\"\")","v":""}]
[null,{"$f":"IF(Top!E95<>\"\",Top!E95,\"\")","v":""},{"$f":"IF($B$189<>\"\",IF(OR(VLOOKUP($B$189,通,C$154,FALSE)=\"休\",VLOOKUP($B$189,泊,C$154,FALSE)=\"●\",ISNA(MATCH(WEEKDAY(C155),Top!$N$95:$T$95,0)=TRUE)),0,1),\"\")","v":""},{"$f":"IF($B$189<>\"\",IF(OR(VLOOKUP($B$189,通,D$154,FALSE)=\"休\",VLOOKUP($B$189,泊,D$154,FALSE)=\"●\",ISNA(MATCH(WEEKDAY(D155),Top!$N$95:$T$95,0)=TRUE)),0,1),\"\")","v":""},{"$f":"IF($B$189<>\"\",IF(OR(VLOOKUP($B$189,通,E$154,FALSE)=\"休\",VLOOKUP($B$189,泊,E$154,FALSE)=\"●\",ISNA(MATCH(WEEKDAY(E155),Top!$N$95:$T$95,0)=TRUE)),0,1),\"\")","v":""},{"$f":"IF($B$189<>\"\",IF(OR(VLOOKUP($B$189,通,F$154,FALSE)=\"休\",VLOOKUP($B$189,泊,F$154,FALSE)=\"●\",ISNA(MATCH(WEEKDAY(F155),Top!$N$95:$T$95,0)=TRUE)),0,1),\"\")","v":""},{"$f":"IF($B$189<>\"\",IF(OR(VLOOKUP($B$189,通,G$154,FALSE)=\"休\",VLOOKUP($B$189,泊,G$154,FALSE)=\"●\",ISNA(MATCH(WEEKDAY(G155),Top!$N$95:$T$95,0)=TRUE)),0,1),\"\")","v":""},{"$f":"IF($B$189<>\"\",IF(OR(VLOOKUP($B$189,通,H$154,FALSE)=\"休\",VLOOKUP($B$189,泊,H$154,FALSE)=\"●\",ISNA(MATCH(WEEKDAY(H155),Top!$N$95:$T$95,0)=TRUE)),0,1),\"\")","v":""},{"$f":"IF($B$189<>\"\",IF(OR(VLOOKUP($B$189,通,I$154,FALSE)=\"休\",VLOOKUP($B$189,泊,I$154,FALSE)=\"●\",ISNA(MATCH(WEEKDAY(I155),Top!$N$95:$T$95,0)=TRUE)),0,1),\"\")","v":""},{"$f":"IF($B$189<>\"\",IF(OR(VLOOKUP($B$189,通,J$154,FALSE)=\"休\",VLOOKUP($B$189,泊,J$154,FALSE)=\"●\",ISNA(MATCH(WEEKDAY(J155),Top!$N$95:$T$95,0)=TRUE)),0,1),\"\")","v":""},{"$f":"IF($B$189<>\"\",IF(OR(VLOOKUP($B$189,通,K$154,FALSE)=\"休\",VLOOKUP($B$189,泊,K$154,FALSE)=\"●\",ISNA(MATCH(WEEKDAY(K155),Top!$N$95:$T$95,0)=TRUE)),0,1),\"\")","v":""},{"$f":"IF($B$189<>\"\",IF(OR(VLOOKUP($B$189,通,L$154,FALSE)=\"休\",VLOOKUP($B$189,泊,L$154,FALSE)=\"●\",ISNA(MATCH(WEEKDAY(L155),Top!$N$95:$T$95,0)=TRUE)),0,1),\"\")","v":""},{"$f":"IF($B$189<>\"\",IF(OR(VLOOKUP($B$189,通,M$154,FALSE)=\"休\",VLOOKUP($B$189,泊,M$154,FALSE)=\"●\",ISNA(MATCH(WEEKDAY(M155),Top!$N$95:$T$95,0)=TRUE)),0,1),\"\")","v":""},{"$f":"IF($B$189<>\"\",IF(OR(VLOOKUP($B$189,通,N$154,FALSE)=\"休\",VLOOKUP($B$189,泊,N$154,FALSE)=\"●\",ISNA(MATCH(WEEKDAY(N155),Top!$N$95:$T$95,0)=TRUE)),0,1),\"\")","v":""},{"$f":"IF($B$189<>\"\",IF(OR(VLOOKUP($B$189,通,O$154,FALSE)=\"休\",VLOOKUP($B$189,泊,O$154,FALSE)=\"●\",ISNA(MATCH(WEEKDAY(O155),Top!$N$95:$T$95,0)=TRUE)),0,1),\"\")","v":""},{"$f":"IF($B$189<>\"\",IF(OR(VLOOKUP($B$189,通,P$154,FALSE)=\"休\",VLOOKUP($B$189,泊,P$154,FALSE)=\"●\",ISNA(MATCH(WEEKDAY(P155),Top!$N$95:$T$95,0)=TRUE)),0,1),\"\")","v":""},{"$f":"IF($B$189<>\"\",IF(OR(VLOOKUP($B$189,通,Q$154,FALSE)=\"休\",VLOOKUP($B$189,泊,Q$154,FALSE)=\"●\",ISNA(MATCH(WEEKDAY(Q155),Top!$N$95:$T$95,0)=TRUE)),0,1),\"\")","v":""},{"$f":"IF($B$189<>\"\",IF(OR(VLOOKUP($B$189,通,R$154,FALSE)=\"休\",VLOOKUP($B$189,泊,R$154,FALSE)=\"●\",ISNA(MATCH(WEEKDAY(R155),Top!$N$95:$T$95,0)=TRUE)),0,1),\"\")","v":""},{"$f":"IF($B$189<>\"\",IF(OR(VLOOKUP($B$189,通,S$154,FALSE)=\"休\",VLOOKUP($B$189,泊,S$154,FALSE)=\"●\",ISNA(MATCH(WEEKDAY(S155),Top!$N$95:$T$95,0)=TRUE)),0,1),\"\")","v":""},{"$f":"IF($B$189<>\"\",IF(OR(VLOOKUP($B$189,通,T$154,FALSE)=\"休\",VLOOKUP($B$189,泊,T$154,FALSE)=\"●\",ISNA(MATCH(WEEKDAY(T155),Top!$N$95:$T$95,0)=TRUE)),0,1),\"\")","v":""},{"$f":"IF($B$189<>\"\",IF(OR(VLOOKUP($B$189,通,U$154,FALSE)=\"休\",VLOOKUP($B$189,泊,U$154,FALSE)=\"●\",ISNA(MATCH(WEEKDAY(U155),Top!$N$95:$T$95,0)=TRUE)),0,1),\"\")","v":""},{"$f":"IF($B$189<>\"\",IF(OR(VLOOKUP($B$189,通,V$154,FALSE)=\"休\",VLOOKUP($B$189,泊,V$154,FALSE)=\"●\",ISNA(MATCH(WEEKDAY(V155),Top!$N$95:$T$95,0)=TRUE)),0,1),\"\")","v":""},{"$f":"IF($B$189<>\"\",IF(OR(VLOOKUP($B$189,通,W$154,FALSE)=\"休\",VLOOKUP($B$189,泊,W$154,FALSE)=\"●\",ISNA(MATCH(WEEKDAY(W155),Top!$N$95:$T$95,0)=TRUE)),0,1),\"\")","v":""},{"$f":"IF($B$189<>\"\",IF(OR(VLOOKUP($B$189,通,X$154,FALSE)=\"休\",VLOOKUP($B$189,泊,X$154,FALSE)=\"●\",ISNA(MATCH(WEEKDAY(X155),Top!$N$95:$T$95,0)=TRUE)),0,1),\"\")","v":""},{"$f":"IF($B$189<>\"\",IF(OR(VLOOKUP($B$189,通,Y$154,FALSE)=\"休\",VLOOKUP($B$189,泊,Y$154,FALSE)=\"●\",ISNA(MATCH(WEEKDAY(Y155),Top!$N$95:$T$95,0)=TRUE)),0,1),\"\")","v":""},{"$f":"IF($B$189<>\"\",IF(OR(VLOOKUP($B$189,通,Z$154,FALSE)=\"休\",VLOOKUP($B$189,泊,Z$154,FALSE)=\"●\",ISNA(MATCH(WEEKDAY(Z155),Top!$N$95:$T$95,0)=TRUE)),0,1),\"\")","v":""},{"$f":"IF($B$189<>\"\",IF(OR(VLOOKUP($B$189,通,AA$154,FALSE)=\"休\",VLOOKUP($B$189,泊,AA$154,FALSE)=\"●\",ISNA(MATCH(WEEKDAY(AA155),Top!$N$95:$T$95,0)=TRUE)),0,1),\"\")","v":""},{"$f":"IF($B$189<>\"\",IF(OR(VLOOKUP($B$189,通,AB$154,FALSE)=\"休\",VLOOKUP($B$189,泊,AB$154,FALSE)=\"●\",ISNA(MATCH(WEEKDAY(AB155),Top!$N$95:$T$95,0)=TRUE)),0,1),\"\")","v":""},{"$f":"IF($B$189<>\"\",IF(OR(VLOOKUP($B$189,通,AC$154,FALSE)=\"休\",VLOOKUP($B$189,泊,AC$154,FALSE)=\"●\",ISNA(MATCH(WEEKDAY(AC155),Top!$N$95:$T$95,0)=TRUE)),0,1),\"\")","v":""},{"$f":"IF($B$189<>\"\",IF(OR(VLOOKUP($B$189,通,AD$154,FALSE)=\"休\",VLOOKUP($B$189,泊,AD$154,FALSE)=\"●\",ISNA(MATCH(WEEKDAY(AD155),Top!$N$95:$T$95,0)=TRUE)),0,1),\"\")","v":""},{"$f":"IF($B$189<>\"\",IF(OR(VLOOKUP($B$189,通,AE$154,FALSE)=\"休\",VLOOKUP($B$189,泊,AE$154,FALSE)=\"●\",ISNA(MATCH(WEEKDAY(AE155),Top!$N$95:$T$95,0)=TRUE)),0,1),\"\")","v":""},{"$f":"IF($B$189<>\"\",IF(OR(VLOOKUP($B$189,通,AF$154,FALSE)=\"休\",VLOOKUP($B$189,泊,AF$154,FALSE)=\"●\",ISNA(MATCH(WEEKDAY(AF155),Top!$N$95:$T$95,0)=TRUE)),0,1),\"\")","v":""},{"$f":"IF($B$189<>\"\",IF(OR(VLOOKUP($B$189,通,AG$154,FALSE)=\"休\",VLOOKUP($B$189,泊,AG$154,FALSE)=\"●\",ISNA(MATCH(WEEKDAY(AG155),Top!$N$95:$T$95,0)=TRUE)),0,1),\"\")","v":""},{"$f":"IF($B$189<>\"\",IF(OR(VLOOKUP($B$189,通,AH$154,FALSE)=\"休\",VLOOKUP($B$189,泊,AH$154,FALSE)=\"●\",ISNA(MATCH(WEEKDAY(AH155),Top!$N$95:$T$95,0)=TRUE)),0,1),\"\")","v":""}]
[null,{"$f":"IF(Top!E96<>\"\",Top!E96,\"\")","v":""},null,{"$f":"IF(ISNA(MATCH(WEEKDAY(D155),Top!$N$96:$T$96,0)),0,IF(AND(VLOOKUP($B$190,通,D$154,FALSE)<>\"休\",VLOOKUP($B$190,泊,D$154,FALSE)<>\"●\"),1,0))","v":0},{"$f":"IF(ISNA(MATCH(WEEKDAY(E155),Top!$N$96:$T$96,0)),0,IF(AND(VLOOKUP($B$190,通,E$154,FALSE)<>\"休\",VLOOKUP($B$190,泊,E$154,FALSE)<>\"●\"),1,0))","v":0},{"$f":"IF(ISNA(MATCH(WEEKDAY(F155),Top!$N$96:$T$96,0)),0,IF(AND(VLOOKUP($B$190,通,F$154,FALSE)<>\"休\",VLOOKUP($B$190,泊,F$154,FALSE)<>\"●\"),1,0))","v":0},{"$f":"IF(ISNA(MATCH(WEEKDAY(G155),Top!$N$96:$T$96,0)),0,IF(AND(VLOOKUP($B$190,通,G$154,FALSE)<>\"休\",VLOOKUP($B$190,泊,G$154,FALSE)<>\"●\"),1,0))","v":0},{"$f":"IF(ISNA(MATCH(WEEKDAY(H155),Top!$N$96:$T$96,0)),0,IF(AND(VLOOKUP($B$190,通,H$154,FALSE)<>\"休\",VLOOKUP($B$190,泊,H$154,FALSE)<>\"●\"),1,0))","v":0},{"$f":"IF(ISNA(MATCH(WEEKDAY(I155),Top!$N$96:$T$96,0)),0,IF(AND(VLOOKUP($B$190,通,I$154,FALSE)<>\"休\",VLOOKUP($B$190,泊,I$154,FALSE)<>\"●\"),1,0))","v":0},{"$f":"IF(ISNA(MATCH(WEEKDAY(J155),Top!$N$96:$T$96,0)),0,IF(AND(VLOOKUP($B$190,通,J$154,FALSE)<>\"休\",VLOOKUP($B$190,泊,J$154,FALSE)<>\"●\"),1,0))","v":0},{"$f":"IF(ISNA(MATCH(WEEKDAY(K155),Top!$N$96:$T$96,0)),0,IF(AND(VLOOKUP($B$190,通,K$154,FALSE)<>\"休\",VLOOKUP($B$190,泊,K$154,FALSE)<>\"●\"),1,0))","v":0},{"$f":"IF(ISNA(MATCH(WEEKDAY(L155),Top!$N$96:$T$96,0)),0,IF(AND(VLOOKUP($B$190,通,L$154,FALSE)<>\"休\",VLOOKUP($B$190,泊,L$154,FALSE)<>\"●\"),1,0))","v":0},{"$f":"IF(ISNA(MATCH(WEEKDAY(M155),Top!$N$96:$T$96,0)),0,IF(AND(VLOOKUP($B$190,通,M$154,FALSE)<>\"休\",VLOOKUP($B$190,泊,M$154,FALSE)<>\"●\"),1,0))","v":0},{"$f":"IF(ISNA(MATCH(WEEKDAY(N155),Top!$N$96:$T$96,0)),0,IF(AND(VLOOKUP($B$190,通,N$154,FALSE)<>\"休\",VLOOKUP($B$190,泊,N$154,FALSE)<>\"●\"),1,0))","v":0},{"$f":"IF(ISNA(MATCH(WEEKDAY(O155),Top!$N$96:$T$96,0)),0,IF(AND(VLOOKUP($B$190,通,O$154,FALSE)<>\"休\",VLOOKUP($B$190,泊,O$154,FALSE)<>\"●\"),1,0))","v":0},{"$f":"IF(ISNA(MATCH(WEEKDAY(P155),Top!$N$96:$T$96,0)),0,IF(AND(VLOOKUP($B$190,通,P$154,FALSE)<>\"休\",VLOOKUP($B$190,泊,P$154,FALSE)<>\"●\"),1,0))","v":0},{"$f":"IF(ISNA(MATCH(WEEKDAY(Q155),Top!$N$96:$T$96,0)),0,IF(AND(VLOOKUP($B$190,通,Q$154,FALSE)<>\"休\",VLOOKUP($B$190,泊,Q$154,FALSE)<>\"●\"),1,0))","v":0},{"$f":"IF(ISNA(MATCH(WEEKDAY(R155),Top!$N$96:$T$96,0)),0,IF(AND(VLOOKUP($B$190,通,R$154,FALSE)<>\"休\",VLOOKUP($B$190,泊,R$154,FALSE)<>\"●\"),1,0))","v":0},{"$f":"IF(ISNA(MATCH(WEEKDAY(S155),Top!$N$96:$T$96,0)),0,IF(AND(VLOOKUP($B$190,通,S$154,FALSE)<>\"休\",VLOOKUP($B$190,泊,S$154,FALSE)<>\"●\"),1,0))","v":0},{"$f":"IF(ISNA(MATCH(WEEKDAY(T155),Top!$N$96:$T$96,0)),0,IF(AND(VLOOKUP($B$190,通,T$154,FALSE)<>\"休\",VLOOKUP($B$190,泊,T$154,FALSE)<>\"●\"),1,0))","v":0},{"$f":"IF(ISNA(MATCH(WEEKDAY(U155),Top!$N$96:$T$96,0)),0,IF(AND(VLOOKUP($B$190,通,U$154,FALSE)<>\"休\",VLOOKUP($B$190,泊,U$154,FALSE)<>\"●\"),1,0))","v":0},{"$f":"IF(ISNA(MATCH(WEEKDAY(V155),Top!$N$96:$T$96,0)),0,IF(AND(VLOOKUP($B$190,通,V$154,FALSE)<>\"休\",VLOOKUP($B$190,泊,V$154,FALSE)<>\"●\"),1,0))","v":0},{"$f":"IF(ISNA(MATCH(WEEKDAY(W155),Top!$N$96:$T$96,0)),0,IF(AND(VLOOKUP($B$190,通,W$154,FALSE)<>\"休\",VLOOKUP($B$190,泊,W$154,FALSE)<>\"●\"),1,0))","v":0},{"$f":"IF(ISNA(MATCH(WEEKDAY(X155),Top!$N$96:$T$96,0)),0,IF(AND(VLOOKUP($B$190,通,X$154,FALSE)<>\"休\",VLOOKUP($B$190,泊,X$154,FALSE)<>\"●\"),1,0))","v":0},{"$f":"IF(ISNA(MATCH(WEEKDAY(Y155),Top!$N$96:$T$96,0)),0,IF(AND(VLOOKUP($B$190,通,Y$154,FALSE)<>\"休\",VLOOKUP($B$190,泊,Y$154,FALSE)<>\"●\"),1,0))","v":0},{"$f":"IF(ISNA(MATCH(WEEKDAY(Z155),Top!$N$96:$T$96,0)),0,IF(AND(VLOOKUP($B$190,通,Z$154,FALSE)<>\"休\",VLOOKUP($B$190,泊,Z$154,FALSE)<>\"●\"),1,0))","v":0},{"$f":"IF(ISNA(MATCH(WEEKDAY(AA155),Top!$N$96:$T$96,0)),0,IF(AND(VLOOKUP($B$190,通,AA$154,FALSE)<>\"休\",VLOOKUP($B$190,泊,AA$154,FALSE)<>\"●\"),1,0))","v":0},{"$f":"IF(ISNA(MATCH(WEEKDAY(AB155),Top!$N$96:$T$96,0)),0,IF(AND(VLOOKUP($B$190,通,AB$154,FALSE)<>\"休\",VLOOKUP($B$190,泊,AB$154,FALSE)<>\"●\"),1,0))","v":0},{"$f":"IF(ISNA(MATCH(WEEKDAY(AC155),Top!$N$96:$T$96,0)),0,IF(AND(VLOOKUP($B$190,通,AC$154,FALSE)<>\"休\",VLOOKUP($B$190,泊,AC$154,FALSE)<>\"●\"),1,0))","v":0},{"$f":"IF(ISNA(MATCH(WEEKDAY(AD155),Top!$N$96:$T$96,0)),0,IF(AND(VLOOKUP($B$190,通,AD$154,FALSE)<>\"休\",VLOOKUP($B$190,泊,AD$154,FALSE)<>\"●\"),1,0))","v":0},{"$f":"IF(ISNA(MATCH(WEEKDAY(AE155),Top!$N$96:$T$96,0)),0,IF(AND(VLOOKUP($B$190,通,AE$154,FALSE)<>\"休\",VLOOKUP($B$190,泊,AE$154,FALSE)<>\"●\"),1,0))","v":0},{"$f":"IF(ISNA(MATCH(WEEKDAY(AF155),Top!$N$96:$T$96,0)),0,IF(AND(VLOOKUP($B$190,通,AF$154,FALSE)<>\"休\",VLOOKUP($B$190,泊,AF$154,FALSE)<>\"●\"),1,0))","v":0},{"$f":"IF(ISNA(MATCH(WEEKDAY(AG155),Top!$N$96:$T$96,0)),0,IF(AND(VLOOKUP($B$190,通,AG$154,FALSE)<>\"休\",VLOOKUP($B$190,泊,AG$154,FALSE)<>\"●\"),1,0))","v":0},{"$f":"IF(ISNA(MATCH(WEEKDAY(AH155),Top!$N$96:$T$96,0)),0,IF(AND(VLOOKUP($B$190,通,AH$154,FALSE)<>\"休\",VLOOKUP($B$190,泊,AH$154,FALSE)<>\"●\"),1,0))","v":0}]
[null,{"$f":"IF(Top!E97<>\"\",Top!E97,\"\")","v":""},null,{"$f":"IF(ISNA(MATCH(WEEKDAY(D155),Top!$N$97:$T$97,0)),0,IF(AND(VLOOKUP($B$191,通,D$154,FALSE)<>\"休\",VLOOKUP($B$191,泊,D$154,FALSE)<>\"●\"),1,0))","v":0},{"$f":"IF(ISNA(MATCH(WEEKDAY(E155),Top!$N$97:$T$97,0)),0,IF(AND(VLOOKUP($B$191,通,E$154,FALSE)<>\"休\",VLOOKUP($B$191,泊,E$154,FALSE)<>\"●\"),1,0))","v":0},{"$f":"IF(ISNA(MATCH(WEEKDAY(F155),Top!$N$97:$T$97,0)),0,IF(AND(VLOOKUP($B$191,通,F$154,FALSE)<>\"休\",VLOOKUP($B$191,泊,F$154,FALSE)<>\"●\"),1,0))","v":0},{"$f":"IF(ISNA(MATCH(WEEKDAY(G155),Top!$N$97:$T$97,0)),0,IF(AND(VLOOKUP($B$191,通,G$154,FALSE)<>\"休\",VLOOKUP($B$191,泊,G$154,FALSE)<>\"●\"),1,0))","v":0},{"$f":"IF(ISNA(MATCH(WEEKDAY(H155),Top!$N$97:$T$97,0)),0,IF(AND(VLOOKUP($B$191,通,H$154,FALSE)<>\"休\",VLOOKUP($B$191,泊,H$154,FALSE)<>\"●\"),1,0))","v":0},{"$f":"IF(ISNA(MATCH(WEEKDAY(I155),Top!$N$97:$T$97,0)),0,IF(AND(VLOOKUP($B$191,通,I$154,FALSE)<>\"休\",VLOOKUP($B$191,泊,I$154,FALSE)<>\"●\"),1,0))","v":0},{"$f":"IF(ISNA(MATCH(WEEKDAY(J155),Top!$N$97:$T$97,0)),0,IF(AND(VLOOKUP($B$191,通,J$154,FALSE)<>\"休\",VLOOKUP($B$191,泊,J$154,FALSE)<>\"●\"),1,0))","v":0},{"$f":"IF(ISNA(MATCH(WEEKDAY(K155),Top!$N$97:$T$97,0)),0,IF(AND(VLOOKUP($B$191,通,K$154,FALSE)<>\"休\",VLOOKUP($B$191,泊,K$154,FALSE)<>\"●\"),1,0))","v":0},{"$f":"IF(ISNA(MATCH(WEEKDAY(L155),Top!$N$97:$T$97,0)),0,IF(AND(VLOOKUP($B$191,通,L$154,FALSE)<>\"休\",VLOOKUP($B$191,泊,L$154,FALSE)<>\"●\"),1,0))","v":0},{"$f":"IF(ISNA(MATCH(WEEKDAY(M155),Top!$N$97:$T$97,0)),0,IF(AND(VLOOKUP($B$191,通,M$154,FALSE)<>\"休\",VLOOKUP($B$191,泊,M$154,FALSE)<>\"●\"),1,0))","v":0},{"$f":"IF(ISNA(MATCH(WEEKDAY(N155),Top!$N$97:$T$97,0)),0,IF(AND(VLOOKUP($B$191,通,N$154,FALSE)<>\"休\",VLOOKUP($B$191,泊,N$154,FALSE)<>\"●\"),1,0))","v":0},{"$f":"IF(ISNA(MATCH(WEEKDAY(O155),Top!$N$97:$T$97,0)),0,IF(AND(VLOOKUP($B$191,通,O$154,FALSE)<>\"休\",VLOOKUP($B$191,泊,O$154,FALSE)<>\"●\"),1,0))","v":0},{"$f":"IF(ISNA(MATCH(WEEKDAY(P155),Top!$N$97:$T$97,0)),0,IF(AND(VLOOKUP($B$191,通,P$154,FALSE)<>\"休\",VLOOKUP($B$191,泊,P$154,FALSE)<>\"●\"),1,0))","v":0},{"$f":"IF(ISNA(MATCH(WEEKDAY(Q155),Top!$N$97:$T$97,0)),0,IF(AND(VLOOKUP($B$191,通,Q$154,FALSE)<>\"休\",VLOOKUP($B$191,泊,Q$154,FALSE)<>\"●\"),1,0))","v":0},{"$f":"IF(ISNA(MATCH(WEEKDAY(R155),Top!$N$97:$T$97,0)),0,IF(AND(VLOOKUP($B$191,通,R$154,FALSE)<>\"休\",VLOOKUP($B$191,泊,R$154,FALSE)<>\"●\"),1,0))","v":0},{"$f":"IF(ISNA(MATCH(WEEKDAY(S155),Top!$N$97:$T$97,0)),0,IF(AND(VLOOKUP($B$191,通,S$154,FALSE)<>\"休\",VLOOKUP($B$191,泊,S$154,FALSE)<>\"●\"),1,0))","v":0},{"$f":"IF(ISNA(MATCH(WEEKDAY(T155),Top!$N$97:$T$97,0)),0,IF(AND(VLOOKUP($B$191,通,T$154,FALSE)<>\"休\",VLOOKUP($B$191,泊,T$154,FALSE)<>\"●\"),1,0))","v":0},{"$f":"IF(ISNA(MATCH(WEEKDAY(U155),Top!$N$97:$T$97,0)),0,IF(AND(VLOOKUP($B$191,通,U$154,FALSE)<>\"休\",VLOOKUP($B$191,泊,U$154,FALSE)<>\"●\"),1,0))","v":0},{"$f":"IF(ISNA(MATCH(WEEKDAY(V155),Top!$N$97:$T$97,0)),0,IF(AND(VLOOKUP($B$191,通,V$154,FALSE)<>\"休\",VLOOKUP($B$191,泊,V$154,FALSE)<>\"●\"),1,0))","v":0},{"$f":"IF(ISNA(MATCH(WEEKDAY(W155),Top!$N$97:$T$97,0)),0,IF(AND(VLOOKUP($B$191,通,W$154,FALSE)<>\"休\",VLOOKUP($B$191,泊,W$154,FALSE)<>\"●\"),1,0))","v":0},{"$f":"IF(ISNA(MATCH(WEEKDAY(X155),Top!$N$97:$T$97,0)),0,IF(AND(VLOOKUP($B$191,通,X$154,FALSE)<>\"休\",VLOOKUP($B$191,泊,X$154,FALSE)<>\"●\"),1,0))","v":0},{"$f":"IF(ISNA(MATCH(WEEKDAY(Y155),Top!$N$97:$T$97,0)),0,IF(AND(VLOOKUP($B$191,通,Y$154,FALSE)<>\"休\",VLOOKUP($B$191,泊,Y$154,FALSE)<>\"●\"),1,0))","v":0},{"$f":"IF(ISNA(MATCH(WEEKDAY(Z155),Top!$N$97:$T$97,0)),0,IF(AND(VLOOKUP($B$191,通,Z$154,FALSE)<>\"休\",VLOOKUP($B$191,泊,Z$154,FALSE)<>\"●\"),1,0))","v":0},{"$f":"IF(ISNA(MATCH(WEEKDAY(AA155),Top!$N$97:$T$97,0)),0,IF(AND(VLOOKUP($B$191,通,AA$154,FALSE)<>\"休\",VLOOKUP($B$191,泊,AA$154,FALSE)<>\"●\"),1,0))","v":0},{"$f":"IF(ISNA(MATCH(WEEKDAY(AB155),Top!$N$97:$T$97,0)),0,IF(AND(VLOOKUP($B$191,通,AB$154,FALSE)<>\"休\",VLOOKUP($B$191,泊,AB$154,FALSE)<>\"●\"),1,0))","v":0},{"$f":"IF(ISNA(MATCH(WEEKDAY(AC155),Top!$N$97:$T$97,0)),0,IF(AND(VLOOKUP($B$191,通,AC$154,FALSE)<>\"休\",VLOOKUP($B$191,泊,AC$154,FALSE)<>\"●\"),1,0))","v":0},{"$f":"IF(ISNA(MATCH(WEEKDAY(AD155),Top!$N$97:$T$97,0)),0,IF(AND(VLOOKUP($B$191,通,AD$154,FALSE)<>\"休\",VLOOKUP($B$191,泊,AD$154,FALSE)<>\"●\"),1,0))","v":0},{"$f":"IF(ISNA(MATCH(WEEKDAY(AE155),Top!$N$97:$T$97,0)),0,IF(AND(VLOOKUP($B$191,通,AE$154,FALSE)<>\"休\",VLOOKUP($B$191,泊,AE$154,FALSE)<>\"●\"),1,0))","v":0},{"$f":"IF(ISNA(MATCH(WEEKDAY(AF155),Top!$N$97:$T$97,0)),0,IF(AND(VLOOKUP($B$191,通,AF$154,FALSE)<>\"休\",VLOOKUP($B$191,泊,AF$154,FALSE)<>\"●\"),1,0))","v":0},{"$f":"IF(ISNA(MATCH(WEEKDAY(AG155),Top!$N$97:$T$97,0)),0,IF(AND(VLOOKUP($B$191,通,AG$154,FALSE)<>\"休\",VLOOKUP($B$191,泊,AG$154,FALSE)<>\"●\"),1,0))","v":0},{"$f":"IF(ISNA(MATCH(WEEKDAY(AH155),Top!$N$97:$T$97,0)),0,IF(AND(VLOOKUP($B$191,通,AH$154,FALSE)<>\"休\",VLOOKUP($B$191,泊,AH$154,FALSE)<>\"●\"),1,0))","v":0}]
[null,{"$f":"IF(Top!E98<>\"\",Top!E98,\"\")","v":""},null,{"$f":"IF(ISNA(MATCH(WEEKDAY(D155),Top!$N$98:$T$98,0)),0,IF(AND(VLOOKUP($B$192,通,D$154,FALSE)<>\"休\",VLOOKUP($B$192,泊,D$154,FALSE)<>\"●\"),1,0))","v":0},{"$f":"IF(ISNA(MATCH(WEEKDAY(E155),Top!$N$98:$T$98,0)),0,IF(AND(VLOOKUP($B$192,通,E$154,FALSE)<>\"休\",VLOOKUP($B$192,泊,E$154,FALSE)<>\"●\"),1,0))","v":0},{"$f":"IF(ISNA(MATCH(WEEKDAY(F155),Top!$N$98:$T$98,0)),0,IF(AND(VLOOKUP($B$192,通,F$154,FALSE)<>\"休\",VLOOKUP($B$192,泊,F$154,FALSE)<>\"●\"),1,0))","v":0},{"$f":"IF(ISNA(MATCH(WEEKDAY(G155),Top!$N$98:$T$98,0)),0,IF(AND(VLOOKUP($B$192,通,G$154,FALSE)<>\"休\",VLOOKUP($B$192,泊,G$154,FALSE)<>\"●\"),1,0))","v":0},{"$f":"IF(ISNA(MATCH(WEEKDAY(H155),Top!$N$98:$T$98,0)),0,IF(AND(VLOOKUP($B$192,通,H$154,FALSE)<>\"休\",VLOOKUP($B$192,泊,H$154,FALSE)<>\"●\"),1,0))","v":0},{"$f":"IF(ISNA(MATCH(WEEKDAY(I155),Top!$N$98:$T$98,0)),0,IF(AND(VLOOKUP($B$192,通,I$154,FALSE)<>\"休\",VLOOKUP($B$192,泊,I$154,FALSE)<>\"●\"),1,0))","v":0},{"$f":"IF(ISNA(MATCH(WEEKDAY(J155),Top!$N$98:$T$98,0)),0,IF(AND(VLOOKUP($B$192,通,J$154,FALSE)<>\"休\",VLOOKUP($B$192,泊,J$154,FALSE)<>\"●\"),1,0))","v":0},{"$f":"IF(ISNA(MATCH(WEEKDAY(K155),Top!$N$98:$T$98,0)),0,IF(AND(VLOOKUP($B$192,通,K$154,FALSE)<>\"休\",VLOOKUP($B$192,泊,K$154,FALSE)<>\"●\"),1,0))","v":0},{"$f":"IF(ISNA(MATCH(WEEKDAY(L155),Top!$N$98:$T$98,0)),0,IF(AND(VLOOKUP($B$192,通,L$154,FALSE)<>\"休\",VLOOKUP($B$192,泊,L$154,FALSE)<>\"●\"),1,0))","v":0},{"$f":"IF(ISNA(MATCH(WEEKDAY(M155),Top!$N$98:$T$98,0)),0,IF(AND(VLOOKUP($B$192,通,M$154,FALSE)<>\"休\",VLOOKUP($B$192,泊,M$154,FALSE)<>\"●\"),1,0))","v":0},{"$f":"IF(ISNA(MATCH(WEEKDAY(N155),Top!$N$98:$T$98,0)),0,IF(AND(VLOOKUP($B$192,通,N$154,FALSE)<>\"休\",VLOOKUP($B$192,泊,N$154,FALSE)<>\"●\"),1,0))","v":0},{"$f":"IF(ISNA(MATCH(WEEKDAY(O155),Top!$N$98:$T$98,0)),0,IF(AND(VLOOKUP($B$192,通,O$154,FALSE)<>\"休\",VLOOKUP($B$192,泊,O$154,FALSE)<>\"●\"),1,0))","v":0},{"$f":"IF(ISNA(MATCH(WEEKDAY(P155),Top!$N$98:$T$98,0)),0,IF(AND(VLOOKUP($B$192,通,P$154,FALSE)<>\"休\",VLOOKUP($B$192,泊,P$154,FALSE)<>\"●\"),1,0))","v":0},{"$f":"IF(ISNA(MATCH(WEEKDAY(Q155),Top!$N$98:$T$98,0)),0,IF(AND(VLOOKUP($B$192,通,Q$154,FALSE)<>\"休\",VLOOKUP($B$192,泊,Q$154,FALSE)<>\"●\"),1,0))","v":0},{"$f":"IF(ISNA(MATCH(WEEKDAY(R155),Top!$N$98:$T$98,0)),0,IF(AND(VLOOKUP($B$192,通,R$154,FALSE)<>\"休\",VLOOKUP($B$192,泊,R$154,FALSE)<>\"●\"),1,0))","v":0},{"$f":"IF(ISNA(MATCH(WEEKDAY(S155),Top!$N$98:$T$98,0)),0,IF(AND(VLOOKUP($B$192,通,S$154,FALSE)<>\"休\",VLOOKUP($B$192,泊,S$154,FALSE)<>\"●\"),1,0))","v":0},{"$f":"IF(ISNA(MATCH(WEEKDAY(T155),Top!$N$98:$T$98,0)),0,IF(AND(VLOOKUP($B$192,通,T$154,FALSE)<>\"休\",VLOOKUP($B$192,泊,T$154,FALSE)<>\"●\"),1,0))","v":0},{"$f":"IF(ISNA(MATCH(WEEKDAY(U155),Top!$N$98:$T$98,0)),0,IF(AND(VLOOKUP($B$192,通,U$154,FALSE)<>\"休\",VLOOKUP($B$192,泊,U$154,FALSE)<>\"●\"),1,0))","v":0},{"$f":"IF(ISNA(MATCH(WEEKDAY(V155),Top!$N$98:$T$98,0)),0,IF(AND(VLOOKUP($B$192,通,V$154,FALSE)<>\"休\",VLOOKUP($B$192,泊,V$154,FALSE)<>\"●\"),1,0))","v":0},{"$f":"IF(ISNA(MATCH(WEEKDAY(W155),Top!$N$98:$T$98,0)),0,IF(AND(VLOOKUP($B$192,通,W$154,FALSE)<>\"休\",VLOOKUP($B$192,泊,W$154,FALSE)<>\"●\"),1,0))","v":0},{"$f":"IF(ISNA(MATCH(WEEKDAY(X155),Top!$N$98:$T$98,0)),0,IF(AND(VLOOKUP($B$192,通,X$154,FALSE)<>\"休\",VLOOKUP($B$192,泊,X$154,FALSE)<>\"●\"),1,0))","v":0},{"$f":"IF(ISNA(MATCH(WEEKDAY(Y155),Top!$N$98:$T$98,0)),0,IF(AND(VLOOKUP($B$192,通,Y$154,FALSE)<>\"休\",VLOOKUP($B$192,泊,Y$154,FALSE)<>\"●\"),1,0))","v":0},{"$f":"IF(ISNA(MATCH(WEEKDAY(Z155),Top!$N$98:$T$98,0)),0,IF(AND(VLOOKUP($B$192,通,Z$154,FALSE)<>\"休\",VLOOKUP($B$192,泊,Z$154,FALSE)<>\"●\"),1,0))","v":0},{"$f":"IF(ISNA(MATCH(WEEKDAY(AA155),Top!$N$98:$T$98,0)),0,IF(AND(VLOOKUP($B$192,通,AA$154,FALSE)<>\"休\",VLOOKUP($B$192,泊,AA$154,FALSE)<>\"●\"),1,0))","v":0},{"$f":"IF(ISNA(MATCH(WEEKDAY(AB155),Top!$N$98:$T$98,0)),0,IF(AND(VLOOKUP($B$192,通,AB$154,FALSE)<>\"休\",VLOOKUP($B$192,泊,AB$154,FALSE)<>\"●\"),1,0))","v":0},{"$f":"IF(ISNA(MATCH(WEEKDAY(AC155),Top!$N$98:$T$98,0)),0,IF(AND(VLOOKUP($B$192,通,AC$154,FALSE)<>\"休\",VLOOKUP($B$192,泊,AC$154,FALSE)<>\"●\"),1,0))","v":0},{"$f":"IF(ISNA(MATCH(WEEKDAY(AD155),Top!$N$98:$T$98,0)),0,IF(AND(VLOOKUP($B$192,通,AD$154,FALSE)<>\"休\",VLOOKUP($B$192,泊,AD$154,FALSE)<>\"●\"),1,0))","v":0},{"$f":"IF(ISNA(MATCH(WEEKDAY(AE155),Top!$N$98:$T$98,0)),0,IF(AND(VLOOKUP($B$192,通,AE$154,FALSE)<>\"休\",VLOOKUP($B$192,泊,AE$154,FALSE)<>\"●\"),1,0))","v":0},{"$f":"IF(ISNA(MATCH(WEEKDAY(AF155),Top!$N$98:$T$98,0)),0,IF(AND(VLOOKUP($B$192,通,AF$154,FALSE)<>\"休\",VLOOKUP($B$192,泊,AF$154,FALSE)<>\"●\"),1,0))","v":0},{"$f":"IF(ISNA(MATCH(WEEKDAY(AG155),Top!$N$98:$T$98,0)),0,IF(AND(VLOOKUP($B$192,通,AG$154,FALSE)<>\"休\",VLOOKUP($B$192,泊,AG$154,FALSE)<>\"●\"),1,0))","v":0},{"$f":"IF(ISNA(MATCH(WEEKDAY(AH155),Top!$N$98:$T$98,0)),0,IF(AND(VLOOKUP($B$192,通,AH$154,FALSE)<>\"休\",VLOOKUP($B$192,泊,AH$154,FALSE)<>\"●\"),1,0))","v":0}]
[]
[null,"明け判定",1,2,3,4,5,6,7,8,9,10,11,12,13,14,15,16,17,18,19,20,21,22,23,24,25,26,27,28,29,30,31,32,33]
[null,{"$f":"IF(B160=\"\",\"\",B160)","v":""},{"$f":"IF($B195<>\"\",IF(AND(VLOOKUP($B195,泊,C$194,FALSE)=\"●\",VLOOKUP($B195,泊,D$194,FALSE)<>\"●\"),1,0),\"\")","v":""},{"$f":"IF($B195<>\"\",IF(AND(VLOOKUP($B195,泊,D$194,FALSE)=\"●\",VLOOKUP($B195,泊,E$194,FALSE)<>\"●\"),1,0),\"\")","v":""},{"$f":"IF($B195<>\"\",IF(AND(VLOOKUP($B195,泊,E$194,FALSE)=\"●\",VLOOKUP($B195,泊,F$194,FALSE)<>\"●\"),1,0),\"\")","v":""},"","","","","","","","","","","","","","","","","","","","","","","","","","","","",""]
[null,{"$f":"IF(B161=\"\",\"\",B161)","v":""},{"$f":"IF($B196<>\"\",IF(AND(VLOOKUP($B196,泊,C$194,FALSE)=\"●\",VLOOKUP($B196,泊,D$194,FALSE)<>\"●\"),1,0),\"\")","v":""},{"$f":"IF($B196<>\"\",IF(AND(VLOOKUP($B196,泊,D$194,FALSE)=\"●\",VLOOKUP($B196,泊,E$194,FALSE)<>\"●\"),1,0),\"\")","v":""},{"$f":"IF($B196<>\"\",IF(AND(VLOOKUP($B196,泊,E$194,FALSE)=\"●\",VLOOKUP($B196,泊,F$194,FALSE)<>\"●\"),1,0),\"\")","v":""},"","","","","","","","","","","","","","","","","","","","","","","","","","","","",""]
[null,{"$f":"IF(B162=\"\",\"\",B162)","v":""},{"$f":"IF($B197<>\"\",IF(AND(VLOOKUP($B197,泊,C$194,FALSE)=\"●\",VLOOKUP($B197,泊,D$194,FALSE)<>\"●\"),1,0),\"\")","v":""},{"$f":"IF($B197<>\"\",IF(AND(VLOOKUP($B197,泊,D$194,FALSE)=\"●\",VLOOKUP($B197,泊,E$194,FALSE)<>\"●\"),1,0),\"\")","v":""},"","","","","","","","","","","","","","","","","","","","","","","","","","","","","",""]
[null,{"$f":"IF(B163=\"\",\"\",B163)","v":""},{"$f":"IF($B198<>\"\",IF(AND(VLOOKUP($B198,泊,C$194,FALSE)=\"●\",VLOOKUP($B198,泊,D$194,FALSE)<>\"●\"),1,0),\"\")","v":""},{"$f":"IF($B198<>\"\",IF(AND(VLOOKUP($B198,泊,D$194,FALSE)=\"●\",VLOOKUP($B198,泊,E$194,FALSE)<>\"●\"),1,0),\"\")","v":""},"","","","","","","","","","","","","","","","","","","","","","","","","","","","","",""]
[null,{"$f":"IF(B164=\"\",\"\",B164)","v":""},{"$f":"IF($B199<>\"\",IF(AND(VLOOKUP($B199,泊,C$194,FALSE)=\"●\",VLOOKUP($B199,泊,D$194,FALSE)<>\"●\"),1,0),\"\")","v":""},{"$f":"IF($B199<>\"\",IF(AND(VLOOKUP($B199,泊,D$194,FALSE)=\"●\",VLOOKUP($B199,泊,E$194,FALSE)<>\"●\"),1,0),\"\")","v":""},"","","","","","","","","","","","","","","","","","","","","","","","","","","","","",""]

{"sheet":"集計名簿","index":3,"n_rows":151,"n_cols":23,"rows_kept":151,"cut":false,"hidden":true,"merged":[]}
[null,"名前と介護度を確認して印刷実行する。"]
[]
[null,"氏名","生年月日","住所","介護度","性別"]
[1,"利用者A","1929-12-07","北金丸","要介護１","男"]
[2,"利用者B","1926-02-16","新富町","要介護２","女"]
[3,"利用者C","1934-10-03","末広町","要介護４","女"]
[4,"利用者D","1937-06-07","市野沢","要介護５","男"]
[5,"利用者E","1921-03-20","富士見1丁目","要介護３","女"]
[6,"利用者F","1915-06-21","宇田川","要介護１","男"]
[7,"利用者G","1914-08-23","新富町","要介護２","女"]
[8,"利用者H","1924-01-25","城山２丁目","要介護３","女"]
[9,"利用者I","1949-06-22","富士見","要介護１","男"]
[10,"利用者J","1924-08-31","浅香","要介護２","女"]
[11]
[12]
[13]
[14]
[15]
[16]
[17]
[18]
[19]
[20]
[21]
[22]
[23]
[24]
[25]
[]
[]
[]
[]
[]
[]
[]
[]
[]
[]
[]
[]
[]
[]
[null,null,null,null,"要介護度","性別",null,null,null,"町名","コード","町名","フリガナ","郵便番号",null,null,null,null,"町名","コード","町名","フリガナ","郵便番号"]
[null,null,null,null,"要支援１","男",null,null,null,"山の手１丁目","0001","山の手１丁目","ヤマノテ","324-0051",null,null,null,null,"宇田川","0206","宇田川","ウダガワ","324-0022"]
[null,null,null,null,"要支援２","女",null,null,null,"山の手２丁目","0002","山の手２丁目","ヤマノテ","324-0051",null,null,null,null,"羽田","0110","羽田","ハンダ","324-0002"]
[null,null,null,null,"要介護１",null,null,null,null,"城山１丁目","0003","城山１丁目","シロヤマ","324-0052",null,null,null,null,"雲岩寺","2304","雲岩寺","ウンガンジ","324-0213"]
[null,null,null,null,"要介護２",null,null,null,null,"城山２丁目","0004","城山２丁目","シロヤマ","324-0052",null,null,null,null,"奥沢","0116","奥沢","オクサワ","324-0017"]
[null,null,null,null,"要介護３",null,null,null,null,"元町１丁目","0005","元町１丁目","モトマチ","324-0053",null,null,null,null,"岡","0104","岡","オカ","324-0065"]
[null,null,null,null,"要介護４",null,null,null,null,"元町２丁目","0006","元町２丁目","モトマチ","324-0053",null,null,null,null,"荻野目","0207","荻野目","オギノメ","324-0027"]
[null,null,null,null,"要介護５",null,null,null,null,"新富町１丁目","0007","新富町１丁目","シントミチョウ","324-0055",null,null,null,null,"乙連沢","0111","乙連沢","オトレザワ","324-0001"]
[null,null,null,null,null,null,null,null,null,"新富町２丁目","0008","新富町２丁目","シントミチョウ","324-0055",null,null,null,null,"下石上","0302","下石上","シモイシガミ","324-0036"]
[null,null,null,null,null,null,null,null,null,"新富町３丁目","0009","新富町３丁目","シントミチョウ","324-0055",null,null,null,null,"加治屋","0036","加治屋","カジヤ","324-0046"]
[null,null,null,null,null,null,null,null,null,"中央１丁目","0010","中央１丁目","チュウオウ","324-0056",null,null,null,null,"河原","2202","河原","カワラ","324-0207"]
[null,null,null,null,null,null,null,null,null,"中央２丁目","0011","中央２丁目","チュウオウ","324-0056",null,null,null,null,"花園","0205","花園","ハナゾノ","324-0023"]
[null,null,null,null,null,null,null,null,null,"住吉町１丁目","0012","住吉町１丁目","スミヨシチョウ","324-0057",null,null,null,null,"寒井","2106","寒井","サブイ","324-0246"]
[null,null,null,null,null,null,null,null,null,"住吉町２丁目","0013","住吉町２丁目","スミヨシチョウ","324-0057",null,null,null,null,"亀久","2008","亀久","カメヒサ","324-0221"]
[null,null,null,null,null,null,null,null,null,"紫塚１丁目","0014","紫塚１丁目","ムラサキヅカ","324-0058",null,null,null,null,"久野又","2207","久野又","クノマタ","324-0205"]
[null,null,null,null,null,null,null,null,null,"紫塚２丁目","0015","紫塚２丁目","ムラサキヅカ","324-0058",null,null,null,null,"狭原","1001","狭原","セバハラ","324-0401"]
[null,null,null,null,null,null,null,null,null,"紫塚３丁目","0016","紫塚３丁目","ムラサキヅカ","324-0058",null,null,null,null,"元町１丁目","0005","元町１丁目","モトマチ","324-0053"]
[null,null,null,null,null,null,null,null,null,"紫塚４丁目","0017","紫塚４丁目","ムラサキヅカ","324-0058",null,null,null,null,"元町２丁目","0006","元町２丁目","モトマチ","324-0053"]
[null,null,null,null,null,null,null,null,null,"本町１丁目","0018","本町１丁目","ホンチョウ","324-0041",null,null,null,null,"戸野内","0106","戸野内","トノウチ","324-0066"]
[null,null,null,null,null,null,null,null,null,"本町２丁目","0019","本町２丁目","ホンチョウ","324-0041",null,null,null,null,"荒井","0103","荒井","アライ","324-0061"]
[null,null,null,null,null,null,null,null,null,"末広１丁目","0020","末広１丁目","スエヒロ","324-0042",null,null,null,null,"黒羽向町","2101","黒羽向町","クロバネムコウマチ","324-0241"]
[null,null,null,null,null,null,null,null,null,"末広２丁目","0021","末広２丁目","スエヒロ","324-0042",null,null,null,null,"黒羽田町","2001","黒羽田町","クロバネタマチ","324-0233"]
[null,null,null,null,null,null,null,null,null,"末広３丁目","0022","末広３丁目","スエヒロ","324-0042",null,null,null,null,"今泉","0105","今泉","イマイズミ","324-0064"]
[null,null,null,null,null,null,null,null,null,"美原１丁目","0023","美原１丁目","ミハラ","324-0047",null,null,null,null,"佐久山","0401","佐久山","サクヤマ","324-0032"]
[null,null,null,null,null,null,null,null,null,"美原２丁目","0024","美原２丁目","ミハラ","324-0047",null,null,null,null,"佐良土","1004","佐良土","サラド","324-0404"]
[null,null,null,null,null,null,null,null,null,"美原３丁目","0025","美原３丁目","ミハラ","324-0047",null,null,null,null,"山の手１丁目","0001","山の手１丁目","ヤマノテ","324-0051"]
[null,null,null,null,null,null,null,null,null,"浅香１丁目","0026","浅香１丁目","アサカ","324-0043",null,null,null,null,"山の手２丁目","0002","山の手２丁目","ヤマノテ","324-0051"]
[null,null,null,null,null,null,null,null,null,"浅香２丁目","0027","浅香２丁目","アサカ","324-0043",null,null,null,null,"市野沢","0108","市野沢","イチノサワ","324-0006"]
[null,null,null,null,null,null,null,null,null,"浅香３丁目","0028","浅香３丁目","アサカ","324-0043",null,null,null,null,"紫塚１丁目","0014","紫塚１丁目","ムラサキヅカ","324-0058"]
[null,null,null,null,null,null,null,null,null,"浅香４丁目","0029","浅香４丁目","アサカ","324-0043",null,null,null,null,"紫塚２丁目","0015","紫塚２丁目","ムラサキヅカ","324-0058"]
[null,null,null,null,null,null,null,null,null,"浅香５丁目","0030","浅香５丁目","アサカ","324-0043",null,null,null,null,"紫塚３丁目","0016","紫塚３丁目","ムラサキヅカ","324-0058"]
[null,null,null,null,null,null,null,null,null,"若松町","0031","若松町","ワカマツチョウ","324-0054",null,null,null,null,"紫塚４丁目","0017","紫塚４丁目","ムラサキヅカ","324-0058"]
[null,null,null,null,null,null,null,null,null,"富士見１丁目","0032","富士見１丁目","フジミ","324-0028",null,null,null,null,"寺宿","2204","寺宿","テラジュク","324-0203"]
[null,null,null,null,null,null,null,null,null,"富士見２丁目","0033","富士見２丁目","フジミ","324-0028",null,null,null,null,"鹿畑","0117","鹿畑","カバタ","324-0013"]
[null,null,null,null,null,null,null,null,null,"若草１丁目","0034","若草１丁目","ワカクサ","324-0021",null,null,null,null,"実取","0202","実取","ミドリ","324-0045"]
[null,null,null,null,null,null,null,null,null,"若草２丁目","0035","若草２丁目","ワカクサ","324-0021",null,null,null,null,"若松町","0031","若松町","ワカマツチョウ","324-0054"]
[null,null,null,null,null,null,null,null,null,"加治屋","0036","加治屋","カジヤ","324-0046",null,null,null,null,"若草１丁目","0034","若草１丁目","ワカクサ","324-0021"]
[null,null,null,null,null,null,null,null,null,"中田原","0101","中田原","ナカダワラ","324-0062",null,null,null,null,"若草２丁目","0035","若草２丁目","ワカクサ","324-0021"]
[null,null,null,null,null,null,null,null,null,"町島","0102","町島","マチジマ","324-0063",null,null,null,null,"住吉町１丁目","0012","住吉町１丁目","スミヨシチョウ","324-0057"]
[null,null,null,null,null,null,null,null,null,"荒井","0103","荒井","アライ","324-0061",null,null,null,null,"住吉町２丁目","0013","住吉町２丁目","スミヨシチョウ","324-0057"]
[null,null,null,null,null,null,null,null,null,"岡","0104","岡","オカ","324-0065",null,null,null,null,"小船渡","1002","小船渡","コブナト","324-0402"]
[null,null,null,null,null,null,null,null,null,"今泉","0105","今泉","イマイズミ","324-0064",null,null,null,null,"小滝","0112","小滝","コダキ","324-0003"]
[null,null,null,null,null,null,null,null,null,"戸野内","0106","戸野内","トノウチ","324-0066",null,null,null,null,"上奥沢","0115","上奥沢","カミオクサワ","324-0018"]
[null,null,null,null,null,null,null,null,null,"富池","0107","富池","トミイケ","324-0004",null,null,null,null,"上石上","0301","上石上","カミイシガミ","324-0037"]
[null,null,null,null,null,null,null,null,null,"市野沢","0108","市野沢","イチノサワ","324-0006",null,null,null,null,"城山１丁目","0003","城山１丁目","シロヤマ","324-0052"]
[null,null,null,null,null,null,null,null,null,"練貫","0109","練貫","ネリヌキ","324-0005",null,null,null,null,"城山２丁目","0004","城山２丁目","シロヤマ","324-0052"]
[null,null,null,null,null,null,null,null,null,"羽田","0110","羽田","ハンダ","324-0002",null,null,null,null,"新宿","1007","新宿","アラジュク","324-0413"]
[null,null,null,null,null,null,null,null,null,"乙連沢","0111","乙連沢","オトレザワ","324-0001",null,null,null,null,"新富町１丁目","0007","新富町１丁目","シントミチョウ","324-0055"]
[null,null,null,null,null,null,null,null,null,"小滝","0112","小滝","コダキ","324-0003",null,null,null,null,"新富町２丁目","0008","新富町２丁目","シントミチョウ","324-0055"]
[null,null,null,null,null,null,null,null,null,"北金丸","0113","北金丸","キタカネマル","324-0011",null,null,null,null,"新富町３丁目","0009","新富町３丁目","シントミチョウ","324-0055"]
[null,null,null,null,null,null,null,null,null,"南金丸","0114","南金丸","ミナミカネマル","324-0012",null,null,null,null,"親園","0201","親園","チカソノ","324-0044"]
[null,null,null,null,null,null,null,null,null,"上奥沢","0115","上奥沢","カミオクサワ","324-0018",null,null,null,null,"須賀川","2302","須賀川","スカガワ","324-0211"]
[null,null,null,null,null,null,null,null,null,"奥沢","0116","奥沢","オクサワ","324-0017",null,null,null,null,"須佐木","2301","須佐木","スサギ","324-0212"]
[null,null,null,null,null,null,null,null,null,"鹿畑","0117","鹿畑","カバタ","324-0013",null,null,null,null,"赤瀬","0119","赤瀬","アカゼ","324-0015"]
[null,null,null,null,null,null,null,null,null,"倉骨","0118","倉骨","クラホネ","324-0014",null,null,null,null,"川上","2303","川上","カワカミ","324-0214"]
[null,null,null,null,null,null,null,null,null,"赤瀬","0119","赤瀬","アカゼ","324-0015",null,null,null,null,"川田","2209","川田","カワダ","324-0208"]
[null,null,null,null,null,null,null,null,null,"北大和久","0120","北大和久","キタオオワグ","324-0016",null,null,null,null,"浅香１丁目","0026","浅香１丁目","アサカ","324-0043"]
[null,null,null,null,null,null,null,null,null,"親園","0201","親園","チカソノ","324-0044",null,null,null,null,"浅香２丁目","0027","浅香２丁目","アサカ","324-0043"]
[null,null,null,null,null,null,null,null,null,"実取","0202","実取","ミドリ","324-0045",null,null,null,null,"浅香３丁目","0028","浅香３丁目","アサカ","324-0043"]
[null,null,null,null,null,null,null,null,null,"滝沢","0203","滝沢","タキザワ","324-0033",null,null,null,null,"浅香４丁目","0029","浅香４丁目","アサカ","324-0043"]
[null,null,null,null,null,null,null,null,null,"滝岡","0204","滝岡","タキオカ","324-0026",null,null,null,null,"浅香５丁目","0030","浅香５丁目","アサカ","324-0043"]
[null,null,null,null,null,null,null,null,null,"花園","0205","花園","ハナゾノ","324-0023",null,null,null,null,"前田","2002","前田","マエタ","324-0234"]
[null,null,null,null,null,null,null,null,null,"宇田川","0206","宇田川","ウダガワ","324-0022",null,null,null,null,"倉骨","0118","倉骨","クラホネ","324-0014"]
[null,null,null,null,null,null,null,null,null,"荻野目","0207","荻野目","オギノメ","324-0027",null,null,null,null,"大久保","2206","大久保","オオクボ","324-0204"]
[null,null,null,null,null,null,null,null,null,"上石上","0301","上石上","カミイシガミ","324-0037",null,null,null,null,"大神","0403","大神","オオガミ","324-0025"]
[null,null,null,null,null,null,null,null,null,"下石上","0302","下石上","シモイシガミ","324-0036",null,null,null,null,"大豆田","2102","大豆田","オオマメダ","324-0242"]
[null,null,null,null,null,null,null,null,null,"薄葉","0303","薄葉","ウスバ","324-0035",null,null,null,null,"大輪","2208","大輪","オオワ","324-0236"]
[null,null,null,null,null,null,null,null,null,"平沢","0304","平沢","ヒラサワ","324-0034",null,null,null,null,"滝岡","0204","滝岡","タキオカ","324-0026"]
[null,null,null,null,null,null,null,null,null,"佐久山","0401","佐久山","サクヤマ","324-0032",null,null,null,null,"滝沢","0203","滝沢","タキザワ","324-0033"]
[null,null,null,null,null,null,null,null,null,"藤沢","0402","藤沢","フジサワ","324-0031",null,null,null,null,"中央１丁目","0010","中央１丁目","チュウオウ","324-0056"]
[null,null,null,null,null,null,null,null,null,"大神","0403","大神","オオガミ","324-0025",null,null,null,null,"中央２丁目","0011","中央２丁目","チュウオウ","324-0056"]
[null,null,null,null,null,null,null,null,null,"福原","0404","福原","フクワラ","324-0024",null,null,null,null,"中田原","0101","中田原","ナカダワラ","324-0062"]
[null,null,null,null,null,null,null,null,null,"狭原","1001","狭原","セバハラ","324-0401",null,null,null,null,"中野内","2201","中野内","ナカノウチ","324-0206"]
[null,null,null,null,null,null,null,null,null,"小船渡","1002","小船渡","コブナト","324-0402",null,null,null,null,"町島","0102","町島","マチジマ","324-0063"]
[null,null,null,null,null,null,null,null,null,"湯津上","1003","湯津上","ユヅカミ","324-0403",null,null,null,null,"湯津上","1003","湯津上","ユヅカミ","324-0403"]
[null,null,null,null,null,null,null,null,null,"佐良土","1004","佐良土","サラド","324-0404",null,null,null,null,"藤沢","0402","藤沢","フジサワ","324-0031"]
[null,null,null,null,null,null,null,null,null,"蛭畑","1005","蛭畑","ヒルハタ","324-0411",null,null,null,null,"南金丸","0114","南金丸","ミナミカネマル","324-0012"]
[null,null,null,null,null,null,null,null,null,"蛭田","1006","蛭田","ヒルタ","324-0412",null,null,null,null,"南方","2305","南方","ナンボウ","324-0215"]
[null,null,null,null,null,null,null,null,null,"新宿","1007","新宿","アラジュク","324-0413",null,null,null,null,"薄葉","0303","薄葉","ウスバ","324-0035"]
[null,null,null,null,null,null,null,null,null,"片府田","1008","片府田","カタフタ","324-0414",null,null,null,null,"八塩","2005","八塩","ヤシオ","324-0232"]
[null,null,null,null,null,null,null,null,null,"黒羽田町","2001","黒羽田町","クロバネタマチ","324-0233",null,null,null,null,"美原１丁目","0023","美原１丁目","ミハラ","324-0047"]
[null,null,null,null,null,null,null,null,null,"前田","2002","前田","マエタ","324-0234",null,null,null,null,"美原２丁目","0024","美原２丁目","ミハラ","324-0047"]
[null,null,null,null,null,null,null,null,null,"堀之内","2003","堀之内","ホリノウチ","324-0235",null,null,null,null,"美原３丁目","0025","美原３丁目","ミハラ","324-0047"]
[null,null,null,null,null,null,null,null,null,"北野上","2004","北野上","キタノガミ","324-0231",null,null,null,null,"桧木沢","2105","桧木沢","ヒノキザワ","324-0245"]
[null,null,null,null,null,null,null,null,null,"八塩","2005","八塩","ヤシオ","324-0232",null,null,null,null,"蛭田","1006","蛭田","ヒルタ","324-0412"]
[null,null,null,null,null,null,null,null,null,"北滝","2006","北滝","キタタキ","324-0224",null,null,null,null,"蛭畑","1005","蛭畑","ヒルハタ","324-0411"]
[null,null,null,null,null,null,null,null,null,"片田","2007","片田","カタタ","324-0223",null,null,null,null,"富士見１丁目","0032","富士見１丁目","フジミ","324-0028"]
[null,null,null,null,null,null,null,null,null,"亀久","2008","亀久","カメヒサ","324-0221",null,null,null,null,"富士見２丁目","0033","富士見２丁目","フジミ","324-0028"]
[null,null,null,null,null,null,null,null,null,"矢倉","2009","矢倉","ヤグラ","324-0222",null,null,null,null,"富池","0107","富池","トミイケ","324-0004"]
[null,null,null,null,null,null,null,null,null,"黒羽向町","2101","黒羽向町","クロバネムコウマチ","324-0241",null,null,null,null,"福原","0404","福原","フクワラ","324-0024"]
[null,null,null,null,null,null,null,null,null,"大豆田","2102","大豆田","オオマメダ","324-0242",null,null,null,null,"平沢","0304","平沢","ヒラサワ","324-0034"]
[null,null,null,null,null,null,null,null,null,"余瀬","2103","余瀬","ヨゼ","324-0243",null,null,null,null,"片田","2007","片田","カタタ","324-0223"]
[null,null,null,null,null,null,null,null,null,"蜂巣","2104","蜂巣","ハチス","324-0244",null,null,null,null,"片府田","1008","片府田","カタフタ","324-0414"]
[null,null,null,null,null,null,null,null,null,"桧木沢","2105","桧木沢","ヒノキザワ","324-0245",null,null,null,null,"蜂巣","2104","蜂巣","ハチス","324-0244"]
[null,null,null,null,null,null,null,null,null,"寒井","2106","寒井","サブイ","324-0246",null,null,null,null,"北金丸","0113","北金丸","キタカネマル","324-0011"]
[null,null,null,null,null,null,null,null,null,"中野内","2201","中野内","ナカノウチ","324-0206",null,null,null,null,"北大和久","0120","北大和久","キタオオワグ","324-0016"]
[null,null,null,null,null,null,null,null,null,"河原","2202","河原","カワラ","324-0207",null,null,null,null,"北滝","2006","北滝","キタタキ","324-0224"]
[null,null,null,null,null,null,null,null,null,"両郷","2203","両郷","リョウゴウ","324-0201",null,null,null,null,"北野上","2004","北野上","キタノガミ","324-0231"]
[null,null,null,null,null,null,null,null,null,"寺宿","2204","寺宿","テラジュク","324-0203",null,null,null,null,"堀之内","2003","堀之内","ホリノウチ","324-0235"]
[null,null,null,null,null,null,null,null,null,"木佐美","2205","木佐美","キザミ","324-0202",null,null,null,null,"本町１丁目","0018","本町１丁目","ホンチョウ","324-0041"]
[null,null,null,null,null,null,null,null,null,"大久保","2206","大久保","オオクボ","324-0204",null,null,null,null,"本町２丁目","0019","本町２丁目","ホンチョウ","324-0041"]
[null,null,null,null,null,null,null,null,null,"久野又","2207","久野又","クノマタ","324-0205",null,null,null,null,"末広１丁目","0020","末広１丁目","スエヒロ","324-0042"]
[null,null,null,null,null,null,null,null,null,"大輪","2208","大輪","オオワ","324-0236",null,null,null,null,"末広２丁目","0021","末広２丁目","スエヒロ","324-0042"]
[null,null,null,null,null,null,null,null,null,"川田","2209","川田","カワダ","324-0208",null,null,null,null,"末広３丁目","0022","末広３丁目","スエヒロ","324-0042"]
[null,null,null,null,null,null,null,null,null,"須佐木","2301","須佐木","スサギ","324-0212",null,null,null,null,"木佐美","2205","木佐美","キザミ","324-0202"]
[null,null,null,null,null,null,null,null,null,"須賀川","2302","須賀川","スカガワ","324-0211",null,null,null,null,"矢倉","2009","矢倉","ヤグラ","324-0222"]
[null,null,null,null,null,null,null,null,null,"川上","2303","川上","カワカミ","324-0214",null,null,null,null,"余瀬","2103","余瀬","ヨゼ","324-0243"]
[null,null,null,null,null,null,null,null,null,"雲岩寺","2304","雲岩寺","ウンガンジ","324-0213",null,null,null,null,"両郷","2203","両郷","リョウゴウ","324-0201"]
[null,null,null,null,null,null,null,null,null,"南方","2305","南方","ナンボウ","324-0215",null,null,null,null,"練貫","0109","練貫","ネリヌキ","324-0005"]

{"sheet":"集計","index":4,"n_rows":199,"n_cols":51,"rows_kept":199,"cut":false,"hidden":true,"merged":[[76,6,78,6],[79,0,81,6],[76,0,78,0],[76,1,78,1],[76,2,78,2],[76,3,78,3],[76,4,78,4],[76,5,78,5],[70,6,72,6],[73,0,75,0],[73,1,75,1],[73,2,75,2],[73,3,75,3],[73,4,75,4],[73,5,75,5],[73,6,75,6],[70,0,72,0],[70,1,72,1],[70,2,72,2],[70,3,72,3],[70,4,72,4],[70,5,72,5],[64,6,66,6],[67,0,69,0],[67,1,69,1],[67,2,69,2],[67,3,69,3],[67,4,69,4],[67,5,69,5],[67,6,69,6],[64,0,66,0],[64,1,66,1],[64,2,66,2],[64,3,66,3],[64,4,66,4],[64,5,66,5],[58,6,60,6],[61,0,63,0],[61,1,63,1],[61,2,63,2],[61,3,63,3],[61,4,63,4],[61,5,63,5],[61,6,63,6],[58,0,60,0],[58,1,60,1],[58,2,60,2],[58,3,60,3],[58,4,60,4],[58,5,60,5],[52,6,54,6],[55,0,57,0],[55,1,57,1],[55,2,57,2],[55,3,57,3],[55,4,57,4],[55,5,57,5],[55,6,57,6],[52,0,54,0],[52,1,54,1],[52,2,54,2],[52,3,54,3],[52,4,54,4],[52,5,54,5],[46,6,48,6],[49,0,51,0],[49,1,51,1],[49,2,51,2],[49,3,51,3],[49,4,51,4],[49,5,51,5],[49,6,51,6],[46,0,48,0],[46,1,48,1],[46,2,48,2],[46,3,48,3],[46,4,48,4],[46,5,48,5],[40,6,42,6],[43,0,45,0],[43,1,45,1],[43,2,45,2],[43,3,45,3],[43,4,45,4],[43,5,45,5],[43,6,45,6],[40,0,42,0],[40,1,42,1],[40,2,42,2],[40,3,42,3],[40,4,42,4],[40,5,42,5],[34,6,36,6],[37,0,39,0],[37,1,39,1],[37,2,39,2],[37,3,39,3],[37,4,39,4],[37,5,39,5],[37,6,39,6],[34,0,36,0],[34,1,36,1],[34,2,36,2],[34,3,36,3],[34,4,36,4],[34,5,36,5],[28,6,30,6],[31,0,33,0],[31,1,33,1],[31,2,33,2],[31,3,33,3],[31,4,33,4],[31,5,33,5],[31,6,33,6],[28,0,30,0],[28,1,30,1],[28,2,30,2],[28,3,30,3],[28,4,30,4],[28,5,30,5],[22,6,24,6],[25,0,27,0],[25,1,27,1],[25,2,27,2],[25,3,27,3],[25,4,27,4],[25,5,27,5],[25,6,27,6],[22,0,24,0],[22,1,24,1],[22,2,24,2],[22,3,24,3],[22,4,24,4],[22,5,24,5],[16,6,18,6],[19,0,21,0],[19,1,21,1],[19,2,21,2],[19,3,21,3],[19,4,21,4],[19,5,21,5],[19,6,21,6],[16,0,18,0],[16,1,18,1],[16,2,18,2],[16,3,18,3],[16,4,18,4],[16,5,18,5],[10,6,12,6],[13,0,15,0],[13,1,15,1],[13,2,15,2],[13,3,15,3],[13,4,15,4],[13,5,15,5],[13,6,15,6],[10,0,12,0],[10,1,12,1],[10,2,12,2],[10,3,12,3],[10,4,12,4],[10,5,12,5],[7,0,9,0],[7,1,9,1],[7,2,9,2],[7,3,9,3],[7,4,9,4],[7,5,9,5],[7,6,9,6],[2,5,3,5],[2,6,3,6],[2,7,3,7],[2,39,3,39],[4,0,6,0],[4,1,6,1],[4,2,6,2],[4,3,6,3],[4,4,6,4],[4,5,6,5],[0,0,0,2],[0,3,0,4],[0,7,0,8],[0,10,0,12],[0,30,0,38],[2,0,3,0],[2,1,3,1],[2,2,3,2],[2,3,3,3],[2,4,3,4],[4,6,6,6]]}
[{"$f":"年","v":2013},null,null,{"$f":"月","v":6},null,null,null,"開所日数",null,null,{"$f":"DATE(年,月+1,1)-DATE(年,月,1)","v":30},null,null,null,null,null,null,null,null,null,null,null,null,null,null,null,null,null,null,"施設名称","アットホームにちにちそう"]
[]
["№","氏　　　名","住所","生年月日","要介護度","性別","年齢","サービス\n種　　別",{"$f":"DATE(年,月,1)","v":"2013-06-01"},{"$f":"I3+1","v":"2013-06-02"},{"$f":"J3+1","v":"2013-06-03"},"2013-06-04","2013-06-05","2013-06-06","2013-06-07","2013-06-08","2013-06-09","2013-06-10","2013-06-11","2013-06-12","2013-06-13","2013-06-14","2013-06-15","2013-06-16","2013-06-17","2013-06-18","2013-06-19","2013-06-20","2013-06-21","2013-06-22","2013-06-23","2013-06-24","2013-06-25","2013-06-26","2013-06-27","2013-06-28",{"$f":"IF(MONTH(AI3+2)=月,AI3+2,\"\")","v":"2013-06-29"},{"$f":"IF(MONTH(AI3+3)=月,AI3+3,\"\")","v":"2013-06-30"},{"$f":"IF(MONTH(AI3+4)=月,AI3+4,\"\")","v":""},"計"]
[null,null,null,null,null,null,null,null,null,null,null,null,null,null,null,null,null,null,null,null,null,null,null,null,null,null,null,null,null,null,null,null,null,null,null,null,null,null,null,null,null,null,"登録者数","男女別"]
[1,{"$f":"Top!C40","v":"利用者A"},{"$f":"VLOOKUP(B5,集計,3,FALSE)","v":"北金丸"},{"$f":"VLOOKUP(B5,集計,2,FALSE)","v":"1929-12-07"},{"$f":"VLOOKUP(B5,集計,4,FALSE)","v":"要介護１"},{"$f":"VLOOKUP(B5,集計,5,FALSE)","v":"男"},{"$f":"DATEDIF(D5,TODAY(),\"y\")","v":83},"通　い",{"$f":"IF(HLOOKUP(I$3,利用予定,3,FALSE)=\"\",1,\"\")","v":1},1,1,1,1,1,1,1,1,1,1,1,1,1,1,1,1,1,1,1,1,1,1,1,1,1,1,1,1,1,1,{"$f":"SUM(I5:AM5)","v":31},null,null,"男",{"$f":"COUNTIF($F$5:$F$79,\"男\")","v":4}]
[null,null,null,null,null,null,null,"泊まり",{"$f":"IF(HLOOKUP(I$3,利用予定,4,FALSE)=\"●\",1,\"\")","v":1},1,1,"",1,1,1,1,1,1,1,1,1,1,1,1,1,1,1,1,1,1,1,1,"",1,1,1,1,1,1,{"$f":"SUM(I6:AM6)","v":29},null,null,"女",{"$f":"COUNTIF($F$5:$F$79,\"女\")","v":6}]
[null,null,null,null,null,null,null,"訪　問",{"$f":"IF(HLOOKUP(I$3,利用予定,3,FALSE)=\"訪\",1,\"\")","v":""},"","","","","","","","","","","","","","","","","","","","","","","","","","","","","","",0,null,null,"合計",{"$f":"SUM(AR5:AR6)","v":10}]
[2,{"$f":"Top!C41","v":"利用者B"},{"$f":"VLOOKUP(B8,集計,3,FALSE)","v":"新富町"},{"$f":"VLOOKUP(B8,集計,2,FALSE)","v":"1926-02-16"},{"$f":"VLOOKUP(B8,集計,4,FALSE)","v":"要介護２"},{"$f":"VLOOKUP(B8,集計,5,FALSE)","v":"女"},{"$f":"DATEDIF(D8,TODAY(),\"y\")","v":87},"通　い",{"$f":"IF(HLOOKUP(I$3,利用予定,5,FALSE)=\"\",1,\"\")","v":1},"","","",1,1,1,1,1,1,1,1,1,"","","",1,1,1,1,1,1,1,1,1,1,1,1,1,1,1,25]
[null,null,null,null,null,null,null,"泊まり",{"$f":"IF(HLOOKUP(I$3,利用予定,6,FALSE)=\"●\",1,\"\")","v":1},"","","",1,1,1,1,1,1,1,1,1,"","","",1,1,1,1,1,1,1,1,1,1,1,1,1,1,1,25,null,null,"登録者数","生活圏域別"]
[null,null,null,null,null,null,null,"訪　問",{"$f":"IF(HLOOKUP(I$3,利用予定,5,FALSE)=\"訪\",1,\"\")","v":""},"","","","","","","","","","","","","","","","","","","","","","","","","","","","","","",0,null,null,{"$f":"COUNTIF(D5:D79,K84)+COUNTIF(D5:D79,K86)+COUNTIF(D5:D79,K87)+COUNTIF(D5:D79,K88)+COUNTIF(D5:D79,K89)+COUNTIF(D5:D79,K90)+COUNTIF(D5:D79,K91)+COUNTIF(D5:D79,K92)+COUNTIF(D5:D79,K93)+COUNTIF(D5:D79,K114)+COUNTIF(D5:D79,K115)+COUNTIF(D5:D79,K116)+COUNTIF(D5:D79,K117)+COUNTIF(D5:D79,K118)","v":0},"大田原"]
[3,{"$f":"Top!C42","v":"利用者C"},{"$f":"VLOOKUP(B11,集計,3,FALSE)","v":"末広町"},{"$f":"VLOOKUP(B11,集計,2,FALSE)","v":"1934-10-03"},{"$f":"VLOOKUP(B11,集計,4,FALSE)","v":"要介護４"},{"$f":"VLOOKUP(B11,集計,5,FALSE)","v":"女"},{"$f":"DATEDIF(D11,TODAY(),\"y\")","v":78},"通　い",{"$f":"IF(HLOOKUP(I$3,利用予定,7,FALSE)=\"\",1,\"\")","v":""},"","","","","","","","","","","","","","","","","","","","","","","","","","","","","","",0,null,null,{"$f":"COUNTIF(D5:D79,K103)+COUNTIF(D5:D79,K104)+COUNTIF(D5:D79,K105)+COUNTIF(D5:D79,K106)+COUNTIF(D5:D79,K107)+COUNTIF(D5:D79,K108)+COUNTIF(D5:D79,K109)+COUNTIF(D5:D79,K110)+COUNTIF(D5:D79,K111)+COUNTIF(D5:D79,K112)+COUNTIF(D5:D79,K113)+COUNTIF(D5:D79,K119)","v":0},"西原"]
[null,null,null,null,null,null,null,"泊まり",{"$f":"IF(HLOOKUP(I$3,利用予定,8,FALSE)=\"●\",1,\"\")","v":""},"","","","","","","","","","","","","","","","","","","","","","","","","","","","","","",0,null,null,{"$f":"COUNTIF(D5:D79,K85)+COUNTIF(D5:D79,K94)+COUNTIF(D5:D79,K95)+COUNTIF(D5:D79,K96)+COUNTIF(D5:D79,K97)+COUNTIF(D5:D79,K98)+COUNTIF(D5:D79,K99)+COUNTIF(D5:D79,K100)+COUNTIF(D5:D79,K101)+COUNTIF(D5:D79,K102)","v":0},"紫塚"]
[null,null,null,null,null,null,null,"訪　問",{"$f":"IF(HLOOKUP(I$3,利用予定,7,FALSE)=\"訪\",1,\"\")","v":1},1,1,1,1,1,1,1,1,1,1,1,1,1,1,1,1,1,1,1,1,1,1,1,1,1,1,1,1,1,1,31,null,null,{"$f":"COUNTIF(D5:D79,K120)+COUNTIF(D5:D79,K121)+COUNTIF(D5:D79,K122)+COUNTIF(D5:D79,K123)+COUNTIF(D5:D79,K124)+COUNTIF(D5:D79,K125)+COUNTIF(D5:D79,K126)+COUNTIF(D5:D79,K127)+COUNTIF(D5:D79,K128)+COUNTIF(D5:D79,K129)+COUNTIF(D5:D79,K130)+COUNTIF(D5:D79,K131)","v":0},"金田北"]
[4,{"$f":"Top!C43","v":"利用者D"},{"$f":"VLOOKUP(B14,集計,3,FALSE)","v":"市野沢"},{"$f":"VLOOKUP(B14,集計,2,FALSE)","v":"1937-06-07"},{"$f":"VLOOKUP(B14,集計,4,FALSE)","v":"要介護５"},{"$f":"VLOOKUP(B14,集計,5,FALSE)","v":"男"},{"$f":"DATEDIF(D14,TODAY(),\"y\")","v":75},"通　い",{"$f":"IF(HLOOKUP(I$3,利用予定,9,FALSE)=\"\",1,\"\")","v":1},1,"","","","",1,1,1,1,"","",1,"","",1,1,"","",1,1,1,1,1,"","",1,1,1,1,1,19,null,null,{"$f":"COUNTIF(D5:D79,K132)+COUNTIF(D5:D79,K133)+COUNTIF(D5:D79,K134)+COUNTIF(D5:D79,K135)+COUNTIF(D5:D79,K136)+COUNTIF(D5:D79,K137)+COUNTIF(D5:D79,K138)+COUNTIF(D5:D79,K139)","v":0},"金田南"]
[null,null,null,null,null,null,null,"泊まり",{"$f":"IF(HLOOKUP(I$3,利用予定,10,FALSE)=\"●\",1,\"\")","v":""},"","","","","","","","","","","","","","","","","","","","","","","","","","","","","","",0,null,null,{"$f":"COUNTIF(D5:D79,K140)+COUNTIF(D5:D79,K141)+COUNTIF(D5:D79,K142)+COUNTIF(D5:D79,K143)+COUNTIF(D5:D79,K144)+COUNTIF(D5:D79,K145)+COUNTIF(D5:D79,K146)","v":0},"親園"]
[null,null,null,null,null,null,null,"訪　問",{"$f":"IF(HLOOKUP(I$3,利用予定,9,FALSE)=\"訪\",1,\"\")","v":""},"","","","","","","","","","","","","","","","","","","","","","","","","","","","","","",0,null,null,{"$f":"COUNTIF(D5:D79,K147)+COUNTIF(D5:D79,K148)+COUNTIF(D5:D79,K149)+COUNTIF(D5:D79,K150)","v":0},"野崎"]
[5,{"$f":"Top!C44","v":"利用者E"},{"$f":"VLOOKUP(B17,集計,3,FALSE)","v":"富士見1丁目"},{"$f":"VLOOKUP(B17,集計,2,FALSE)","v":"1921-03-20"},{"$f":"VLOOKUP(B17,集計,4,FALSE)","v":"要介護３"},{"$f":"VLOOKUP(B17,集計,5,FALSE)","v":"女"},{"$f":"DATEDIF(D17,TODAY(),\"y\")","v":92},"通　い",{"$f":"IF(HLOOKUP(I$3,利用予定,11,FALSE)=\"\",1,\"\")","v":""},1,"",1,1,1,1,"",1,"",1,1,1,1,"",1,"",1,1,1,1,"",1,"",1,1,1,1,"",1,"",21,null,null,{"$f":"COUNTIF(D5:D79,K151)+COUNTIF(D5:D79,K152)+COUNTIF(D5:D79,K153)+COUNTIF(D5:D79,K154)","v":0},"佐久山"]
[null,null,null,null,null,null,null,"泊まり",{"$f":"IF(HLOOKUP(I$3,利用予定,12,FALSE)=\"●\",1,\"\")","v":""},"","",1,1,1,"","","","",1,1,1,"","","","",1,1,1,"","","","",1,1,1,"","","","",12,null,null,{"$f":"COUNTIF(D5:D79,K155)+COUNTIF(D5:D79,K156)+COUNTIF(D5:D79,K157)+COUNTIF(D5:D79,K158)+COUNTIF(D5:D79,K159)+COUNTIF(D5:D79,K160)+COUNTIF(D5:D79,K161)+COUNTIF(D5:D79,K162)","v":0},"湯津上"]
[null,null,null,null,null,null,null,"訪　問",{"$f":"IF(HLOOKUP(I$3,利用予定,11,FALSE)=\"訪\",1,\"\")","v":""},"","","","","","","","","","","","","","","","","","","","","","","","","","","","","","",0,null,null,{"$f":"COUNTIF(D5:D79,K163)+COUNTIF(D5:D79,K164)+COUNTIF(D5:D79,K165)+COUNTIF(D5:D79,K166)+COUNTIF(D5:D79,K167)+COUNTIF(D5:D79,K168)+COUNTIF(D5:D79,K169)+COUNTIF(D5:D79,K170)+COUNTIF(D5:D79,K171)","v":0},"黒羽"]
[6,{"$f":"Top!C45","v":"利用者F"},{"$f":"VLOOKUP(B20,集計,3,FALSE)","v":"宇田川"},{"$f":"VLOOKUP(B20,集計,2,FALSE)","v":"1915-06-21"},{"$f":"VLOOKUP(B20,集計,4,FALSE)","v":"要介護１"},{"$f":"VLOOKUP(B20,集計,5,FALSE)","v":"男"},{"$f":"DATEDIF(D20,TODAY(),\"y\")","v":97},"通　い",{"$f":"IF(HLOOKUP(I$3,利用予定,13,FALSE)=\"\",1,\"\")","v":1},"","","",1,1,"",1,"","","",1,"","",1,"","","",1,"","",1,"","","",1,"","",1,"","",10,null,null,{"$f":"COUNTIF(D5:D79,K172)+COUNTIF(D5:D79,K173)+COUNTIF(D5:D79,K174)+COUNTIF(D5:D79,K175)+COUNTIF(D5:D79,K176)+COUNTIF(D5:D79,K177)","v":0},"川西"]
[null,null,null,null,null,null,null,"泊まり",{"$f":"IF(HLOOKUP(I$3,利用予定,14,FALSE)=\"●\",1,\"\")","v":""},"","","","","","","","","","","","","","","","","","","","","","","","","","","","","","",0,null,null,{"$f":"COUNTIF(D5:D79,K178)+COUNTIF(D5:D79,K179)+COUNTIF(D5:D79,K180)+COUNTIF(D5:D79,K181)+COUNTIF(D5:D79,K182)+COUNTIF(D5:D79,K183)+COUNTIF(D5:D79,K184)+COUNTIF(D5:D79,K185)+COUNTIF(D5:D79,K186)","v":0},"両郷"]
[null,null,null,null,null,null,null,"訪　問",{"$f":"IF(HLOOKUP(I$3,利用予定,13,FALSE)=\"訪\",1,\"\")","v":""},1,"",1,"","","","","",1,"","","","","","",1,"","","","","","",1,"","","","","","",1,6,null,null,{"$f":"COUNTIF(D5:D79,K187)+COUNTIF(D5:D79,K188)+COUNTIF(D5:D79,K189)+COUNTIF(D5:D79,K190)+COUNTIF(D5:D79,K191)","v":0},"須賀川"]
[7,{"$f":"Top!C46","v":"利用者G"},{"$f":"VLOOKUP(B23,集計,3,FALSE)","v":"新富町"},{"$f":"VLOOKUP(B23,集計,2,FALSE)","v":"1914-08-23"},{"$f":"VLOOKUP(B23,集計,4,FALSE)","v":"要介護２"},{"$f":"VLOOKUP(B23,集計,5,FALSE)","v":"女"},{"$f":"DATEDIF(D23,TODAY(),\"y\")","v":98},"通　い",{"$f":"IF(HLOOKUP(I$3,利用予定,15,FALSE)=\"\",1,\"\")","v":""},"","","","","","","","","","","","","","","","","","","","","","","","","","","","","","",0]
[null,null,null,null,null,null,null,"泊まり",{"$f":"IF(HLOOKUP(I$3,利用予定,16,FALSE)=\"●\",1,\"\")","v":1},1,1,1,1,1,1,1,1,1,1,1,1,1,1,1,1,1,1,1,1,1,1,1,1,1,1,1,1,1,1,31,null,null,null,"利用者総数","平均"]
[null,null,null,null,null,null,null,"訪　問",{"$f":"IF(HLOOKUP(I$3,利用予定,15,FALSE)=\"訪\",1,\"\")","v":1},1,1,1,1,1,1,1,1,1,1,1,1,1,1,1,1,1,1,1,1,1,1,1,1,1,1,1,1,1,1,31,null,null,"通い",{"$f":"AN77","v":31},{"$f":"AR25/K1","v":1.0333333333333334}]
[8,{"$f":"Top!C47","v":"利用者H"},{"$f":"VLOOKUP(B26,集計,3,FALSE)","v":"城山２丁目"},{"$f":"VLOOKUP(B26,集計,2,FALSE)","v":"1924-01-25"},{"$f":"VLOOKUP(B26,集計,4,FALSE)","v":"要介護３"},{"$f":"VLOOKUP(B26,集計,5,FALSE)","v":"女"},{"$f":"DATEDIF(D26,TODAY(),\"y\")","v":89},"通　い",{"$f":"IF(HLOOKUP(I$3,利用予定,17,FALSE)=\"\",1,\"\")","v":1},1,1,1,1,1,1,1,1,1,1,1,1,1,1,1,1,1,1,1,1,1,1,1,1,1,1,1,1,1,1,31,null,null,"泊まり",{"$f":"AN78","v":0},{"$f":"AR26/K1","v":0}]
[null,null,null,null,null,null,null,"泊まり",{"$f":"IF(HLOOKUP(I$3,利用予定,18,FALSE)=\"●\",1,\"\")","v":1},1,1,1,1,1,1,1,1,1,1,1,1,1,1,1,1,1,1,1,1,1,1,1,1,1,1,1,1,1,1,31,null,null,"訪問",{"$f":"AN79","v":0},{"$f":"AR27/K1","v":0}]
[null,null,null,null,null,null,null,"訪　問",{"$f":"IF(HLOOKUP(I$3,利用予定,17,FALSE)=\"訪\",1,\"\")","v":""},"","","","","","","","","","","","","","","","","","","","","","","","","","","","","","",0]
[9,{"$f":"Top!C48","v":"利用者I"},{"$f":"VLOOKUP(B29,集計,3,FALSE)","v":"富士見"},{"$f":"VLOOKUP(B29,集計,2,FALSE)","v":"1949-06-22"},{"$f":"VLOOKUP(B29,集計,4,FALSE)","v":"要介護１"},{"$f":"VLOOKUP(B29,集計,5,FALSE)","v":"男"},{"$f":"DATEDIF(D29,TODAY(),\"y\")","v":63},"通　い",{"$f":"IF(HLOOKUP(I$3,利用予定,19,FALSE)=\"\",1,\"\")","v":1},1,1,"",1,1,1,"",1,1,"",1,1,"","",1,1,1,1,"","",1,1,1,"",1,1,1,1,1,1,23,null,null,null,"６５歳未満","６５～６９歳","７０～７４歳","７５～７９歳","８０～８４歳","８５～８９歳","９０歳以上"]
[null,null,null,null,null,null,null,"泊まり",{"$f":"IF(HLOOKUP(I$3,利用予定,20,FALSE)=\"●\",1,\"\")","v":""},"","","","","","","","","","","","","","","","","","","","","","","","","","","","","","",0,null,null,"男",{"$f":"DCOUNTA($F$3:$G$79,,AQ35:AS36)","v":1},{"$f":"DCOUNTA($F$3:$G$79,,AQ37:AS38)","v":0},{"$f":"DCOUNTA($F$3:$G$79,,AQ39:AS40)","v":0},{"$f":"DCOUNTA($F$3:$G$79,,AQ41:AS42)","v":1},{"$f":"DCOUNTA($F$3:$G$79,,AQ43:AS44)","v":1},{"$f":"DCOUNTA($F$3:$G$79,,AQ45:AS46)","v":0},{"$f":"DCOUNTA($F$3:$G$79,,AQ47:AS48)","v":1}]
[null,null,null,null,null,null,null,"訪　問",{"$f":"IF(HLOOKUP(I$3,利用予定,19,FALSE)=\"訪\",1,\"\")","v":""},"","","","","","","","","","","","","","","","","","","","","","","","","","","","","","",0,null,null,"女",{"$f":"DCOUNTA($F$3:$G$79,,AU35:AW36)","v":0},{"$f":"DCOUNTA($F$3:$G$79,,AU37:AW38)","v":0},{"$f":"DCOUNTA($F$3:$G$79,,AU39:AW40)","v":0},{"$f":"DCOUNTA($F$3:$G$79,,AU41:AW42)","v":1},{"$f":"DCOUNTA($F$3:$G$79,,AU43:AW44)","v":0},{"$f":"DCOUNTA($F$3:$G$79,,AU45:AW46)","v":3},{"$f":"DCOUNTA($F$3:$G$79,,AU47:AW48)","v":2}]
[10,{"$f":"Top!C49","v":"利用者J"},{"$f":"VLOOKUP(B32,集計,3,FALSE)","v":"浅香"},{"$f":"VLOOKUP(B32,集計,2,FALSE)","v":"1924-08-31"},{"$f":"VLOOKUP(B32,集計,4,FALSE)","v":"要介護２"},{"$f":"VLOOKUP(B32,集計,5,FALSE)","v":"女"},{"$f":"DATEDIF(D32,TODAY(),\"y\")","v":88},"通　い",{"$f":"IF(HLOOKUP(I$3,利用予定,21,FALSE)=\"\",1,\"\")","v":""},"","","","","","","","","","","","","","","","","","","","","","","","","","","","","","",0,null,null,"計",{"$f":"SUM(AR30:AR31)","v":1},0,0,2,1,3,3]
[null,null,null,null,null,null,null,"泊まり",{"$f":"IF(HLOOKUP(I$3,利用予定,22,FALSE)=\"●\",1,\"\")","v":""},"","","","","","","","","","","","","","","","","","","","","","","","","","","","","","",0]
[null,null,null,null,null,null,null,"訪　問",{"$f":"IF(HLOOKUP(I$3,利用予定,21,FALSE)=\"訪\",1,\"\")","v":1},1,1,1,1,1,1,1,1,1,1,1,1,1,1,1,1,1,1,1,1,1,1,1,1,1,1,1,1,1,1,31]
[11,{"$f":"Top!C50","v":0},{"$f":"VLOOKUP(B35,集計,3,FALSE)","v":{"$error":"#N/A"}},{"$f":"VLOOKUP(B35,集計,2,FALSE)","v":{"$error":"#N/A"}},{"$f":"VLOOKUP(B35,集計,4,FALSE)","v":{"$error":"#N/A"}},{"$f":"VLOOKUP(B35,集計,5,FALSE)","v":{"$error":"#N/A"}},{"$f":"DATEDIF(D35,TODAY(),\"y\")","v":{"$error":"#N/A"}},"通　い",{"$f":"IF(HLOOKUP(I$3,利用予定,23,FALSE)=\"\",1,\"\")","v":1},1,1,1,1,1,1,1,1,1,1,1,1,1,1,1,1,1,1,1,1,1,1,1,1,1,1,1,1,1,1,31,null,null,"性別","年齢","年齢",null,"性別","年齢","年齢"]
[null,null,null,null,null,null,null,"泊まり",{"$f":"IF(HLOOKUP(I$3,利用予定,24,FALSE)=\"●\",1,\"\")","v":""},"","","","","","","","","","","","","","","","","","","","","","","","","","","","","","",0,null,null,"男","<65","<65",null,"女","<65","<65"]
[null,null,null,null,null,null,null,"訪　問",{"$f":"IF(HLOOKUP(I$3,利用予定,23,FALSE)=\"訪\",1,\"\")","v":""},"","","","","","","","","","","","","","","","","","","","","","","","","","","","","","",0,null,null,"性別","年齢","年齢",null,"性別","年齢","年齢"]
[12,{"$f":"Top!C51","v":0},{"$f":"VLOOKUP(B38,集計,3,FALSE)","v":{"$error":"#N/A"}},{"$f":"VLOOKUP(B38,集計,2,FALSE)","v":{"$error":"#N/A"}},{"$f":"VLOOKUP(B38,集計,4,FALSE)","v":{"$error":"#N/A"}},{"$f":"VLOOKUP(B38,集計,5,FALSE)","v":{"$error":"#N/A"}},{"$f":"DATEDIF(D38,TODAY(),\"y\")","v":{"$error":"#N/A"}},"通　い",{"$f":"IF(HLOOKUP(I$3,利用予定,25,FALSE)=\"\",1,\"\")","v":1},1,1,1,1,1,1,1,1,1,1,1,1,1,1,1,1,1,1,1,1,1,1,1,1,1,1,1,1,1,1,31,null,null,"男",">64","<70",null,"女",">64","<70"]
[null,null,null,null,null,null,null,"泊まり",{"$f":"IF(HLOOKUP(I$3,利用予定,26,FALSE)=\"●\",1,\"\")","v":""},"","","","","","","","","","","","","","","","","","","","","","","","","","","","","","",0,null,null,"性別","年齢","年齢",null,"性別","年齢","年齢"]
[null,null,null,null,null,null,null,"訪　問",{"$f":"IF(HLOOKUP(I$3,利用予定,25,FALSE)=\"訪\",1,\"\")","v":""},"","","","","","","","","","","","","","","","","","","","","","","","","","","","","","",0,null,null,"男",">69","<75",null,"女",">69","<75"]
[13,{"$f":"Top!C52","v":0},{"$f":"VLOOKUP(B41,集計,3,FALSE)","v":{"$error":"#N/A"}},{"$f":"VLOOKUP(B41,集計,2,FALSE)","v":{"$error":"#N/A"}},{"$f":"VLOOKUP(B41,集計,4,FALSE)","v":{"$error":"#N/A"}},{"$f":"VLOOKUP(B41,集計,5,FALSE)","v":{"$error":"#N/A"}},{"$f":"DATEDIF(D41,TODAY(),\"y\")","v":{"$error":"#N/A"}},"通　い",{"$f":"IF(HLOOKUP(I$3,利用予定,27,FALSE)=\"\",1,\"\")","v":1},1,1,1,1,1,1,1,1,1,1,1,1,1,1,1,1,1,1,1,1,1,1,1,1,1,1,1,1,1,1,31,null,null,"性別","年齢","年齢",null,"性別","年齢","年齢"]
[null,null,null,null,null,null,null,"泊まり",{"$f":"IF(HLOOKUP(I$3,利用予定,28,FALSE)=\"●\",1,\"\")","v":""},"","","","","","","","","","","","","","","","","","","","","","","","","","","","","","",0,null,null,"男",">74","<80",null,"女",">74","<80"]
[null,null,null,null,null,null,null,"訪　問",{"$f":"IF(HLOOKUP(I$3,利用予定,27,FALSE)=\"訪\",1,\"\")","v":""},"","","","","","","","","","","","","","","","","","","","","","","","","","","","","","",0,null,null,"性別","年齢","年齢",null,"性別","年齢","年齢"]
[14,{"$f":"Top!C53","v":0},{"$f":"VLOOKUP(B44,集計,3,FALSE)","v":{"$error":"#N/A"}},{"$f":"VLOOKUP(B44,集計,2,FALSE)","v":{"$error":"#N/A"}},{"$f":"VLOOKUP(B44,集計,4,FALSE)","v":{"$error":"#N/A"}},{"$f":"VLOOKUP(B44,集計,5,FALSE)","v":{"$error":"#N/A"}},{"$f":"DATEDIF(D44,TODAY(),\"y\")","v":{"$error":"#N/A"}},"通　い",{"$f":"IF(HLOOKUP(I$3,利用予定,29,FALSE)=\"\",1,\"\")","v":1},1,1,1,1,1,1,1,1,1,1,1,1,1,1,1,1,1,1,1,1,1,1,1,1,1,1,1,1,1,1,31,null,null,"男",">79","<85",null,"女",">79","<85"]
[null,null,null,null,null,null,null,"泊まり",{"$f":"IF(HLOOKUP(I$3,利用予定,30,FALSE)=\"●\",1,\"\")","v":""},"","","","","","","","","","","","","","","","","","","","","","","","","","","","","","",0,null,null,"性別","年齢","年齢",null,"性別","年齢","年齢"]
[null,null,null,null,null,null,null,"訪　問",{"$f":"IF(HLOOKUP(I$3,利用予定,29,FALSE)=\"訪\",1,\"\")","v":""},"","","","","","","","","","","","","","","","","","","","","","","","","","","","","","",0,null,null,"男",">84","<90",null,"女",">84","<90"]
[15,{"$f":"Top!C54","v":0},{"$f":"VLOOKUP(B47,集計,3,FALSE)","v":{"$error":"#N/A"}},{"$f":"VLOOKUP(B47,集計,2,FALSE)","v":{"$error":"#N/A"}},{"$f":"VLOOKUP(B47,集計,4,FALSE)","v":{"$error":"#N/A"}},{"$f":"VLOOKUP(B47,集計,5,FALSE)","v":{"$error":"#N/A"}},{"$f":"DATEDIF(D47,TODAY(),\"y\")","v":{"$error":"#N/A"}},"通　い",{"$f":"IF(HLOOKUP(I$3,利用予定,31,FALSE)=\"\",1,\"\")","v":1},1,1,1,1,1,1,1,1,1,1,1,1,1,1,1,1,1,1,1,1,1,1,1,1,1,1,1,1,1,1,31,null,null,"性別","年齢","年齢",null,"性別","年齢","年齢"]
[null,null,null,null,null,null,null,"泊まり",{"$f":"IF(HLOOKUP(I$3,利用予定,32,FALSE)=\"●\",1,\"\")","v":""},"","","","","","","","","","","","","","","","","","","","","","","","","","","","","","",0,null,null,"男",">89",">89",null,"女",">89",">89"]
[null,null,null,null,null,null,null,"訪　問",{"$f":"IF(HLOOKUP(I$3,利用予定,31,FALSE)=\"訪\",1,\"\")","v":""},"","","","","","","","","","","","","","","","","","","","","","","","","","","","","","",0]
[16,{"$f":"Top!C55","v":0},{"$f":"VLOOKUP(B50,集計,3,FALSE)","v":{"$error":"#N/A"}},{"$f":"VLOOKUP(B50,集計,2,FALSE)","v":{"$error":"#N/A"}},{"$f":"VLOOKUP(B50,集計,4,FALSE)","v":{"$error":"#N/A"}},{"$f":"VLOOKUP(B50,集計,5,FALSE)","v":{"$error":"#N/A"}},{"$f":"DATEDIF(D50,TODAY(),\"y\")","v":{"$error":"#N/A"}},"通　い",{"$f":"IF(HLOOKUP(I$3,利用予定,33,FALSE)=\"\",1,\"\")","v":1},1,1,1,1,1,1,1,1,1,1,1,1,1,1,1,1,1,1,1,1,1,1,1,1,1,1,1,1,1,1,31]
[null,null,null,null,null,null,null,"泊まり",{"$f":"IF(HLOOKUP(I$3,利用予定,34,FALSE)=\"●\",1,\"\")","v":""},"","","","","","","","","","","","","","","","","","","","","","","","","","","","","","",0,null,null,null,"要支援１","要支援２","要介護１","要介護２","要介護３","要介護４","要介護５"]
[null,null,null,null,null,null,null,"訪　問",{"$f":"IF(HLOOKUP(I$3,利用予定,33,FALSE)=\"訪\",1,\"\")","v":""},"","","","","","","","","","","","","","","","","","","","","","","","","","","","","","",0,null,null,"男",{"$f":"DCOUNTA($E$3:$F$79,,AQ57:AR58)","v":0},{"$f":"DCOUNTA($E$3:$F$79,,AQ59:AR60)","v":0},{"$f":"DCOUNTA($E$3:$F$79,,AQ61:AR62)","v":3},{"$f":"DCOUNTA($E$3:$F$79,,AQ63:AR64)","v":0},{"$f":"DCOUNTA($E$3:$F$79,,AQ65:AR66)","v":0},{"$f":"DCOUNTA($E$3:$F$79,,AQ67:AR68)","v":0},{"$f":"DCOUNTA($E$3:$F$79,,AQ69:AR70)","v":1}]
[17,{"$f":"Top!C56","v":0},{"$f":"VLOOKUP(B53,集計,3,FALSE)","v":{"$error":"#N/A"}},{"$f":"VLOOKUP(B53,集計,2,FALSE)","v":{"$error":"#N/A"}},{"$f":"VLOOKUP(B53,集計,4,FALSE)","v":{"$error":"#N/A"}},{"$f":"VLOOKUP(B53,集計,5,FALSE)","v":{"$error":"#N/A"}},{"$f":"DATEDIF(D53,TODAY(),\"y\")","v":{"$error":"#N/A"}},"通　い",{"$f":"IF(HLOOKUP(I$3,利用予定,35,FALSE)=\"\",1,\"\")","v":1},1,1,1,1,1,1,1,1,1,1,1,1,1,1,1,1,1,1,1,1,1,1,1,1,1,1,1,1,1,1,31,null,null,"女",{"$f":"DCOUNTA($E$3:$F$79,,AT57:AU58)","v":0},{"$f":"DCOUNTA($E$3:$F$79,,AT59:AU60)","v":0},{"$f":"DCOUNTA($E$3:$F$79,,AT61:AU62)","v":0},{"$f":"DCOUNTA($E$3:$F$79,,AT63:AU64)","v":3},{"$f":"DCOUNTA($E$3:$F$79,,AT65:AU66)","v":2},{"$f":"DCOUNTA($E$3:$F$79,,AT67:AU68)","v":1},{"$f":"DCOUNTA($E$3:$F$79,,AT69:AU70)","v":0}]
[null,null,null,null,null,null,null,"泊まり",{"$f":"IF(HLOOKUP(I$3,利用予定,36,FALSE)=\"●\",1,\"\")","v":""},"","","","","","","","","","","","","","","","","","","","","","","","","","","","","","",0,null,null,"計",{"$f":"SUM(AR52:AR53)","v":0},0,3,3,2,1,1]
[null,null,null,null,null,null,null,"訪　問",{"$f":"IF(HLOOKUP(I$3,利用予定,35,FALSE)=\"訪\",1,\"\")","v":""},"","","","","","","","","","","","","","","","","","","","","","","","","","","","","","",0]
[18,{"$f":"Top!C57","v":0},{"$f":"VLOOKUP(B56,集計,3,FALSE)","v":{"$error":"#N/A"}},{"$f":"VLOOKUP(B56,集計,2,FALSE)","v":{"$error":"#N/A"}},{"$f":"VLOOKUP(B56,集計,4,FALSE)","v":{"$error":"#N/A"}},{"$f":"VLOOKUP(B56,集計,5,FALSE)","v":{"$error":"#N/A"}},{"$f":"DATEDIF(D56,TODAY(),\"y\")","v":{"$error":"#N/A"}},"通　い",{"$f":"IF(HLOOKUP(I$3,利用予定,37,FALSE)=\"\",1,\"\")","v":1},1,1,1,1,1,1,1,1,1,1,1,1,1,1,1,1,1,1,1,1,1,1,1,1,1,1,1,1,1,1,31]
[null,null,null,null,null,null,null,"泊まり",{"$f":"IF(HLOOKUP(I$3,利用予定,38,FALSE)=\"●\",1,\"\")","v":""},"","","","","","","","","","","","","","","","","","","","","","","","","","","","","","",0,null,null,"性別","要介護度",null,"性別","要介護度"]
[null,null,null,null,null,null,null,"訪　問",{"$f":"IF(HLOOKUP(I$3,利用予定,37,FALSE)=\"訪\",1,\"\")","v":""},"","","","","","","","","","","","","","","","","","","","","","","","","","","","","","",0,null,null,"男","要支援１",null,"女","要支援１"]
[19,{"$f":"Top!C58","v":0},{"$f":"VLOOKUP(B59,集計,3,FALSE)","v":{"$error":"#N/A"}},{"$f":"VLOOKUP(B59,集計,2,FALSE)","v":{"$error":"#N/A"}},{"$f":"VLOOKUP(B59,集計,4,FALSE)","v":{"$error":"#N/A"}},{"$f":"VLOOKUP(B59,集計,5,FALSE)","v":{"$error":"#N/A"}},{"$f":"DATEDIF(D59,TODAY(),\"y\")","v":{"$error":"#N/A"}},"通　い",{"$f":"IF(HLOOKUP(I$3,利用予定,39,FALSE)=\"\",1,\"\")","v":1},1,1,1,1,1,1,1,1,1,1,1,1,1,1,1,1,1,1,1,1,1,1,1,1,1,1,1,1,1,1,31,null,null,"性別","要介護度",null,"性別","要介護度"]
[null,null,null,null,null,null,null,"泊まり",{"$f":"IF(HLOOKUP(I$3,利用予定,40,FALSE)=\"●\",1,\"\")","v":""},"","","","","","","","","","","","","","","","","","","","","","","","","","","","","","",0,null,null,"男","要支援２",null,"女","要支援２"]
[null,null,null,null,null,null,null,"訪　問",{"$f":"IF(HLOOKUP(I$3,利用予定,39,FALSE)=\"訪\",1,\"\")","v":""},"","","","","","","","","","","","","","","","","","","","","","","","","","","","","","",0,null,null,"性別","要介護度",null,"性別","要介護度"]
[20,{"$f":"Top!C59","v":0},{"$f":"VLOOKUP(B62,集計,3,FALSE)","v":{"$error":"#N/A"}},{"$f":"VLOOKUP(B62,集計,2,FALSE)","v":{"$error":"#N/A"}},{"$f":"VLOOKUP(B62,集計,4,FALSE)","v":{"$error":"#N/A"}},{"$f":"VLOOKUP(B62,集計,5,FALSE)","v":{"$error":"#N/A"}},{"$f":"DATEDIF(D62,TODAY(),\"y\")","v":{"$error":"#N/A"}},"通　い",{"$f":"IF(HLOOKUP(I$3,利用予定,41,FALSE)=\"\",1,\"\")","v":1},1,1,1,1,1,1,1,1,1,1,1,1,1,1,1,1,1,1,1,1,1,1,1,1,1,1,1,1,1,1,31,null,null,"男","要介護１",null,"女","要介護１"]
[null,null,null,null,null,null,null,"泊まり",{"$f":"IF(HLOOKUP(I$3,利用予定,42,FALSE)=\"●\",1,\"\")","v":""},"","","","","","","","","","","","","","","","","","","","","","","","","","","","","","",0,null,null,"性別","要介護度",null,"性別","要介護度"]
[null,null,null,null,null,null,null,"訪　問",{"$f":"IF(HLOOKUP(I$3,利用予定,41,FALSE)=\"訪\",1,\"\")","v":""},"","","","","","","","","","","","","","","","","","","","","","","","","","","","","","",0,null,null,"男","要介護２",null,"女","要介護２"]
[21,{"$f":"Top!C60","v":0},{"$f":"VLOOKUP(B65,集計,3,FALSE)","v":{"$error":"#N/A"}},{"$f":"VLOOKUP(B65,集計,2,FALSE)","v":{"$error":"#N/A"}},{"$f":"VLOOKUP(B65,集計,4,FALSE)","v":{"$error":"#N/A"}},{"$f":"VLOOKUP(B65,集計,5,FALSE)","v":{"$error":"#N/A"}},{"$f":"DATEDIF(D65,TODAY(),\"y\")","v":{"$error":"#N/A"}},"通　い",{"$f":"IF(HLOOKUP(I$3,利用予定,43,FALSE)=\"\",1,\"\")","v":1},1,1,1,1,1,1,1,1,1,1,1,1,1,1,1,1,1,1,1,1,1,1,1,1,1,1,1,1,1,1,31,null,null,"性別","要介護度",null,"性別","要介護度"]
[null,null,null,null,null,null,null,"泊まり",{"$f":"IF(HLOOKUP(I$3,利用予定,44,FALSE)=\"●\",1,\"\")","v":""},"","","","","","","","","","","","","","","","","","","","","","","","","","","","","","",0,null,null,"男","要介護３",null,"女","要介護３",null,null,null,{"$f":"DATE(年,月+1,1)-I3","v":"1900-01-30"}]
[null,null,null,null,null,null,null,"訪　問",{"$f":"IF(HLOOKUP(I$3,利用予定,43,FALSE)=\"訪\",1,\"\")","v":""},"","","","","","","","","","","","","","","","","","","","","","","","","","","","","","",0,null,null,"性別","要介護度",null,"性別","要介護度"]
[22,{"$f":"Top!C61","v":0},{"$f":"VLOOKUP(B68,集計,3,FALSE)","v":{"$error":"#N/A"}},{"$f":"VLOOKUP(B68,集計,2,FALSE)","v":{"$error":"#N/A"}},{"$f":"VLOOKUP(B68,集計,4,FALSE)","v":{"$error":"#N/A"}},{"$f":"VLOOKUP(B68,集計,5,FALSE)","v":{"$error":"#N/A"}},{"$f":"DATEDIF(D68,TODAY(),\"y\")","v":{"$error":"#N/A"}},"通　い",{"$f":"IF(HLOOKUP(I$3,利用予定,45,FALSE)=\"\",1,\"\")","v":1},1,1,1,1,1,1,1,1,1,1,1,1,1,1,1,1,1,1,1,1,1,1,1,1,1,1,1,1,1,1,31,null,null,"男","要介護４",null,"女","要介護４"]
[null,null,null,null,null,null,null,"泊まり",{"$f":"IF(HLOOKUP(I$3,利用予定,46,FALSE)=\"●\",1,\"\")","v":""},"","","","","","","","","","","","","","","","","","","","","","","","","","","","","","",0,null,null,"性別","要介護度",null,"性別","要介護度"]
[null,null,null,null,null,null,null,"訪　問",{"$f":"IF(HLOOKUP(I$3,利用予定,44,FALSE)=\"訪\",1,\"\")","v":""},"","","","","","","","","","","","","","","","","","","","","","","","","","","","","","",{"$f":"SUM(I70:AM70)","v":0},null,null,"男","要介護５",null,"女","要介護５"]
[23,{"$f":"Top!C62","v":0},{"$f":"VLOOKUP(B71,集計,3,FALSE)","v":{"$error":"#N/A"}},{"$f":"VLOOKUP(B71,集計,2,FALSE)","v":{"$error":"#N/A"}},{"$f":"VLOOKUP(B71,集計,4,FALSE)","v":{"$error":"#N/A"}},{"$f":"VLOOKUP(B71,集計,5,FALSE)","v":{"$error":"#N/A"}},{"$f":"DATEDIF(D71,TODAY(),\"y\")","v":{"$error":"#N/A"}},"通　い",{"$f":"IF(HLOOKUP(I$3,利用予定,47,FALSE)=\"\",1,\"\")","v":1},1,1,1,1,1,1,1,1,1,1,1,1,1,1,1,1,1,1,1,1,1,1,1,1,1,1,1,1,1,1,31]
[null,null,null,null,null,null,null,"泊まり",{"$f":"IF(HLOOKUP(I$3,利用予定,48,FALSE)=\"●\",1,\"\")","v":""},"","","","","","","","","","","","","","","","","","","","","","","","","","","","","","",0]
[null,null,null,null,null,null,null,"訪　問",{"$f":"IF(HLOOKUP(I$3,利用予定,47,FALSE)=\"訪\",1,\"\")","v":""},"","","","","","","","","","","","","","","","","","","","","","","","","","","","","","",0]
[24,{"$f":"Top!C63","v":0},{"$f":"VLOOKUP(B74,集計,3,FALSE)","v":{"$error":"#N/A"}},{"$f":"VLOOKUP(B74,集計,2,FALSE)","v":{"$error":"#N/A"}},{"$f":"VLOOKUP(B74,集計,4,FALSE)","v":{"$error":"#N/A"}},{"$f":"VLOOKUP(B74,集計,5,FALSE)","v":{"$error":"#N/A"}},{"$f":"DATEDIF(D74,TODAY(),\"y\")","v":{"$error":"#N/A"}},"通　い",{"$f":"IF(HLOOKUP(I$3,利用予定,49,FALSE)=\"\",1,\"\")","v":1},1,1,1,1,1,1,1,1,1,1,1,1,1,1,1,1,1,1,1,1,1,1,1,1,1,1,1,1,1,1,31]
[null,null,null,null,null,null,null,"泊まり",{"$f":"IF(HLOOKUP(I$3,利用予定,50,FALSE)=\"●\",1,\"\")","v":""},"","","","","","","","","","","","","","","","","","","","","","","","","","","","","","",0]
[null,null,null,null,null,null,null,"訪　問",{"$f":"IF(HLOOKUP(I$3,利用予定,49,FALSE)=\"訪\",1,\"\")","v":""},"","","","","","","","","","","","","","","","","","","","","","","","","","","","","","",0]
[25,{"$f":"Top!C64","v":0},{"$f":"VLOOKUP(B77,集計,3,FALSE)","v":{"$error":"#N/A"}},{"$f":"VLOOKUP(B77,集計,2,FALSE)","v":{"$error":"#N/A"}},{"$f":"VLOOKUP(B77,集計,4,FALSE)","v":{"$error":"#N/A"}},{"$f":"VLOOKUP(B77,集計,5,FALSE)","v":{"$error":"#N/A"}},{"$f":"DATEDIF(D77,TODAY(),\"y\")","v":{"$error":"#N/A"}},"通　い",{"$f":"IF(HLOOKUP(I$3,利用予定,51,FALSE)=\"\",1,\"\")","v":1},1,1,1,1,1,1,1,1,1,1,1,1,1,1,1,1,1,1,1,1,1,1,1,1,1,1,1,1,1,1,31]
[null,null,null,null,null,null,null,"泊まり",{"$f":"IF(HLOOKUP(I$3,利用予定,52,FALSE)=\"●\",1,\"\")","v":""},"","","","","","","","","","","","","","","","","","","","","","","","","","","","","","",0]
[null,null,null,null,null,null,null,"訪　問",{"$f":"IF(HLOOKUP(I$3,利用予定,51,FALSE)=\"訪\",1,\"\")","v":""},"","","","","","","","","","","","","","","","","","","","","","","","","","","","","","",0]
["合　　　　　　　計",null,null,null,null,null,null,"通　い",{"$f":"SUM(I5,I8,I11,I14,I17,I20,I23,I26,I29,I32,I35,I38,I41,I44,I47,I50,I53,I56,I59,I62,I65,I68,I71,I74,I77)","v":21},{"$f":"SUM(J5,J8,J11,J14,J17,J20,J23,J26,J29,J32,J35,J38,J41,J44,J47,J50,J53,J56,J59,J62,J65,J68,J71,J74,J77)","v":20},18,18,21,21,21,20,21,20,19,21,21,18,18,20,20,20,21,20,20,21,21,20,19,21,21,21,21,21,20,{"$f":"SUM(I80:AM80)","v":625},{"$f":"AN80/$K$1","v":20.833333333333332}]
[null,null,null,null,null,null,null,"泊まり",{"$f":"SUM(I6,I9,I12,I15,I18,I21,I24,I27,I30,I33,I36,I39,I42,I45,I48,I51,I54,I57,I60,I63,I66,I69,I72,I75,I78)","v":4},3,3,3,5,5,4,4,4,4,5,5,5,3,3,3,4,5,5,5,4,4,4,4,4,5,5,4,4,4,4,{"$f":"SUM(I81:AM81)","v":128},{"$f":"AN81/$K$1","v":4.2666666666666666}]
[null,null,null,null,null,null,null,"訪　問",{"$f":"SUM(I7,I10,I13,I16,I19,I22,I25,I28,I31,I34,I37,I40,I43,I46,I49,I52,I55,I58,I61,I64,I67,I70,I73,I76,I79)","v":3},4,3,4,3,3,3,3,3,4,3,3,3,3,3,3,4,3,3,3,3,3,3,4,3,3,3,3,3,3,4,{"$f":"SUM(I82:AM82)","v":99},{"$f":"AN82/$K$1","v":3.3}]
[null,null,null,null,"要介護度","性別",null,null,null,"町名","コード","町名","フリガナ","郵便番号",null,null,null,null,"町名","コード","町名","フリガナ","郵便番号",null,null,null,null,null,null,null,null,null,null,null,null,null,null,null,null,null,{"$f":"AN83/(DATE(年,月+1,1)-$I$3)","v":0}]
[null,null,null,null,"要支援１","男",null,null,null,"山の手１丁目","0001","山の手１丁目","ヤマノテ","324-0051",null,null,null,null,"宇田川","0206","宇田川","ウダガワ","324-0022",null,null,null,null,null,null,null,null,null,null,null,null,null,null,null,null,null,0]
[null,null,null,null,"要支援２","女",null,null,null,"山の手２丁目","0002","山の手２丁目","ヤマノテ","324-0051",null,null,null,null,"羽田","0110","羽田","ハンダ","324-0002",null,null,null,null,null,null,null,null,null,null,null,null,null,null,null,null,null,0]
[null,null,null,null,"要介護１",null,null,null,null,"城山１丁目","0003","城山１丁目","シロヤマ","324-0052",null,null,null,null,"雲岩寺","2304","雲岩寺","ウンガンジ","324-0213",null,null,null,null,null,null,null,null,null,null,null,null,null,null,null,null,null,0]
[null,null,null,null,"要介護２",null,null,null,null,"城山２丁目","0004","城山２丁目","シロヤマ","324-0052",null,null,null,null,"奥沢","0116","奥沢","オクサワ","324-0017",null,null,null,null,null,null,null,null,null,null,null,null,null,null,null,null,null,0]
[null,null,null,null,"要介護３",null,null,null,null,"元町１丁目","0005","元町１丁目","モトマチ","324-0053",null,null,null,null,"岡","0104","岡","オカ","324-0065",null,null,null,null,null,null,null,null,null,null,null,null,null,null,null,null,null,0]
[null,null,null,null,"要介護４",null,null,null,null,"元町２丁目","0006","元町２丁目","モトマチ","324-0053",null,null,null,null,"荻野目","0207","荻野目","オギノメ","324-0027",null,null,null,null,null,null,null,null,null,null,null,null,null,null,null,null,null,0]
[null,null,null,null,"要介護５",null,null,null,null,"新富町１丁目","0007","新富町１丁目","シントミチョウ","324-0055",null,null,null,null,"乙連沢","0111","乙連沢","オトレザワ","324-0001",null,null,null,null,null,null,null,null,null,null,null,null,null,null,null,null,null,0]
[null,null,null,null,null,null,null,null,null,"新富町２丁目","0008","新富町２丁目","シントミチョウ","324-0055",null,null,null,null,"下石上","0302","下石上","シモイシガミ","324-0036",null,null,null,null,null,null,null,null,null,null,null,null,null,null,null,null,null,0]
[null,null,null,null,null,null,null,null,null,"新富町３丁目","0009","新富町３丁目","シントミチョウ","324-0055",null,null,null,null,"加治屋","0036","加治屋","カジヤ","324-0046",null,null,null,null,null,null,null,null,null,null,null,null,null,null,null,null,null,0]
[null,null,null,null,null,null,null,null,null,"中央１丁目","0010","中央１丁目","チュウオウ","324-0056",null,null,null,null,"河原","2202","河原","カワラ","324-0207",null,null,null,null,null,null,null,null,null,null,null,null,null,null,null,null,null,0]
[null,null,null,null,null,null,null,null,null,"中央２丁目","0011","中央２丁目","チュウオウ","324-0056",null,null,null,null,"花園","0205","花園","ハナゾノ","324-0023",null,null,null,null,null,null,null,null,null,null,null,null,null,null,null,null,null,0]
[null,null,null,null,null,null,null,null,null,"住吉町１丁目","0012","住吉町１丁目","スミヨシチョウ","324-0057",null,null,null,null,"寒井","2106","寒井","サブイ","324-0246",null,null,null,null,null,null,null,null,null,null,null,null,null,null,null,null,null,0]
[null,null,null,null,null,null,null,null,null,"住吉町２丁目","0013","住吉町２丁目","スミヨシチョウ","324-0057",null,null,null,null,"亀久","2008","亀久","カメヒサ","324-0221",null,null,null,null,null,null,null,null,null,null,null,null,null,null,null,null,null,0]
[null,null,null,null,null,null,null,null,null,"紫塚１丁目","0014","紫塚１丁目","ムラサキヅカ","324-0058",null,null,null,null,"久野又","2207","久野又","クノマタ","324-0205",null,null,null,null,null,null,null,null,null,null,null,null,null,null,null,null,null,0]
[null,null,null,null,null,null,null,null,null,"紫塚２丁目","0015","紫塚２丁目","ムラサキヅカ","324-0058",null,null,null,null,"狭原","1001","狭原","セバハラ","324-0401",null,null,null,null,null,null,null,null,null,null,null,null,null,null,null,null,null,0]
[null,null,null,null,null,null,null,null,null,"紫塚３丁目","0016","紫塚３丁目","ムラサキヅカ","324-0058",null,null,null,null,"元町１丁目","0005","元町１丁目","モトマチ","324-0053",null,null,null,null,null,null,null,null,null,null,null,null,null,null,null,null,null,0]
[null,null,null,null,null,null,null,null,null,"紫塚４丁目","0017","紫塚４丁目","ムラサキヅカ","324-0058",null,null,null,null,"元町２丁目","0006","元町２丁目","モトマチ","324-0053",null,null,null,null,null,null,null,null,null,null,null,null,null,null,null,null,null,0]
[null,null,null,null,null,null,null,null,null,"本町１丁目","0018","本町１丁目","ホンチョウ","324-0041",null,null,null,null,"戸野内","0106","戸野内","トノウチ","324-0066",null,null,null,null,null,null,null,null,null,null,null,null,null,null,null,null,null,0]
[null,null,null,null,null,null,null,null,null,"本町２丁目","0019","本町２丁目","ホンチョウ","324-0041",null,null,null,null,"荒井","0103","荒井","アライ","324-0061",null,null,null,null,null,null,null,null,null,null,null,null,null,null,null,null,null,0]
[null,null,null,null,null,null,null,null,null,"末広１丁目","0020","末広１丁目","スエヒロ","324-0042",null,null,null,null,"黒羽向町","2101","黒羽向町","クロバネムコウマチ","324-0241",null,null,null,null,null,null,null,null,null,null,null,null,null,null,null,null,null,0]
[null,null,null,null,null,null,null,null,null,"末広２丁目","0021","末広２丁目","スエヒロ","324-0042",null,null,null,null,"黒羽田町","2001","黒羽田町","クロバネタマチ","324-0233",null,null,null,null,null,null,null,null,null,null,null,null,null,null,null,null,null,0]
[null,null,null,null,null,null,null,null,null,"末広３丁目","0022","末広３丁目","スエヒロ","324-0042",null,null,null,null,"今泉","0105","今泉","イマイズミ","324-0064",null,null,null,null,null,null,null,null,null,null,null,null,null,null,null,null,null,0]
[null,null,null,null,null,null,null,null,null,"美原１丁目","0023","美原１丁目","ミハラ","324-0047",null,null,null,null,"佐久山","0401","佐久山","サクヤマ","324-0032",null,null,null,null,null,null,null,null,null,null,null,null,null,null,null,null,null,0]
[null,null,null,null,null,null,null,null,null,"美原２丁目","0024","美原２丁目","ミハラ","324-0047",null,null,null,null,"佐良土","1004","佐良土","サラド","324-0404",null,null,null,null,null,null,null,null,null,null,null,null,null,null,null,null,null,0]
[null,null,null,null,null,null,null,null,null,"美原３丁目","0025","美原３丁目","ミハラ","324-0047",null,null,null,null,"山の手１丁目","0001","山の手１丁目","ヤマノテ","324-0051",null,null,null,null,null,null,null,null,null,null,null,null,null,null,null,null,null,0]
[null,null,null,null,null,null,null,null,null,"浅香１丁目","0026","浅香１丁目","アサカ","324-0043",null,null,null,null,"山の手２丁目","0002","山の手２丁目","ヤマノテ","324-0051",null,null,null,null,null,null,null,null,null,null,null,null,null,null,null,null,null,0]
[null,null,null,null,null,null,null,null,null,"浅香２丁目","0027","浅香２丁目","アサカ","324-0043",null,null,null,null,"市野沢","0108","市野沢","イチノサワ","324-0006",null,null,null,null,null,null,null,null,null,null,null,null,null,null,null,null,null,0]
[null,null,null,null,null,null,null,null,null,"浅香３丁目","0028","浅香３丁目","アサカ","324-0043",null,null,null,null,"紫塚１丁目","0014","紫塚１丁目","ムラサキヅカ","324-0058",null,null,null,null,null,null,null,null,null,null,null,null,null,null,null,null,null,0]
[null,null,null,null,null,null,null,null,null,"浅香４丁目","0029","浅香４丁目","アサカ","324-0043",null,null,null,null,"紫塚２丁目","0015","紫塚２丁目","ムラサキヅカ","324-0058",null,null,null,null,null,null,null,null,null,null,null,null,null,null,null,null,null,0]
[null,null,null,null,null,null,null,null,null,"浅香５丁目","0030","浅香５丁目","アサカ","324-0043",null,null,null,null,"紫塚３丁目","0016","紫塚３丁目","ムラサキヅカ","324-0058",null,null,null,null,null,null,null,null,null,null,null,null,null,null,null,null,null,0]
[null,null,null,null,null,null,null,null,null,"若松町","0031","若松町","ワカマツチョウ","324-0054",null,null,null,null,"紫塚４丁目","0017","紫塚４丁目","ムラサキヅカ","324-0058",null,null,null,null,null,null,null,null,null,null,null,null,null,null,null,null,null,0]
[null,null,null,null,null,null,null,null,null,"富士見１丁目","0032","富士見１丁目","フジミ","324-0028",null,null,null,null,"寺宿","2204","寺宿","テラジュク","324-0203",null,null,null,null,null,null,null,null,null,null,null,null,null,null,null,null,null,0]
[null,null,null,null,null,null,null,null,null,"富士見２丁目","0033","富士見２丁目","フジミ","324-0028",null,null,null,null,"鹿畑","0117","鹿畑","カバタ","324-0013",null,null,null,null,null,null,null,null,null,null,null,null,null,null,null,null,null,0]
[null,null,null,null,null,null,null,null,null,"若草１丁目","0034","若草１丁目","ワカクサ","324-0021",null,null,null,null,"実取","0202","実取","ミドリ","324-0045",null,null,null,null,null,null,null,null,null,null,null,null,null,null,null,null,null,0]
[null,null,null,null,null,null,null,null,null,"若草２丁目","0035","若草２丁目","ワカクサ","324-0021",null,null,null,null,"若松町","0031","若松町","ワカマツチョウ","324-0054",null,null,null,null,null,null,null,null,null,null,null,null,null,null,null,null,null,0]
[null,null,null,null,null,null,null,null,null,"加治屋","0036","加治屋","カジヤ","324-0046",null,null,null,null,"若草１丁目","0034","若草１丁目","ワカクサ","324-0021",null,null,null,null,null,null,null,null,null,null,null,null,null,null,null,null,null,0]
[null,null,null,null,null,null,null,null,null,"中田原","0101","中田原","ナカダワラ","324-0062",null,null,null,null,"若草２丁目","0035","若草２丁目","ワカクサ","324-0021",null,null,null,null,null,null,null,null,null,null,null,null,null,null,null,null,null,0]
[null,null,null,null,null,null,null,null,null,"町島","0102","町島","マチジマ","324-0063",null,null,null,null,"住吉町１丁目","0012","住吉町１丁目","スミヨシチョウ","324-0057",null,null,null,null,null,null,null,null,null,null,null,null,null,null,null,null,null,0]
[null,null,null,null,null,null,null,null,null,"荒井","0103","荒井","アライ","324-0061",null,null,null,null,"住吉町２丁目","0013","住吉町２丁目","スミヨシチョウ","324-0057",null,null,null,null,null,null,null,null,null,null,null,null,null,null,null,null,null,0]
[null,null,null,null,null,null,null,null,null,"岡","0104","岡","オカ","324-0065",null,null,null,null,"小船渡","1002","小船渡","コブナト","324-0402",null,null,null,null,null,null,null,null,null,null,null,null,null,null,null,null,null,0]
[null,null,null,null,null,null,null,null,null,"今泉","0105","今泉","イマイズミ","324-0064",null,null,null,null,"小滝","0112","小滝","コダキ","324-0003",null,null,null,null,null,null,null,null,null,null,null,null,null,null,null,null,null,0]
[null,null,null,null,null,null,null,null,null,"戸野内","0106","戸野内","トノウチ","324-0066",null,null,null,null,"上奥沢","0115","上奥沢","カミオクサワ","324-0018",null,null,null,null,null,null,null,null,null,null,null,null,null,null,null,null,null,0]
[null,null,null,null,null,null,null,null,null,"富池","0107","富池","トミイケ","324-0004",null,null,null,null,"上石上","0301","上石上","カミイシガミ","324-0037",null,null,null,null,null,null,null,null,null,null,null,null,null,null,null,null,null,0]
[null,null,null,null,null,null,null,null,null,"市野沢","0108","市野沢","イチノサワ","324-0006",null,null,null,null,"城山１丁目","0003","城山１丁目","シロヤマ","324-0052",null,null,null,null,null,null,null,null,null,null,null,null,null,null,null,null,null,0]
[null,null,null,null,null,null,null,null,null,"練貫","0109","練貫","ネリヌキ","324-0005",null,null,null,null,"城山２丁目","0004","城山２丁目","シロヤマ","324-0052",null,null,null,null,null,null,null,null,null,null,null,null,null,null,null,null,null,0]
[null,null,null,null,null,null,null,null,null,"羽田","0110","羽田","ハンダ","324-0002",null,null,null,null,"新宿","1007","新宿","アラジュク","324-0413",null,null,null,null,null,null,null,null,null,null,null,null,null,null,null,null,null,0]
[null,null,null,null,null,null,null,null,null,"乙連沢","0111","乙連沢","オトレザワ","324-0001",null,null,null,null,"新富町１丁目","0007","新富町１丁目","シントミチョウ","324-0055",null,null,null,null,null,null,null,null,null,null,null,null,null,null,null,null,null,0]
[null,null,null,null,null,null,null,null,null,"小滝","0112","小滝","コダキ","324-0003",null,null,null,null,"新富町２丁目","0008","新富町２丁目","シントミチョウ","324-0055",null,null,null,null,null,null,null,null,null,null,null,null,null,null,null,null,null,0]
[null,null,null,null,null,null,null,null,null,"北金丸","0113","北金丸","キタカネマル","324-0011",null,null,null,null,"新富町３丁目","0009","新富町３丁目","シントミチョウ","324-0055",null,null,null,null,null,null,null,null,null,null,null,null,null,null,null,null,null,0]
[null,null,null,null,null,null,null,null,null,"南金丸","0114","南金丸","ミナミカネマル","324-0012",null,null,null,null,"親園","0201","親園","チカソノ","324-0044",null,null,null,null,null,null,null,null,null,null,null,null,null,null,null,null,null,0]
[null,null,null,null,null,null,null,null,null,"上奥沢","0115","上奥沢","カミオクサワ","324-0018",null,null,null,null,"須賀川","2302","須賀川","スカガワ","324-0211",null,null,null,null,null,null,null,null,null,null,null,null,null,null,null,null,null,0]
[null,null,null,null,null,null,null,null,null,"奥沢","0116","奥沢","オクサワ","324-0017",null,null,null,null,"須佐木","2301","須佐木","スサギ","324-0212",null,null,null,null,null,null,null,null,null,null,null,null,null,null,null,null,null,0]
[null,null,null,null,null,null,null,null,null,"鹿畑","0117","鹿畑","カバタ","324-0013",null,null,null,null,"赤瀬","0119","赤瀬","アカゼ","324-0015",null,null,null,null,null,null,null,null,null,null,null,null,null,null,null,null,null,0]
[null,null,null,null,null,null,null,null,null,"倉骨","0118","倉骨","クラホネ","324-0014",null,null,null,null,"川上","2303","川上","カワカミ","324-0214",null,null,null,null,null,null,null,null,null,null,null,null,null,null,null,null,null,0]
[null,null,null,null,null,null,null,null,null,"赤瀬","0119","赤瀬","アカゼ","324-0015",null,null,null,null,"川田","2209","川田","カワダ","324-0208",null,null,null,null,null,null,null,null,null,null,null,null,null,null,null,null,null,0]
[null,null,null,null,null,null,null,null,null,"北大和久","0120","北大和久","キタオオワグ","324-0016",null,null,null,null,"浅香１丁目","0026","浅香１丁目","アサカ","324-0043",null,null,null,null,null,null,null,null,null,null,null,null,null,null,null,null,null,0]
[null,null,null,null,null,null,null,null,null,"親園","0201","親園","チカソノ","324-0044",null,null,null,null,"浅香２丁目","0027","浅香２丁目","アサカ","324-0043",null,null,null,null,null,null,null,null,null,null,null,null,null,null,null,null,null,0]
[null,null,null,null,null,null,null,null,null,"実取","0202","実取","ミドリ","324-0045",null,null,null,null,"浅香３丁目","0028","浅香３丁目","アサカ","324-0043",null,null,null,null,null,null,null,null,null,null,null,null,null,null,null,null,null,0]
[null,null,null,null,null,null,null,null,null,"滝沢","0203","滝沢","タキザワ","324-0033",null,null,null,null,"浅香４丁目","0029","浅香４丁目","アサカ","324-0043",null,null,null,null,null,null,null,null,null,null,null,null,null,null,null,null,null,0]
[null,null,null,null,null,null,null,null,null,"滝岡","0204","滝岡","タキオカ","324-0026",null,null,null,null,"浅香５丁目","0030","浅香５丁目","アサカ","324-0043",null,null,null,null,null,null,null,null,null,null,null,null,null,null,null,null,null,0]
[null,null,null,null,null,null,null,null,null,"花園","0205","花園","ハナゾノ","324-0023",null,null,null,null,"前田","2002","前田","マエタ","324-0234",null,null,null,null,null,null,null,null,null,null,null,null,null,null,null,null,null,0]
[null,null,null,null,null,null,null,null,null,"宇田川","0206","宇田川","ウダガワ","324-0022",null,null,null,null,"倉骨","0118","倉骨","クラホネ","324-0014",null,null,null,null,null,null,null,null,null,null,null,null,null,null,null,null,null,0]
[null,null,null,null,null,null,null,null,null,"荻野目","0207","荻野目","オギノメ","324-0027",null,null,null,null,"大久保","2206","大久保","オオクボ","324-0204",null,null,null,null,null,null,null,null,null,null,null,null,null,null,null,null,null,0]
[null,null,null,null,null,null,null,null,null,"上石上","0301","上石上","カミイシガミ","324-0037",null,null,null,null,"大神","0403","大神","オオガミ","324-0025",null,null,null,null,null,null,null,null,null,null,null,null,null,null,null,null,null,{"$f":"AN147/(DATE(年,月+1,1)-$I$3)","v":0}]
[null,null,null,null,null,null,null,null,null,"下石上","0302","下石上","シモイシガミ","324-0036",null,null,null,null,"大豆田","2102","大豆田","オオマメダ","324-0242",null,null,null,null,null,null,null,null,null,null,null,null,null,null,null,null,null,0]
[null,null,null,null,null,null,null,null,null,"薄葉","0303","薄葉","ウスバ","324-0035",null,null,null,null,"大輪","2208","大輪","オオワ","324-0236",null,null,null,null,null,null,null,null,null,null,null,null,null,null,null,null,null,0]
[null,null,null,null,null,null,null,null,null,"平沢","0304","平沢","ヒラサワ","324-0034",null,null,null,null,"滝岡","0204","滝岡","タキオカ","324-0026",null,null,null,null,null,null,null,null,null,null,null,null,null,null,null,null,null,0]
[null,null,null,null,null,null,null,null,null,"佐久山","0401","佐久山","サクヤマ","324-0032",null,null,null,null,"滝沢","0203","滝沢","タキザワ","324-0033",null,null,null,null,null,null,null,null,null,null,null,null,null,null,null,null,null,0]
[null,null,null,null,null,null,null,null,null,"藤沢","0402","藤沢","フジサワ","324-0031",null,null,null,null,"中央１丁目","0010","中央１丁目","チュウオウ","324-0056",null,null,null,null,null,null,null,null,null,null,null,null,null,null,null,null,null,0]
[null,null,null,null,null,null,null,null,null,"大神","0403","大神","オオガミ","324-0025",null,null,null,null,"中央２丁目","0011","中央２丁目","チュウオウ","324-0056",null,null,null,null,null,null,null,null,null,null,null,null,null,null,null,null,null,0]
[null,null,null,null,null,null,null,null,null,"福原","0404","福原","フクワラ","324-0024",null,null,null,null,"中田原","0101","中田原","ナカダワラ","324-0062",null,null,null,null,null,null,null,null,null,null,null,null,null,null,null,null,null,0]
[null,null,null,null,null,null,null,null,null,"狭原","1001","狭原","セバハラ","324-0401",null,null,null,null,"中野内","2201","中野内","ナカノウチ","324-0206",null,null,null,null,null,null,null,null,null,null,null,null,null,null,null,null,null,0]
[null,null,null,null,null,null,null,null,null,"小船渡","1002","小船渡","コブナト","324-0402",null,null,null,null,"町島","0102","町島","マチジマ","324-0063",null,null,null,null,null,null,null,null,null,null,null,null,null,null,null,null,null,0]
[null,null,null,null,null,null,null,null,null,"湯津上","1003","湯津上","ユヅカミ","324-0403",null,null,null,null,"湯津上","1003","湯津上","ユヅカミ","324-0403",null,null,null,null,null,null,null,null,null,null,null,null,null,null,null,null,null,0]
[null,null,null,null,null,null,null,null,null,"佐良土","1004","佐良土","サラド","324-0404",null,null,null,null,"藤沢","0402","藤沢","フジサワ","324-0031",null,null,null,null,null,null,null,null,null,null,null,null,null,null,null,null,null,0]
[null,null,null,null,null,null,null,null,null,"蛭畑","1005","蛭畑","ヒルハタ","324-0411",null,null,null,null,"南金丸","0114","南金丸","ミナミカネマル","324-0012",null,null,null,null,null,null,null,null,null,null,null,null,null,null,null,null,null,0]
[null,null,null,null,null,null,null,null,null,"蛭田","1006","蛭田","ヒルタ","324-0412",null,null,null,null,"南方","2305","南方","ナンボウ","324-0215",null,null,null,null,null,null,null,null,null,null,null,null,null,null,null,null,null,0]
[null,null,null,null,null,null,null,null,null,"新宿","1007","新宿","アラジュク","324-0413",null,null,null,null,"薄葉","0303","薄葉","ウスバ","324-0035",null,null,null,null,null,null,null,null,null,null,null,null,null,null,null,null,null,0]
[null,null,null,null,null,null,null,null,null,"片府田","1008","片府田","カタフタ","324-0414",null,null,null,null,"八塩","2005","八塩","ヤシオ","324-0232",null,null,null,null,null,null,null,null,null,null,null,null,null,null,null,null,null,0]
[null,null,null,null,null,null,null,null,null,"黒羽田町","2001","黒羽田町","クロバネタマチ","324-0233",null,null,null,null,"美原１丁目","0023","美原１丁目","ミハラ","324-0047",null,null,null,null,null,null,null,null,null,null,null,null,null,null,null,null,null,0]
[null,null,null,null,null,null,null,null,null,"前田","2002","前田","マエタ","324-0234",null,null,null,null,"美原２丁目","0024","美原２丁目","ミハラ","324-0047",null,null,null,null,null,null,null,null,null,null,null,null,null,null,null,null,null,0]
[null,null,null,null,null,null,null,null,null,"堀之内","2003","堀之内","ホリノウチ","324-0235",null,null,null,null,"美原３丁目","0025","美原３丁目","ミハラ","324-0047",null,null,null,null,null,null,null,null,null,null,null,null,null,null,null,null,null,0]
[null,null,null,null,null,null,null,null,null,"北野上","2004","北野上","キタノガミ","324-0231",null,null,null,null,"桧木沢","2105","桧木沢","ヒノキザワ","324-0245",null,null,null,null,null,null,null,null,null,null,null,null,null,null,null,null,null,0]
[null,null,null,null,null,null,null,null,null,"八塩","2005","八塩","ヤシオ","324-0232",null,null,null,null,"蛭田","1006","蛭田","ヒルタ","324-0412",null,null,null,null,null,null,null,null,null,null,null,null,null,null,null,null,null,0]
[null,null,null,null,null,null,null,null,null,"北滝","2006","北滝","キタタキ","324-0224",null,null,null,null,"蛭畑","1005","蛭畑","ヒルハタ","324-0411",null,null,null,null,null,null,null,null,null,null,null,null,null,null,null,null,null,0]
[null,null,null,null,null,null,null,null,null,"片田","2007","片田","カタタ","324-0223",null,null,null,null,"富士見１丁目","0032","富士見１丁目","フジミ","324-0028",null,null,null,null,null,null,null,null,null,null,null,null,null,null,null,null,null,0]
[null,null,null,null,null,null,null,null,null,"亀久","2008","亀久","カメヒサ","324-0221",null,null,null,null,"富士見２丁目","0033","富士見２丁目","フジミ","324-0028",null,null,null,null,null,null,null,null,null,null,null,null,null,null,null,null,null,0]
[null,null,null,null,null,null,null,null,null,"矢倉","2009","矢倉","ヤグラ","324-0222",null,null,null,null,"富池","0107","富池","トミイケ","324-0004",null,null,null,null,null,null,null,null,null,null,null,null,null,null,null,null,null,0]
[null,null,null,null,null,null,null,null,null,"黒羽向町","2101","黒羽向町","クロバネムコウマチ","324-0241",null,null,null,null,"福原","0404","福原","フクワラ","324-0024",null,null,null,null,null,null,null,null,null,null,null,null,null,null,null,null,null,0]
[null,null,null,null,null,null,null,null,null,"大豆田","2102","大豆田","オオマメダ","324-0242",null,null,null,null,"平沢","0304","平沢","ヒラサワ","324-0034",null,null,null,null,null,null,null,null,null,null,null,null,null,null,null,null,null,0]
[null,null,null,null,null,null,null,null,null,"余瀬","2103","余瀬","ヨゼ","324-0243",null,null,null,null,"片田","2007","片田","カタタ","324-0223",null,null,null,null,null,null,null,null,null,null,null,null,null,null,null,null,null,0]
[null,null,null,null,null,null,null,null,null,"蜂巣","2104","蜂巣","ハチス","324-0244",null,null,null,null,"片府田","1008","片府田","カタフタ","324-0414",null,null,null,null,null,null,null,null,null,null,null,null,null,null,null,null,null,0]
[null,null,null,null,null,null,null,null,null,"桧木沢","2105","桧木沢","ヒノキザワ","324-0245",null,null,null,null,"蜂巣","2104","蜂巣","ハチス","324-0244",null,null,null,null,null,null,null,null,null,null,null,null,null,null,null,null,null,0]
[null,null,null,null,null,null,null,null,null,"寒井","2106","寒井","サブイ","324-0246",null,null,null,null,"北金丸","0113","北金丸","キタカネマル","324-0011",null,null,null,null,null,null,null,null,null,null,null,null,null,null,null,null,null,0]
[null,null,null,null,null,null,null,null,null,"中野内","2201","中野内","ナカノウチ","324-0206",null,null,null,null,"北大和久","0120","北大和久","キタオオワグ","324-0016",null,null,null,null,null,null,null,null,null,null,null,null,null,null,null,null,null,0]
[null,null,null,null,null,null,null,null,null,"河原","2202","河原","カワラ","324-0207",null,null,null,null,"北滝","2006","北滝","キタタキ","324-0224",null,null,null,null,null,null,null,null,null,null,null,null,null,null,null,null,null,0]
[null,null,null,null,null,null,null,null,null,"両郷","2203","両郷","リョウゴウ","324-0201",null,null,null,null,"北野上","2004","北野上","キタノガミ","324-0231",null,null,null,null,null,null,null,null,null,null,null,null,null,null,null,null,null,0]
[null,null,null,null,null,null,null,null,null,"寺宿","2204","寺宿","テラジュク","324-0203",null,null,null,null,"堀之内","2003","堀之内","ホリノウチ","324-0235",null,null,null,null,null,null,null,null,null,null,null,null,null,null,null,null,null,0]
[null,null,null,null,null,null,null,null,null,"木佐美","2205","木佐美","キザミ","324-0202",null,null,null,null,"本町１丁目","0018","本町１丁目","ホンチョウ","324-0041",null,null,null,null,null,null,null,null,null,null,null,null,null,null,null,null,null,0]
[null,null,null,null,null,null,null,null,null,"大久保","2206","大久保","オオクボ","324-0204",null,null,null,null,"本町２丁目","0019","本町２丁目","ホンチョウ","324-0041",null,null,null,null,null,null,null,null,null,null,null,null,null,null,null,null,null,0]
[null,null,null,null,null,null,null,null,null,"久野又","2207","久野又","クノマタ","324-0205",null,null,null,null,"末広１丁目","0020","末広１丁目","スエヒロ","324-0042",null,null,null,null,null,null,null,null,null,null,null,null,null,null,null,null,null,0]
[null,null,null,null,null,null,null,null,null,"大輪","2208","大輪","オオワ","324-0236",null,null,null,null,"末広２丁目","0021","末広２丁目","スエヒロ","324-0042",null,null,null,null,null,null,null,null,null,null,null,null,null,null,null,null,null,0]
[null,null,null,null,null,null,null,null,null,"川田","2209","川田","カワダ","324-0208",null,null,null,null,"末広３丁目","0022","末広３丁目","スエヒロ","324-0042",null,null,null,null,null,null,null,null,null,null,null,null,null,null,null,null,null,0]
[null,null,null,null,null,null,null,null,null,"須佐木","2301","須佐木","スサギ","324-0212",null,null,null,null,"木佐美","2205","木佐美","キザミ","324-0202",null,null,null,null,null,null,null,null,null,null,null,null,null,null,null,null,null,0]
[null,null,null,null,null,null,null,null,null,"須賀川","2302","須賀川","スカガワ","324-0211",null,null,null,null,"矢倉","2009","矢倉","ヤグラ","324-0222",null,null,null,null,null,null,null,null,null,null,null,null,null,null,null,null,null,0]
[null,null,null,null,null,null,null,null,null,"川上","2303","川上","カワカミ","324-0214",null,null,null,null,"余瀬","2103","余瀬","ヨゼ","324-0243",null,null,null,null,null,null,null,null,null,null,null,null,null,null,null,null,null,0]
[null,null,null,null,null,null,null,null,null,"雲岩寺","2304","雲岩寺","ウンガンジ","324-0213",null,null,null,null,"両郷","2203","両郷","リョウゴウ","324-0201",null,null,null,null,null,null,null,null,null,null,null,null,null,null,null,null,null,0]
[null,null,null,null,null,null,null,null,null,"南方","2305","南方","ナンボウ","324-0215",null,null,null,null,"練貫","0109","練貫","ネリヌキ","324-0005",null,null,null,null,null,null,null,null,null,null,null,null,null,null,null,null,null,0]
[null,null,null,null,null,null,null,null,null,null,null,null,null,null,null,null,null,null,null,null,null,null,null,null,null,null,null,null,null,null,null,null,null,null,null,null,null,null,null,null,0]
[null,null,null,null,null,null,null,null,null,null,null,null,null,null,null,null,null,null,null,null,null,null,null,null,null,null,null,null,null,null,null,null,null,null,null,null,null,null,null,null,0]
[null,null,null,null,null,null,null,null,null,null,null,null,null,null,null,null,null,null,null,null,null,null,null,null,null,null,null,null,null,null,null,null,null,null,null,null,null,null,null,null,0]
[null,null,null,null,null,null,null,null,null,null,null,null,null,null,null,null,null,null,null,null,null,null,null,null,null,null,null,null,null,null,null,null,null,null,null,null,null,null,null,null,0]
[null,null,null,null,null,null,null,null,null,null,null,null,null,null,null,null,null,null,null,null,null,null,null,null,null,null,null,null,null,null,null,null,null,null,null,null,null,null,null,null,0]
[null,null,null,null,null,null,null,null,null,null,null,null,null,null,null,null,null,null,null,null,null,null,null,null,null,null,null,null,null,null,null,null,null,null,null,null,null,null,null,null,0]
[null,null,null,null,null,null,null,null,null,null,null,null,null,null,null,null,null,null,null,null,null,null,null,null,null,null,null,null,null,null,null,null,null,null,null,null,null,null,null,null,0]
[null,null,null,null,null,null,null,null,null,null,null,null,null,null,null,null,null,null,null,null,null,null,null,null,null,null,null,null,null,null,null,null,null,null,null,null,null,null,null,null,0]

{"sheet":"利用状況印刷シート","index":5,"n_rows":82,"n_cols":40,"rows_kept":82,"cut":false,"hidden":true,"merged":[[0,2,0,7],[0,12,0,17],[0,28,0,36],[2,0,3,0],[2,2,3,2],[2,3,3,3],[2,4,3,4],[2,5,3,5],[10,0,12,0],[10,2,12,2],[10,3,12,3],[10,4,12,4],[2,1,3,1],[4,1,6,1],[7,1,9,1],[10,1,12,1],[13,0,15,0],[13,2,15,2],[13,3,15,3],[13,4,15,4],[2,37,3,37],[4,0,6,0],[4,2,6,2],[4,3,6,3],[4,4,6,4],[7,0,9,0],[7,2,9,2],[7,3,9,3],[7,4,9,4],[13,1,15,1],[22,0,24,0],[22,2,24,2],[22,3,24,3],[22,4,24,4],[25,0,27,0],[25,2,27,2],[25,3,27,3],[25,4,27,4],[16,0,18,0],[16,2,18,2],[16,3,18,3],[16,4,18,4],[19,0,21,0],[19,2,21,2],[19,3,21,3],[19,4,21,4],[16,1,18,1],[19,1,21,1],[22,1,24,1],[25,1,27,1],[34,0,36,0],[34,2,36,2],[34,3,36,3],[34,4,36,4],[37,0,39,0],[37,2,39,2],[37,3,39,3],[37,4,39,4],[28,0,30,0],[28,2,30,2],[28,3,30,3],[28,4,30,4],[31,0,33,0],[31,2,33,2],[31,3,33,3],[31,4,33,4],[28,1,30,1],[31,1,33,1],[34,1,36,1],[37,1,39,1],[46,0,48,0],[46,2,48,2],[46,3,48,3],[46,4,48,4],[49,0,51,0],[49,2,51,2],[49,3,51,3],[49,4,51,4],[40,0,42,0],[40,2,42,2],[40,3,42,3],[40,4,42,4],[43,0,45,0],[43,2,45,2],[43,3,45,3],[43,4,45,4],[40,1,42,1],[43,1,45,1],[46,1,48,1],[49,1,51,1],[58,0,60,0],[58,2,60,2],[58,3,60,3],[58,4,60,4],[61,0,63,0],[61,2,63,2],[61,3,63,3],[61,4,63,4],[52,0,54,0],[52,2,54,2],[52,3,54,3],[52,4,54,4],[55,0,57,0],[55,2,57,2],[55,3,57,3],[55,4,57,4],[52,1,54,1],[55,1,57,1],[58,1,60,1],[61,1,63,1],[70,0,72,0],[70,2,72,2],[70,3,72,3],[70,4,72,4],[73,0,75,0],[73,2,75,2],[73,3,75,3],[73,4,75,4],[64,0,66,0],[64,2,66,2],[64,3,66,3],[64,4,66,4],[67,0,69,0],[67,2,69,2],[67,3,69,3],[67,4,69,4],[64,1,66,1],[67,1,69,1],[70,1,72,1],[73,1,75,1],[76,0,78,0],[76,2,78,2],[76,3,78,3],[76,4,78,4],[78,38,78,39],[79,0,81,4],[79,38,79,39],[80,38,80,39],[81,38,81,39],[76,1,78,1]]}
[null,null,{"$f":"DATE(年,月,1)","v":"2013-06-01"},null,null,null,null,null,null,null,null,null,{"$f":"月","v":6},null,null,null,null,null,null,null,null,null,null,null,null,null,null,"施設名称","アットホームにちにちそう"]
[]
["№","住所","要介護度","性別","年齢","サービス\n種　　別",{"$f":"集計!I3","v":"2013-06-01"},{"$f":"集計!J3","v":"2013-06-02"},{"$f":"集計!K3","v":"2013-06-03"},{"$f":"集計!L3","v":"2013-06-04"},{"$f":"集計!M3","v":"2013-06-05"},{"$f":"集計!N3","v":"2013-06-06"},{"$f":"集計!O3","v":"2013-06-07"},{"$f":"集計!P3","v":"2013-06-08"},{"$f":"集計!Q3","v":"2013-06-09"},{"$f":"集計!R3","v":"2013-06-10"},{"$f":"集計!S3","v":"2013-06-11"},{"$f":"集計!T3","v":"2013-06-12"},{"$f":"集計!U3","v":"2013-06-13"},{"$f":"集計!V3","v":"2013-06-14"},{"$f":"集計!W3","v":"2013-06-15"},{"$f":"集計!X3","v":"2013-06-16"},{"$f":"集計!Y3","v":"2013-06-17"},{"$f":"集計!Z3","v":"2013-06-18"},{"$f":"集計!AA3","v":"2013-06-19"},{"$f":"集計!AB3","v":"2013-06-20"},{"$f":"集計!AC3","v":"2013-06-21"},{"$f":"集計!AD3","v":"2013-06-22"},{"$f":"集計!AE3","v":"2013-06-23"},{"$f":"集計!AF3","v":"2013-06-24"},{"$f":"集計!AG3","v":"2013-06-25"},{"$f":"集計!AH3","v":"2013-06-26"},{"$f":"集計!AI3","v":"2013-06-27"},{"$f":"集計!AJ3","v":"2013-06-28"},{"$f":"集計!AK3","v":"2013-06-29"},{"$f":"集計!AL3","v":"2013-06-30"},{"$f":"集計!AM3","v":""},"計"]
[null,null,null,null,null,null,{"$f":"G3","v":41426},{"$f":"H3","v":41427},41428,41429,41430,41431,41432,41433,41434,41435,41436,41437,41438,41439,41440,41441,41442,41443,41444,41445,41446,41447,41448,41449,41450,41451,41452,41453,41454,41455,""]
[1,{"$f":"集計!C5","v":"北金丸"},{"$f":"集計!E5","v":"要介護１"},{"$f":"集計!F5","v":"男"},{"$f":"集計!G5","v":83},"通　い",{"$f":"集計!I5","v":1},{"$f":"集計!J5","v":1},{"$f":"集計!K5","v":1},{"$f":"集計!L5","v":1},{"$f":"集計!M5","v":1},{"$f":"集計!N5","v":1},{"$f":"集計!O5","v":1},{"$f":"集計!P5","v":1},{"$f":"集計!Q5","v":1},{"$f":"集計!R5","v":1},{"$f":"集計!S5","v":1},{"$f":"集計!T5","v":1},{"$f":"集計!U5","v":1},{"$f":"集計!V5","v":1},{"$f":"集計!W5","v":1},{"$f":"集計!X5","v":1},{"$f":"集計!Y5","v":1},{"$f":"集計!Z5","v":1},{"$f":"集計!AA5","v":1},{"$f":"集計!AB5","v":1},{"$f":"集計!AC5","v":1},{"$f":"集計!AD5","v":1},{"$f":"集計!AE5","v":1},{"$f":"集計!AF5","v":1},{"$f":"集計!AG5","v":1},{"$f":"集計!AH5","v":1},{"$f":"集計!AI5","v":1},{"$f":"集計!AJ5","v":1},{"$f":"集計!AK5","v":1},{"$f":"集計!AL5","v":1},{"$f":"集計!AM5","v":1},{"$f":"集計!AN5","v":31}]
[null,null,null,null,null,"泊まり",{"$f":"集計!I6","v":1},{"$f":"集計!J6","v":1},{"$f":"集計!K6","v":1},{"$f":"集計!L6","v":""},{"$f":"集計!M6","v":1},{"$f":"集計!N6","v":1},{"$f":"集計!O6","v":1},{"$f":"集計!P6","v":1},{"$f":"集計!Q6","v":1},{"$f":"集計!R6","v":1},{"$f":"集計!S6","v":1},{"$f":"集計!T6","v":1},{"$f":"集計!U6","v":1},{"$f":"集計!V6","v":1},{"$f":"集計!W6","v":1},{"$f":"集計!X6","v":1},{"$f":"集計!Y6","v":1},{"$f":"集計!Z6","v":1},{"$f":"集計!AA6","v":1},{"$f":"集計!AB6","v":1},{"$f":"集計!AC6","v":1},{"$f":"集計!AD6","v":1},{"$f":"集計!AE6","v":1},{"$f":"集計!AF6","v":1},{"$f":"集計!AG6","v":""},{"$f":"集計!AH6","v":1},{"$f":"集計!AI6","v":1},{"$f":"集計!AJ6","v":1},{"$f":"集計!AK6","v":1},{"$f":"集計!AL6","v":1},{"$f":"集計!AM6","v":1},{"$f":"集計!AN6","v":29}]
[null,null,null,null,null,"訪　問",{"$f":"集計!I7","v":""},{"$f":"集計!J7","v":""},{"$f":"集計!K7","v":""},{"$f":"集計!L7","v":""},{"$f":"集計!M7","v":""},{"$f":"集計!N7","v":""},{"$f":"集計!O7","v":""},{"$f":"集計!P7","v":""},{"$f":"集計!Q7","v":""},{"$f":"集計!R7","v":""},{"$f":"集計!S7","v":""},{"$f":"集計!T7","v":""},{"$f":"集計!U7","v":""},{"$f":"集計!V7","v":""},{"$f":"集計!W7","v":""},{"$f":"集計!X7","v":""},{"$f":"集計!Y7","v":""},{"$f":"集計!Z7","v":""},{"$f":"集計!AA7","v":""},{"$f":"集計!AB7","v":""},{"$f":"集計!AC7","v":""},{"$f":"集計!AD7","v":""},{"$f":"集計!AE7","v":""},{"$f":"集計!AF7","v":""},{"$f":"集計!AG7","v":""},{"$f":"集計!AH7","v":""},{"$f":"集計!AI7","v":""},{"$f":"集計!AJ7","v":""},{"$f":"集計!AK7","v":""},{"$f":"集計!AL7","v":""},{"$f":"集計!AM7","v":""},{"$f":"集計!AN7","v":0}]
[2,{"$f":"集計!C8","v":"新富町"},{"$f":"集計!E8","v":"要介護２"},{"$f":"集計!F8","v":"女"},{"$f":"集計!G8","v":87},"通　い",{"$f":"集計!I8","v":1},{"$f":"集計!J8","v":""},{"$f":"集計!K8","v":""},{"$f":"集計!L8","v":""},{"$f":"集計!M8","v":1},{"$f":"集計!N8","v":1},{"$f":"集計!O8","v":1},{"$f":"集計!P8","v":1},{"$f":"集計!Q8","v":1},{"$f":"集計!R8","v":1},{"$f":"集計!S8","v":1},{"$f":"集計!T8","v":1},{"$f":"集計!U8","v":1},{"$f":"集計!V8","v":""},{"$f":"集計!W8","v":""},{"$f":"集計!X8","v":""},{"$f":"集計!Y8","v":1},{"$f":"集計!Z8","v":1},{"$f":"集計!AA8","v":1},{"$f":"集計!AB8","v":1},{"$f":"集計!AC8","v":1},{"$f":"集計!AD8","v":1},{"$f":"集計!AE8","v":1},{"$f":"集計!AF8","v":1},{"$f":"集計!AG8","v":1},{"$f":"集計!AH8","v":1},{"$f":"集計!AI8","v":1},{"$f":"集計!AJ8","v":1},{"$f":"集計!AK8","v":1},{"$f":"集計!AL8","v":1},{"$f":"集計!AM8","v":1},{"$f":"集計!AN8","v":25}]
[null,null,null,null,null,"泊まり",{"$f":"集計!I9","v":1},{"$f":"集計!J9","v":""},{"$f":"集計!K9","v":""},{"$f":"集計!L9","v":""},{"$f":"集計!M9","v":1},{"$f":"集計!N9","v":1},{"$f":"集計!O9","v":1},{"$f":"集計!P9","v":1},{"$f":"集計!Q9","v":1},{"$f":"集計!R9","v":1},{"$f":"集計!S9","v":1},{"$f":"集計!T9","v":1},{"$f":"集計!U9","v":1},{"$f":"集計!V9","v":""},{"$f":"集計!W9","v":""},{"$f":"集計!X9","v":""},{"$f":"集計!Y9","v":1},{"$f":"集計!Z9","v":1},{"$f":"集計!AA9","v":1},{"$f":"集計!AB9","v":1},{"$f":"集計!AC9","v":1},{"$f":"集計!AD9","v":1},{"$f":"集計!AE9","v":1},{"$f":"集計!AF9","v":1},{"$f":"集計!AG9","v":1},{"$f":"集計!AH9","v":1},{"$f":"集計!AI9","v":1},{"$f":"集計!AJ9","v":1},{"$f":"集計!AK9","v":1},{"$f":"集計!AL9","v":1},{"$f":"集計!AM9","v":1},{"$f":"集計!AN9","v":25}]
[null,null,null,null,null,"訪　問",{"$f":"集計!I10","v":""},{"$f":"集計!J10","v":""},{"$f":"集計!K10","v":""},{"$f":"集計!L10","v":""},{"$f":"集計!M10","v":""},{"$f":"集計!N10","v":""},{"$f":"集計!O10","v":""},{"$f":"集計!P10","v":""},{"$f":"集計!Q10","v":""},{"$f":"集計!R10","v":""},{"$f":"集計!S10","v":""},{"$f":"集計!T10","v":""},{"$f":"集計!U10","v":""},{"$f":"集計!V10","v":""},{"$f":"集計!W10","v":""},{"$f":"集計!X10","v":""},{"$f":"集計!Y10","v":""},{"$f":"集計!Z10","v":""},{"$f":"集計!AA10","v":""},{"$f":"集計!AB10","v":""},{"$f":"集計!AC10","v":""},{"$f":"集計!AD10","v":""},{"$f":"集計!AE10","v":""},{"$f":"集計!AF10","v":""},{"$f":"集計!AG10","v":""},{"$f":"集計!AH10","v":""},{"$f":"集計!AI10","v":""},{"$f":"集計!AJ10","v":""},{"$f":"集計!AK10","v":""},{"$f":"集計!AL10","v":""},{"$f":"集計!AM10","v":""},{"$f":"集計!AN10","v":0}]
[3,{"$f":"集計!C11","v":"末広町"},{"$f":"集計!E11","v":"要介護４"},{"$f":"集計!F11","v":"女"},{"$f":"集計!G11","v":78},"通　い",{"$f":"集計!I11","v":""},{"$f":"集計!J11","v":""},{"$f":"集計!K11","v":""},{"$f":"集計!L11","v":""},{"$f":"集計!M11","v":""},{"$f":"集計!N11","v":""},{"$f":"集計!O11","v":""},{"$f":"集計!P11","v":""},{"$f":"集計!Q11","v":""},{"$f":"集計!R11","v":""},{"$f":"集計!S11","v":""},{"$f":"集計!T11","v":""},{"$f":"集計!U11","v":""},{"$f":"集計!V11","v":""},{"$f":"集計!W11","v":""},{"$f":"集計!X11","v":""},{"$f":"集計!Y11","v":""},{"$f":"集計!Z11","v":""},{"$f":"集計!AA11","v":""},{"$f":"集計!AB11","v":""},{"$f":"集計!AC11","v":""},{"$f":"集計!AD11","v":""},{"$f":"集計!AE11","v":""},{"$f":"集計!AF11","v":""},{"$f":"集計!AG11","v":""},{"$f":"集計!AH11","v":""},{"$f":"集計!AI11","v":""},{"$f":"集計!AJ11","v":""},{"$f":"集計!AK11","v":""},{"$f":"集計!AL11","v":""},{"$f":"集計!AM11","v":""},{"$f":"集計!AN11","v":0}]
[null,null,null,null,null,"泊まり",{"$f":"集計!I12","v":""},{"$f":"集計!J12","v":""},{"$f":"集計!K12","v":""},{"$f":"集計!L12","v":""},{"$f":"集計!M12","v":""},{"$f":"集計!N12","v":""},{"$f":"集計!O12","v":""},{"$f":"集計!P12","v":""},{"$f":"集計!Q12","v":""},{"$f":"集計!R12","v":""},{"$f":"集計!S12","v":""},{"$f":"集計!T12","v":""},{"$f":"集計!U12","v":""},{"$f":"集計!V12","v":""},{"$f":"集計!W12","v":""},{"$f":"集計!X12","v":""},{"$f":"集計!Y12","v":""},{"$f":"集計!Z12","v":""},{"$f":"集計!AA12","v":""},{"$f":"集計!AB12","v":""},{"$f":"集計!AC12","v":""},{"$f":"集計!AD12","v":""},{"$f":"集計!AE12","v":""},{"$f":"集計!AF12","v":""},{"$f":"集計!AG12","v":""},{"$f":"集計!AH12","v":""},{"$f":"集計!AI12","v":""},{"$f":"集計!AJ12","v":""},{"$f":"集計!AK12","v":""},{"$f":"集計!AL12","v":""},{"$f":"集計!AM12","v":""},{"$f":"集計!AN12","v":0}]
[null,null,null,null,null,"訪　問",{"$f":"集計!I13","v":1},{"$f":"集計!J13","v":1},{"$f":"集計!K13","v":1},{"$f":"集計!L13","v":1},{"$f":"集計!M13","v":1},{"$f":"集計!N13","v":1},{"$f":"集計!O13","v":1},{"$f":"集計!P13","v":1},{"$f":"集計!Q13","v":1},{"$f":"集計!R13","v":1},{"$f":"集計!S13","v":1},{"$f":"集計!T13","v":1},{"$f":"集計!U13","v":1},{"$f":"集計!V13","v":1},{"$f":"集計!W13","v":1},{"$f":"集計!X13","v":1},{"$f":"集計!Y13","v":1},{"$f":"集計!Z13","v":1},{"$f":"集計!AA13","v":1},{"$f":"集計!AB13","v":1},{"$f":"集計!AC13","v":1},{"$f":"集計!AD13","v":1},{"$f":"集計!AE13","v":1},{"$f":"集計!AF13","v":1},{"$f":"集計!AG13","v":1},{"$f":"集計!AH13","v":1},{"$f":"集計!AI13","v":1},{"$f":"集計!AJ13","v":1},{"$f":"集計!AK13","v":1},{"$f":"集計!AL13","v":1},{"$f":"集計!AM13","v":1},{"$f":"集計!AN13","v":31}]
[4,{"$f":"集計!C14","v":"市野沢"},{"$f":"集計!E14","v":"要介護５"},{"$f":"集計!F14","v":"男"},{"$f":"集計!G14","v":75},"通　い",{"$f":"集計!I14","v":1},{"$f":"集計!J14","v":1},{"$f":"集計!K14","v":""},{"$f":"集計!L14","v":""},{"$f":"集計!M14","v":""},{"$f":"集計!N14","v":""},{"$f":"集計!O14","v":1},{"$f":"集計!P14","v":1},{"$f":"集計!Q14","v":1},{"$f":"集計!R14","v":1},{"$f":"集計!S14","v":""},{"$f":"集計!T14","v":""},{"$f":"集計!U14","v":1},{"$f":"集計!V14","v":""},{"$f":"集計!W14","v":""},{"$f":"集計!X14","v":1},{"$f":"集計!Y14","v":1},{"$f":"集計!Z14","v":""},{"$f":"集計!AA14","v":""},{"$f":"集計!AB14","v":1},{"$f":"集計!AC14","v":1},{"$f":"集計!AD14","v":1},{"$f":"集計!AE14","v":1},{"$f":"集計!AF14","v":1},{"$f":"集計!AG14","v":""},{"$f":"集計!AH14","v":""},{"$f":"集計!AI14","v":1},{"$f":"集計!AJ14","v":1},{"$f":"集計!AK14","v":1},{"$f":"集計!AL14","v":1},{"$f":"集計!AM14","v":1},{"$f":"集計!AN14","v":19}]
[null,null,null,null,null,"泊まり",{"$f":"集計!I15","v":""},{"$f":"集計!J15","v":""},{"$f":"集計!K15","v":""},{"$f":"集計!L15","v":""},{"$f":"集計!M15","v":""},{"$f":"集計!N15","v":""},{"$f":"集計!O15","v":""},{"$f":"集計!P15","v":""},{"$f":"集計!Q15","v":""},{"$f":"集計!R15","v":""},{"$f":"集計!S15","v":""},{"$f":"集計!T15","v":""},{"$f":"集計!U15","v":""},{"$f":"集計!V15","v":""},{"$f":"集計!W15","v":""},{"$f":"集計!X15","v":""},{"$f":"集計!Y15","v":""},{"$f":"集計!Z15","v":""},{"$f":"集計!AA15","v":""},{"$f":"集計!AB15","v":""},{"$f":"集計!AC15","v":""},{"$f":"集計!AD15","v":""},{"$f":"集計!AE15","v":""},{"$f":"集計!AF15","v":""},{"$f":"集計!AG15","v":""},{"$f":"集計!AH15","v":""},{"$f":"集計!AI15","v":""},{"$f":"集計!AJ15","v":""},{"$f":"集計!AK15","v":""},{"$f":"集計!AL15","v":""},{"$f":"集計!AM15","v":""},{"$f":"集計!AN15","v":0}]
[null,null,null,null,null,"訪　問",{"$f":"集計!I16","v":""},{"$f":"集計!J16","v":""},{"$f":"集計!K16","v":""},{"$f":"集計!L16","v":""},{"$f":"集計!M16","v":""},{"$f":"集計!N16","v":""},{"$f":"集計!O16","v":""},{"$f":"集計!P16","v":""},{"$f":"集計!Q16","v":""},{"$f":"集計!R16","v":""},{"$f":"集計!S16","v":""},{"$f":"集計!T16","v":""},{"$f":"集計!U16","v":""},{"$f":"集計!V16","v":""},{"$f":"集計!W16","v":""},{"$f":"集計!X16","v":""},{"$f":"集計!Y16","v":""},{"$f":"集計!Z16","v":""},{"$f":"集計!AA16","v":""},{"$f":"集計!AB16","v":""},{"$f":"集計!AC16","v":""},{"$f":"集計!AD16","v":""},{"$f":"集計!AE16","v":""},{"$f":"集計!AF16","v":""},{"$f":"集計!AG16","v":""},{"$f":"集計!AH16","v":""},{"$f":"集計!AI16","v":""},{"$f":"集計!AJ16","v":""},{"$f":"集計!AK16","v":""},{"$f":"集計!AL16","v":""},{"$f":"集計!AM16","v":""},{"$f":"集計!AN16","v":0}]
[5,{"$f":"集計!C17","v":"富士見1丁目"},{"$f":"集計!E17","v":"要介護３"},{"$f":"集計!F17","v":"女"},{"$f":"集計!G17","v":92},"通　い",{"$f":"集計!I17","v":""},{"$f":"集計!J17","v":1},{"$f":"集計!K17","v":""},{"$f":"集計!L17","v":1},{"$f":"集計!M17","v":1},{"$f":"集計!N17","v":1},{"$f":"集計!O17","v":1},{"$f":"集計!P17","v":""},{"$f":"集計!Q17","v":1},{"$f":"集計!R17","v":""},{"$f":"集計!S17","v":1},{"$f":"集計!T17","v":1},{"$f":"集計!U17","v":1},{"$f":"集計!V17","v":1},{"$f":"集計!W17","v":""},{"$f":"集計!X17","v":1},{"$f":"集計!Y17","v":""},{"$f":"集計!Z17","v":1},{"$f":"集計!AA17","v":1},{"$f":"集計!AB17","v":1},{"$f":"集計!AC17","v":1},{"$f":"集計!AD17","v":""},{"$f":"集計!AE17","v":1},{"$f":"集計!AF17","v":""},{"$f":"集計!AG17","v":1},{"$f":"集計!AH17","v":1},{"$f":"集計!AI17","v":1},{"$f":"集計!AJ17","v":1},{"$f":"集計!AK17","v":""},{"$f":"集計!AL17","v":1},{"$f":"集計!AM17","v":""},{"$f":"集計!AN17","v":21}]
[null,null,null,null,null,"泊まり",{"$f":"集計!I18","v":""},{"$f":"集計!J18","v":""},{"$f":"集計!K18","v":""},{"$f":"集計!L18","v":1},{"$f":"集計!M18","v":1},{"$f":"集計!N18","v":1},{"$f":"集計!O18","v":""},{"$f":"集計!P18","v":""},{"$f":"集計!Q18","v":""},{"$f":"集計!R18","v":""},{"$f":"集計!S18","v":1},{"$f":"集計!T18","v":1},{"$f":"集計!U18","v":1},{"$f":"集計!V18","v":""},{"$f":"集計!W18","v":""},{"$f":"集計!X18","v":""},{"$f":"集計!Y18","v":""},{"$f":"集計!Z18","v":1},{"$f":"集計!AA18","v":1},{"$f":"集計!AB18","v":1},{"$f":"集計!AC18","v":""},{"$f":"集計!AD18","v":""},{"$f":"集計!AE18","v":""},{"$f":"集計!AF18","v":""},{"$f":"集計!AG18","v":1},{"$f":"集計!AH18","v":1},{"$f":"集計!AI18","v":1},{"$f":"集計!AJ18","v":""},{"$f":"集計!AK18","v":""},{"$f":"集計!AL18","v":""},{"$f":"集計!AM18","v":""},{"$f":"集計!AN18","v":12}]
[null,null,null,null,null,"訪　問",{"$f":"集計!I19","v":""},{"$f":"集計!J19","v":""},{"$f":"集計!K19","v":""},{"$f":"集計!L19","v":""},{"$f":"集計!M19","v":""},{"$f":"集計!N19","v":""},{"$f":"集計!O19","v":""},{"$f":"集計!P19","v":""},{"$f":"集計!Q19","v":""},{"$f":"集計!R19","v":""},{"$f":"集計!S19","v":""},{"$f":"集計!T19","v":""},{"$f":"集計!U19","v":""},{"$f":"集計!V19","v":""},{"$f":"集計!W19","v":""},{"$f":"集計!X19","v":""},{"$f":"集計!Y19","v":""},{"$f":"集計!Z19","v":""},{"$f":"集計!AA19","v":""},{"$f":"集計!AB19","v":""},{"$f":"集計!AC19","v":""},{"$f":"集計!AD19","v":""},{"$f":"集計!AE19","v":""},{"$f":"集計!AF19","v":""},{"$f":"集計!AG19","v":""},{"$f":"集計!AH19","v":""},{"$f":"集計!AI19","v":""},{"$f":"集計!AJ19","v":""},{"$f":"集計!AK19","v":""},{"$f":"集計!AL19","v":""},{"$f":"集計!AM19","v":""},{"$f":"集計!AN19","v":0}]
[6,{"$f":"集計!C20","v":"宇田川"},{"$f":"集計!E20","v":"要介護１"},{"$f":"集計!F20","v":"男"},{"$f":"集計!G20","v":97},"通　い",{"$f":"集計!I20","v":1},{"$f":"集計!J20","v":""},{"$f":"集計!K20","v":""},{"$f":"集計!L20","v":""},{"$f":"集計!M20","v":1},{"$f":"集計!N20","v":1},{"$f":"集計!O20","v":""},{"$f":"集計!P20","v":1},{"$f":"集計!Q20","v":""},{"$f":"集計!R20","v":""},{"$f":"集計!S20","v":""},{"$f":"集計!T20","v":1},{"$f":"集計!U20","v":""},{"$f":"集計!V20","v":""},{"$f":"集計!W20","v":1},{"$f":"集計!X20","v":""},{"$f":"集計!Y20","v":""},{"$f":"集計!Z20","v":""},{"$f":"集計!AA20","v":1},{"$f":"集計!AB20","v":""},{"$f":"集計!AC20","v":""},{"$f":"集計!AD20","v":1},{"$f":"集計!AE20","v":""},{"$f":"集計!AF20","v":""},{"$f":"集計!AG20","v":""},{"$f":"集計!AH20","v":1},{"$f":"集計!AI20","v":""},{"$f":"集計!AJ20","v":""},{"$f":"集計!AK20","v":1},{"$f":"集計!AL20","v":""},{"$f":"集計!AM20","v":""},{"$f":"集計!AN20","v":10}]
[null,null,null,null,null,"泊まり",{"$f":"集計!I21","v":""},{"$f":"集計!J21","v":""},{"$f":"集計!K21","v":""},{"$f":"集計!L21","v":""},{"$f":"集計!M21","v":""},{"$f":"集計!N21","v":""},{"$f":"集計!O21","v":""},{"$f":"集計!P21","v":""},{"$f":"集計!Q21","v":""},{"$f":"集計!R21","v":""},{"$f":"集計!S21","v":""},{"$f":"集計!T21","v":""},{"$f":"集計!U21","v":""},{"$f":"集計!V21","v":""},{"$f":"集計!W21","v":""},{"$f":"集計!X21","v":""},{"$f":"集計!Y21","v":""},{"$f":"集計!Z21","v":""},{"$f":"集計!AA21","v":""},{"$f":"集計!AB21","v":""},{"$f":"集計!AC21","v":""},{"$f":"集計!AD21","v":""},{"$f":"集計!AE21","v":""},{"$f":"集計!AF21","v":""},{"$f":"集計!AG21","v":""},{"$f":"集計!AH21","v":""},{"$f":"集計!AI21","v":""},{"$f":"集計!AJ21","v":""},{"$f":"集計!AK21","v":""},{"$f":"集計!AL21","v":""},{"$f":"集計!AM21","v":""},{"$f":"集計!AN21","v":0}]
[null,null,null,null,null,"訪　問",{"$f":"集計!I22","v":""},{"$f":"集計!J22","v":1},{"$f":"集計!K22","v":""},{"$f":"集計!L22","v":1},{"$f":"集計!M22","v":""},{"$f":"集計!N22","v":""},{"$f":"集計!O22","v":""},{"$f":"集計!P22","v":""},{"$f":"集計!Q22","v":""},{"$f":"集計!R22","v":1},{"$f":"集計!S22","v":""},{"$f":"集計!T22","v":""},{"$f":"集計!U22","v":""},{"$f":"集計!V22","v":""},{"$f":"集計!W22","v":""},{"$f":"集計!X22","v":""},{"$f":"集計!Y22","v":1},{"$f":"集計!Z22","v":""},{"$f":"集計!AA22","v":""},{"$f":"集計!AB22","v":""},{"$f":"集計!AC22","v":""},{"$f":"集計!AD22","v":""},{"$f":"集計!AE22","v":""},{"$f":"集計!AF22","v":1},{"$f":"集計!AG22","v":""},{"$f":"集計!AH22","v":""},{"$f":"集計!AI22","v":""},{"$f":"集計!AJ22","v":""},{"$f":"集計!AK22","v":""},{"$f":"集計!AL22","v":""},{"$f":"集計!AM22","v":1},{"$f":"集計!AN22","v":6}]
[7,{"$f":"集計!C23","v":"新富町"},{"$f":"集計!E23","v":"要介護２"},{"$f":"集計!F23","v":"女"},{"$f":"集計!G23","v":98},"通　い",{"$f":"集計!I23","v":""},{"$f":"集計!J23","v":""},{"$f":"集計!K23","v":""},{"$f":"集計!L23","v":""},{"$f":"集計!M23","v":""},{"$f":"集計!N23","v":""},{"$f":"集計!O23","v":""},{"$f":"集計!P23","v":""},{"$f":"集計!Q23","v":""},{"$f":"集計!R23","v":""},{"$f":"集計!S23","v":""},{"$f":"集計!T23","v":""},{"$f":"集計!U23","v":""},{"$f":"集計!V23","v":""},{"$f":"集計!W23","v":""},{"$f":"集計!X23","v":""},{"$f":"集計!Y23","v":""},{"$f":"集計!Z23","v":""},{"$f":"集計!AA23","v":""},{"$f":"集計!AB23","v":""},{"$f":"集計!AC23","v":""},{"$f":"集計!AD23","v":""},{"$f":"集計!AE23","v":""},{"$f":"集計!AF23","v":""},{"$f":"集計!AG23","v":""},{"$f":"集計!AH23","v":""},{"$f":"集計!AI23","v":""},{"$f":"集計!AJ23","v":""},{"$f":"集計!AK23","v":""},{"$f":"集計!AL23","v":""},{"$f":"集計!AM23","v":""},{"$f":"集計!AN23","v":0}]
[null,null,null,null,null,"泊まり",{"$f":"集計!I24","v":1},{"$f":"集計!J24","v":1},{"$f":"集計!K24","v":1},{"$f":"集計!L24","v":1},{"$f":"集計!M24","v":1},{"$f":"集計!N24","v":1},{"$f":"集計!O24","v":1},{"$f":"集計!P24","v":1},{"$f":"集計!Q24","v":1},{"$f":"集計!R24","v":1},{"$f":"集計!S24","v":1},{"$f":"集計!T24","v":1},{"$f":"集計!U24","v":1},{"$f":"集計!V24","v":1},{"$f":"集計!W24","v":1},{"$f":"集計!X24","v":1},{"$f":"集計!Y24","v":1},{"$f":"集計!Z24","v":1},{"$f":"集計!AA24","v":1},{"$f":"集計!AB24","v":1},{"$f":"集計!AC24","v":1},{"$f":"集計!AD24","v":1},{"$f":"集計!AE24","v":1},{"$f":"集計!AF24","v":1},{"$f":"集計!AG24","v":1},{"$f":"集計!AH24","v":1},{"$f":"集計!AI24","v":1},{"$f":"集計!AJ24","v":1},{"$f":"集計!AK24","v":1},{"$f":"集計!AL24","v":1},{"$f":"集計!AM24","v":1},{"$f":"集計!AN24","v":31}]
[null,null,null,null,null,"訪　問",{"$f":"集計!I25","v":1},{"$f":"集計!J25","v":1},{"$f":"集計!K25","v":1},{"$f":"集計!L25","v":1},{"$f":"集計!M25","v":1},{"$f":"集計!N25","v":1},{"$f":"集計!O25","v":1},{"$f":"集計!P25","v":1},{"$f":"集計!Q25","v":1},{"$f":"集計!R25","v":1},{"$f":"集計!S25","v":1},{"$f":"集計!T25","v":1},{"$f":"集計!U25","v":1},{"$f":"集計!V25","v":1},{"$f":"集計!W25","v":1},{"$f":"集計!X25","v":1},{"$f":"集計!Y25","v":1},{"$f":"集計!Z25","v":1},{"$f":"集計!AA25","v":1},{"$f":"集計!AB25","v":1},{"$f":"集計!AC25","v":1},{"$f":"集計!AD25","v":1},{"$f":"集計!AE25","v":1},{"$f":"集計!AF25","v":1},{"$f":"集計!AG25","v":1},{"$f":"集計!AH25","v":1},{"$f":"集計!AI25","v":1},{"$f":"集計!AJ25","v":1},{"$f":"集計!AK25","v":1},{"$f":"集計!AL25","v":1},{"$f":"集計!AM25","v":1},{"$f":"集計!AN25","v":31}]
[8,{"$f":"集計!C26","v":"城山２丁目"},{"$f":"集計!E26","v":"要介護３"},{"$f":"集計!F26","v":"女"},{"$f":"集計!G26","v":89},"通　い",{"$f":"集計!I26","v":1},{"$f":"集計!J26","v":1},{"$f":"集計!K26","v":1},{"$f":"集計!L26","v":1},{"$f":"集計!M26","v":1},{"$f":"集計!N26","v":1},{"$f":"集計!O26","v":1},{"$f":"集計!P26","v":1},{"$f":"集計!Q26","v":1},{"$f":"集計!R26","v":1},{"$f":"集計!S26","v":1},{"$f":"集計!T26","v":1},{"$f":"集計!U26","v":1},{"$f":"集計!V26","v":1},{"$f":"集計!W26","v":1},{"$f":"集計!X26","v":1},{"$f":"集計!Y26","v":1},{"$f":"集計!Z26","v":1},{"$f":"集計!AA26","v":1},{"$f":"集計!AB26","v":1},{"$f":"集計!AC26","v":1},{"$f":"集計!AD26","v":1},{"$f":"集計!AE26","v":1},{"$f":"集計!AF26","v":1},{"$f":"集計!AG26","v":1},{"$f":"集計!AH26","v":1},{"$f":"集計!AI26","v":1},{"$f":"集計!AJ26","v":1},{"$f":"集計!AK26","v":1},{"$f":"集計!AL26","v":1},{"$f":"集計!AM26","v":1},{"$f":"集計!AN26","v":31}]
[null,null,null,null,null,"泊まり",{"$f":"集計!I27","v":1},{"$f":"集計!J27","v":1},{"$f":"集計!K27","v":1},{"$f":"集計!L27","v":1},{"$f":"集計!M27","v":1},{"$f":"集計!N27","v":1},{"$f":"集計!O27","v":1},{"$f":"集計!P27","v":1},{"$f":"集計!Q27","v":1},{"$f":"集計!R27","v":1},{"$f":"集計!S27","v":1},{"$f":"集計!T27","v":1},{"$f":"集計!U27","v":1},{"$f":"集計!V27","v":1},{"$f":"集計!W27","v":1},{"$f":"集計!X27","v":1},{"$f":"集計!Y27","v":1},{"$f":"集計!Z27","v":1},{"$f":"集計!AA27","v":1},{"$f":"集計!AB27","v":1},{"$f":"集計!AC27","v":1},{"$f":"集計!AD27","v":1},{"$f":"集計!AE27","v":1},{"$f":"集計!AF27","v":1},{"$f":"集計!AG27","v":1},{"$f":"集計!AH27","v":1},{"$f":"集計!AI27","v":1},{"$f":"集計!AJ27","v":1},{"$f":"集計!AK27","v":1},{"$f":"集計!AL27","v":1},{"$f":"集計!AM27","v":1},{"$f":"集計!AN27","v":31}]
[null,null,null,null,null,"訪　問",{"$f":"集計!I28","v":""},{"$f":"集計!J28","v":""},{"$f":"集計!K28","v":""},{"$f":"集計!L28","v":""},{"$f":"集計!M28","v":""},{"$f":"集計!N28","v":""},{"$f":"集計!O28","v":""},{"$f":"集計!P28","v":""},{"$f":"集計!Q28","v":""},{"$f":"集計!R28","v":""},{"$f":"集計!S28","v":""},{"$f":"集計!T28","v":""},{"$f":"集計!U28","v":""},{"$f":"集計!V28","v":""},{"$f":"集計!W28","v":""},{"$f":"集計!X28","v":""},{"$f":"集計!Y28","v":""},{"$f":"集計!Z28","v":""},{"$f":"集計!AA28","v":""},{"$f":"集計!AB28","v":""},{"$f":"集計!AC28","v":""},{"$f":"集計!AD28","v":""},{"$f":"集計!AE28","v":""},{"$f":"集計!AF28","v":""},{"$f":"集計!AG28","v":""},{"$f":"集計!AH28","v":""},{"$f":"集計!AI28","v":""},{"$f":"集計!AJ28","v":""},{"$f":"集計!AK28","v":""},{"$f":"集計!AL28","v":""},{"$f":"集計!AM28","v":""},{"$f":"集計!AN28","v":0}]
[9,{"$f":"集計!C29","v":"富士見"},{"$f":"集計!E29","v":"要介護１"},{"$f":"集計!F29","v":"男"},{"$f":"集計!G29","v":63},"通　い",{"$f":"集計!I29","v":1},{"$f":"集計!J29","v":1},{"$f":"集計!K29","v":1},{"$f":"集計!L29","v":""},{"$f":"集計!M29","v":1},{"$f":"集計!N29","v":1},{"$f":"集計!O29","v":1},{"$f":"集計!P29","v":""},{"$f":"集計!Q29","v":1},{"$f":"集計!R29","v":1},{"$f":"集計!S29","v":""},{"$f":"集計!T29","v":1},{"$f":"集計!U29","v":1},{"$f":"集計!V29","v":""},{"$f":"集計!W29","v":""},{"$f":"集計!X29","v":1},{"$f":"集計!Y29","v":1},{"$f":"集計!Z29","v":1},{"$f":"集計!AA29","v":1},{"$f":"集計!AB29","v":""},{"$f":"集計!AC29","v":""},{"$f":"集計!AD29","v":1},{"$f":"集計!AE29","v":1},{"$f":"集計!AF29","v":1},{"$f":"集計!AG29","v":""},{"$f":"集計!AH29","v":1},{"$f":"集計!AI29","v":1},{"$f":"集計!AJ29","v":1},{"$f":"集計!AK29","v":1},{"$f":"集計!AL29","v":1},{"$f":"集計!AM29","v":1},{"$f":"集計!AN29","v":23}]
[null,null,null,null,null,"泊まり",{"$f":"集計!I30","v":""},{"$f":"集計!J30","v":""},{"$f":"集計!K30","v":""},{"$f":"集計!L30","v":""},{"$f":"集計!M30","v":""},{"$f":"集計!N30","v":""},{"$f":"集計!O30","v":""},{"$f":"集計!P30","v":""},{"$f":"集計!Q30","v":""},{"$f":"集計!R30","v":""},{"$f":"集計!S30","v":""},{"$f":"集計!T30","v":""},{"$f":"集計!U30","v":""},{"$f":"集計!V30","v":""},{"$f":"集計!W30","v":""},{"$f":"集計!X30","v":""},{"$f":"集計!Y30","v":""},{"$f":"集計!Z30","v":""},{"$f":"集計!AA30","v":""},{"$f":"集計!AB30","v":""},{"$f":"集計!AC30","v":""},{"$f":"集計!AD30","v":""},{"$f":"集計!AE30","v":""},{"$f":"集計!AF30","v":""},{"$f":"集計!AG30","v":""},{"$f":"集計!AH30","v":""},{"$f":"集計!AI30","v":""},{"$f":"集計!AJ30","v":""},{"$f":"集計!AK30","v":""},{"$f":"集計!AL30","v":""},{"$f":"集計!AM30","v":""},{"$f":"集計!AN30","v":0}]
[null,null,null,null,null,"訪　問",{"$f":"集計!I31","v":""},{"$f":"集計!J31","v":""},{"$f":"集計!K31","v":""},{"$f":"集計!L31","v":""},{"$f":"集計!M31","v":""},{"$f":"集計!N31","v":""},{"$f":"集計!O31","v":""},{"$f":"集計!P31","v":""},{"$f":"集計!Q31","v":""},{"$f":"集計!R31","v":""},{"$f":"集計!S31","v":""},{"$f":"集計!T31","v":""},{"$f":"集計!U31","v":""},{"$f":"集計!V31","v":""},{"$f":"集計!W31","v":""},{"$f":"集計!X31","v":""},{"$f":"集計!Y31","v":""},{"$f":"集計!Z31","v":""},{"$f":"集計!AA31","v":""},{"$f":"集計!AB31","v":""},{"$f":"集計!AC31","v":""},{"$f":"集計!AD31","v":""},{"$f":"集計!AE31","v":""},{"$f":"集計!AF31","v":""},{"$f":"集計!AG31","v":""},{"$f":"集計!AH31","v":""},{"$f":"集計!AI31","v":""},{"$f":"集計!AJ31","v":""},{"$f":"集計!AK31","v":""},{"$f":"集計!AL31","v":""},{"$f":"集計!AM31","v":""},{"$f":"集計!AN31","v":0}]
[10,{"$f":"集計!C32","v":"浅香"},{"$f":"集計!E32","v":"要介護２"},{"$f":"集計!F32","v":"女"},{"$f":"集計!G32","v":88},"通　い",{"$f":"集計!I32","v":""},{"$f":"集計!J32","v":""},{"$f":"集計!K32","v":""},{"$f":"集計!L32","v":""},{"$f":"集計!M32","v":""},{"$f":"集計!N32","v":""},{"$f":"集計!O32","v":""},{"$f":"集計!P32","v":""},{"$f":"集計!Q32","v":""},{"$f":"集計!R32","v":""},{"$f":"集計!S32","v":""},{"$f":"集計!T32","v":""},{"$f":"集計!U32","v":""},{"$f":"集計!V32","v":""},{"$f":"集計!W32","v":""},{"$f":"集計!X32","v":""},{"$f":"集計!Y32","v":""},{"$f":"集計!Z32","v":""},{"$f":"集計!AA32","v":""},{"$f":"集計!AB32","v":""},{"$f":"集計!AC32","v":""},{"$f":"集計!AD32","v":""},{"$f":"集計!AE32","v":""},{"$f":"集計!AF32","v":""},{"$f":"集計!AG32","v":""},{"$f":"集計!AH32","v":""},{"$f":"集計!AI32","v":""},{"$f":"集計!AJ32","v":""},{"$f":"集計!AK32","v":""},{"$f":"集計!AL32","v":""},{"$f":"集計!AM32","v":""},{"$f":"集計!AN32","v":0}]
[null,null,null,null,null,"泊まり",{"$f":"集計!I33","v":""},{"$f":"集計!J33","v":""},{"$f":"集計!K33","v":""},{"$f":"集計!L33","v":""},{"$f":"集計!M33","v":""},{"$f":"集計!N33","v":""},{"$f":"集計!O33","v":""},{"$f":"集計!P33","v":""},{"$f":"集計!Q33","v":""},{"$f":"集計!R33","v":""},{"$f":"集計!S33","v":""},{"$f":"集計!T33","v":""},{"$f":"集計!U33","v":""},{"$f":"集計!V33","v":""},{"$f":"集計!W33","v":""},{"$f":"集計!X33","v":""},{"$f":"集計!Y33","v":""},{"$f":"集計!Z33","v":""},{"$f":"集計!AA33","v":""},{"$f":"集計!AB33","v":""},{"$f":"集計!AC33","v":""},{"$f":"集計!AD33","v":""},{"$f":"集計!AE33","v":""},{"$f":"集計!AF33","v":""},{"$f":"集計!AG33","v":""},{"$f":"集計!AH33","v":""},{"$f":"集計!AI33","v":""},{"$f":"集計!AJ33","v":""},{"$f":"集計!AK33","v":""},{"$f":"集計!AL33","v":""},{"$f":"集計!AM33","v":""},{"$f":"集計!AN33","v":0}]
[null,null,null,null,null,"訪　問",{"$f":"集計!I34","v":1},{"$f":"集計!J34","v":1},{"$f":"集計!K34","v":1},{"$f":"集計!L34","v":1},{"$f":"集計!M34","v":1},{"$f":"集計!N34","v":1},{"$f":"集計!O34","v":1},{"$f":"集計!P34","v":1},{"$f":"集計!Q34","v":1},{"$f":"集計!R34","v":1},{"$f":"集計!S34","v":1},{"$f":"集計!T34","v":1},{"$f":"集計!U34","v":1},{"$f":"集計!V34","v":1},{"$f":"集計!W34","v":1},{"$f":"集計!X34","v":1},{"$f":"集計!Y34","v":1},{"$f":"集計!Z34","v":1},{"$f":"集計!AA34","v":1},{"$f":"集計!AB34","v":1},{"$f":"集計!AC34","v":1},{"$f":"集計!AD34","v":1},{"$f":"集計!AE34","v":1},{"$f":"集計!AF34","v":1},{"$f":"集計!AG34","v":1},{"$f":"集計!AH34","v":1},{"$f":"集計!AI34","v":1},{"$f":"集計!AJ34","v":1},{"$f":"集計!AK34","v":1},{"$f":"集計!AL34","v":1},{"$f":"集計!AM34","v":1},{"$f":"集計!AN34","v":31}]
[11,{"$f":"集計!C35","v":{"$error":"#N/A"}},{"$f":"集計!E35","v":{"$error":"#N/A"}},{"$f":"集計!F35","v":{"$error":"#N/A"}},{"$f":"集計!G35","v":{"$error":"#N/A"}},"通　い",{"$f":"集計!I35","v":1},{"$f":"集計!J35","v":1},{"$f":"集計!K35","v":1},{"$f":"集計!L35","v":1},{"$f":"集計!M35","v":1},{"$f":"集計!N35","v":1},{"$f":"集計!O35","v":1},{"$f":"集計!P35","v":1},{"$f":"集計!Q35","v":1},{"$f":"集計!R35","v":1},{"$f":"集計!S35","v":1},{"$f":"集計!T35","v":1},{"$f":"集計!U35","v":1},{"$f":"集計!V35","v":1},{"$f":"集計!W35","v":1},{"$f":"集計!X35","v":1},{"$f":"集計!Y35","v":1},{"$f":"集計!Z35","v":1},{"$f":"集計!AA35","v":1},{"$f":"集計!AB35","v":1},{"$f":"集計!AC35","v":1},{"$f":"集計!AD35","v":1},{"$f":"集計!AE35","v":1},{"$f":"集計!AF35","v":1},{"$f":"集計!AG35","v":1},{"$f":"集計!AH35","v":1},{"$f":"集計!AI35","v":1},{"$f":"集計!AJ35","v":1},{"$f":"集計!AK35","v":1},{"$f":"集計!AL35","v":1},{"$f":"集計!AM35","v":1},{"$f":"集計!AN35","v":31}]
[null,null,null,null,null,"泊まり",{"$f":"集計!I36","v":""},{"$f":"集計!J36","v":""},{"$f":"集計!K36","v":""},{"$f":"集計!L36","v":""},{"$f":"集計!M36","v":""},{"$f":"集計!N36","v":""},{"$f":"集計!O36","v":""},{"$f":"集計!P36","v":""},{"$f":"集計!Q36","v":""},{"$f":"集計!R36","v":""},{"$f":"集計!S36","v":""},{"$f":"集計!T36","v":""},{"$f":"集計!U36","v":""},{"$f":"集計!V36","v":""},{"$f":"集計!W36","v":""},{"$f":"集計!X36","v":""},{"$f":"集計!Y36","v":""},{"$f":"集計!Z36","v":""},{"$f":"集計!AA36","v":""},{"$f":"集計!AB36","v":""},{"$f":"集計!AC36","v":""},{"$f":"集計!AD36","v":""},{"$f":"集計!AE36","v":""},{"$f":"集計!AF36","v":""},{"$f":"集計!AG36","v":""},{"$f":"集計!AH36","v":""},{"$f":"集計!AI36","v":""},{"$f":"集計!AJ36","v":""},{"$f":"集計!AK36","v":""},{"$f":"集計!AL36","v":""},{"$f":"集計!AM36","v":""},{"$f":"集計!AN36","v":0}]
[null,null,null,null,null,"訪　問",{"$f":"集計!I37","v":""},{"$f":"集計!J37","v":""},{"$f":"集計!K37","v":""},{"$f":"集計!L37","v":""},{"$f":"集計!M37","v":""},{"$f":"集計!N37","v":""},{"$f":"集計!O37","v":""},{"$f":"集計!P37","v":""},{"$f":"集計!Q37","v":""},{"$f":"集計!R37","v":""},{"$f":"集計!S37","v":""},{"$f":"集計!T37","v":""},{"$f":"集計!U37","v":""},{"$f":"集計!V37","v":""},{"$f":"集計!W37","v":""},{"$f":"集計!X37","v":""},{"$f":"集計!Y37","v":""},{"$f":"集計!Z37","v":""},{"$f":"集計!AA37","v":""},{"$f":"集計!AB37","v":""},{"$f":"集計!AC37","v":""},{"$f":"集計!AD37","v":""},{"$f":"集計!AE37","v":""},{"$f":"集計!AF37","v":""},{"$f":"集計!AG37","v":""},{"$f":"集計!AH37","v":""},{"$f":"集計!AI37","v":""},{"$f":"集計!AJ37","v":""},{"$f":"集計!AK37","v":""},{"$f":"集計!AL37","v":""},{"$f":"集計!AM37","v":""},{"$f":"集計!AN37","v":0}]
[12,{"$f":"集計!C38","v":{"$error":"#N/A"}},{"$f":"集計!E38","v":{"$error":"#N/A"}},{"$f":"集計!F38","v":{"$error":"#N/A"}},{"$f":"集計!G38","v":{"$error":"#N/A"}},"通　い",{"$f":"集計!I38","v":1},{"$f":"集計!J38","v":1},{"$f":"集計!K38","v":1},{"$f":"集計!L38","v":1},{"$f":"集計!M38","v":1},{"$f":"集計!N38","v":1},{"$f":"集計!O38","v":1},{"$f":"集計!P38","v":1},{"$f":"集計!Q38","v":1},{"$f":"集計!R38","v":1},{"$f":"集計!S38","v":1},{"$f":"集計!T38","v":1},{"$f":"集計!U38","v":1},{"$f":"集計!V38","v":1},{"$f":"集計!W38","v":1},{"$f":"集計!X38","v":1},{"$f":"集計!Y38","v":1},{"$f":"集計!Z38","v":1},{"$f":"集計!AA38","v":1},{"$f":"集計!AB38","v":1},{"$f":"集計!AC38","v":1},{"$f":"集計!AD38","v":1},{"$f":"集計!AE38","v":1},{"$f":"集計!AF38","v":1},{"$f":"集計!AG38","v":1},{"$f":"集計!AH38","v":1},{"$f":"集計!AI38","v":1},{"$f":"集計!AJ38","v":1},{"$f":"集計!AK38","v":1},{"$f":"集計!AL38","v":1},{"$f":"集計!AM38","v":1},{"$f":"集計!AN38","v":31}]
[null,null,null,null,null,"泊まり",{"$f":"集計!I39","v":""},{"$f":"集計!J39","v":""},{"$f":"集計!K39","v":""},{"$f":"集計!L39","v":""},{"$f":"集計!M39","v":""},{"$f":"集計!N39","v":""},{"$f":"集計!O39","v":""},{"$f":"集計!P39","v":""},{"$f":"集計!Q39","v":""},{"$f":"集計!R39","v":""},{"$f":"集計!S39","v":""},{"$f":"集計!T39","v":""},{"$f":"集計!U39","v":""},{"$f":"集計!V39","v":""},{"$f":"集計!W39","v":""},{"$f":"集計!X39","v":""},{"$f":"集計!Y39","v":""},{"$f":"集計!Z39","v":""},{"$f":"集計!AA39","v":""},{"$f":"集計!AB39","v":""},{"$f":"集計!AC39","v":""},{"$f":"集計!AD39","v":""},{"$f":"集計!AE39","v":""},{"$f":"集計!AF39","v":""},{"$f":"集計!AG39","v":""},{"$f":"集計!AH39","v":""},{"$f":"集計!AI39","v":""},{"$f":"集計!AJ39","v":""},{"$f":"集計!AK39","v":""},{"$f":"集計!AL39","v":""},{"$f":"集計!AM39","v":""},{"$f":"集計!AN39","v":0}]
[null,null,null,null,null,"訪　問",{"$f":"集計!I40","v":""},{"$f":"集計!J40","v":""},{"$f":"集計!K40","v":""},{"$f":"集計!L40","v":""},{"$f":"集計!M40","v":""},{"$f":"集計!N40","v":""},{"$f":"集計!O40","v":""},{"$f":"集計!P40","v":""},{"$f":"集計!Q40","v":""},{"$f":"集計!R40","v":""},{"$f":"集計!S40","v":""},{"$f":"集計!T40","v":""},{"$f":"集計!U40","v":""},{"$f":"集計!V40","v":""},{"$f":"集計!W40","v":""},{"$f":"集計!X40","v":""},{"$f":"集計!Y40","v":""},{"$f":"集計!Z40","v":""},{"$f":"集計!AA40","v":""},{"$f":"集計!AB40","v":""},{"$f":"集計!AC40","v":""},{"$f":"集計!AD40","v":""},{"$f":"集計!AE40","v":""},{"$f":"集計!AF40","v":""},{"$f":"集計!AG40","v":""},{"$f":"集計!AH40","v":""},{"$f":"集計!AI40","v":""},{"$f":"集計!AJ40","v":""},{"$f":"集計!AK40","v":""},{"$f":"集計!AL40","v":""},{"$f":"集計!AM40","v":""},{"$f":"集計!AN40","v":0}]
[13,{"$f":"集計!C41","v":{"$error":"#N/A"}},{"$f":"集計!E41","v":{"$error":"#N/A"}},{"$f":"集計!F41","v":{"$error":"#N/A"}},{"$f":"集計!G41","v":{"$error":"#N/A"}},"通　い",{"$f":"集計!I41","v":1},{"$f":"集計!J41","v":1},{"$f":"集計!K41","v":1},{"$f":"集計!L41","v":1},{"$f":"集計!M41","v":1},{"$f":"集計!N41","v":1},{"$f":"集計!O41","v":1},{"$f":"集計!P41","v":1},{"$f":"集計!Q41","v":1},{"$f":"集計!R41","v":1},{"$f":"集計!S41","v":1},{"$f":"集計!T41","v":1},{"$f":"集計!U41","v":1},{"$f":"集計!V41","v":1},{"$f":"集計!W41","v":1},{"$f":"集計!X41","v":1},{"$f":"集計!Y41","v":1},{"$f":"集計!Z41","v":1},{"$f":"集計!AA41","v":1},{"$f":"集計!AB41","v":1},{"$f":"集計!AC41","v":1},{"$f":"集計!AD41","v":1},{"$f":"集計!AE41","v":1},{"$f":"集計!AF41","v":1},{"$f":"集計!AG41","v":1},{"$f":"集計!AH41","v":1},{"$f":"集計!AI41","v":1},{"$f":"集計!AJ41","v":1},{"$f":"集計!AK41","v":1},{"$f":"集計!AL41","v":1},{"$f":"集計!AM41","v":1},{"$f":"集計!AN41","v":31}]
[null,null,null,null,null,"泊まり",{"$f":"集計!I42","v":""},{"$f":"集計!J42","v":""},{"$f":"集計!K42","v":""},{"$f":"集計!L42","v":""},{"$f":"集計!M42","v":""},{"$f":"集計!N42","v":""},{"$f":"集計!O42","v":""},{"$f":"集計!P42","v":""},{"$f":"集計!Q42","v":""},{"$f":"集計!R42","v":""},{"$f":"集計!S42","v":""},{"$f":"集計!T42","v":""},{"$f":"集計!U42","v":""},{"$f":"集計!V42","v":""},{"$f":"集計!W42","v":""},{"$f":"集計!X42","v":""},{"$f":"集計!Y42","v":""},{"$f":"集計!Z42","v":""},{"$f":"集計!AA42","v":""},{"$f":"集計!AB42","v":""},{"$f":"集計!AC42","v":""},{"$f":"集計!AD42","v":""},{"$f":"集計!AE42","v":""},{"$f":"集計!AF42","v":""},{"$f":"集計!AG42","v":""},{"$f":"集計!AH42","v":""},{"$f":"集計!AI42","v":""},{"$f":"集計!AJ42","v":""},{"$f":"集計!AK42","v":""},{"$f":"集計!AL42","v":""},{"$f":"集計!AM42","v":""},{"$f":"集計!AN42","v":0}]
[null,null,null,null,null,"訪　問",{"$f":"集計!I43","v":""},{"$f":"集計!J43","v":""},{"$f":"集計!K43","v":""},{"$f":"集計!L43","v":""},{"$f":"集計!M43","v":""},{"$f":"集計!N43","v":""},{"$f":"集計!O43","v":""},{"$f":"集計!P43","v":""},{"$f":"集計!Q43","v":""},{"$f":"集計!R43","v":""},{"$f":"集計!S43","v":""},{"$f":"集計!T43","v":""},{"$f":"集計!U43","v":""},{"$f":"集計!V43","v":""},{"$f":"集計!W43","v":""},{"$f":"集計!X43","v":""},{"$f":"集計!Y43","v":""},{"$f":"集計!Z43","v":""},{"$f":"集計!AA43","v":""},{"$f":"集計!AB43","v":""},{"$f":"集計!AC43","v":""},{"$f":"集計!AD43","v":""},{"$f":"集計!AE43","v":""},{"$f":"集計!AF43","v":""},{"$f":"集計!AG43","v":""},{"$f":"集計!AH43","v":""},{"$f":"集計!AI43","v":""},{"$f":"集計!AJ43","v":""},{"$f":"集計!AK43","v":""},{"$f":"集計!AL43","v":""},{"$f":"集計!AM43","v":""},{"$f":"集計!AN43","v":0}]
[14,{"$f":"集計!C44","v":{"$error":"#N/A"}},{"$f":"集計!E44","v":{"$error":"#N/A"}},{"$f":"集計!F44","v":{"$error":"#N/A"}},{"$f":"集計!G44","v":{"$error":"#N/A"}},"通　い",{"$f":"集計!I44","v":1},{"$f":"集計!J44","v":1},{"$f":"集計!K44","v":1},{"$f":"集計!L44","v":1},{"$f":"集計!M44","v":1},{"$f":"集計!N44","v":1},{"$f":"集計!O44","v":1},{"$f":"集計!P44","v":1},{"$f":"集計!Q44","v":1},{"$f":"集計!R44","v":1},{"$f":"集計!S44","v":1},{"$f":"集計!T44","v":1},{"$f":"集計!U44","v":1},{"$f":"集計!V44","v":1},{"$f":"集計!W44","v":1},{"$f":"集計!X44","v":1},{"$f":"集計!Y44","v":1},{"$f":"集計!Z44","v":1},{"$f":"集計!AA44","v":1},{"$f":"集計!AB44","v":1},{"$f":"集計!AC44","v":1},{"$f":"集計!AD44","v":1},{"$f":"集計!AE44","v":1},{"$f":"集計!AF44","v":1},{"$f":"集計!AG44","v":1},{"$f":"集計!AH44","v":1},{"$f":"集計!AI44","v":1},{"$f":"集計!AJ44","v":1},{"$f":"集計!AK44","v":1},{"$f":"集計!AL44","v":1},{"$f":"集計!AM44","v":1},{"$f":"集計!AN44","v":31}]
[null,null,null,null,null,"泊まり",{"$f":"集計!I45","v":""},{"$f":"集計!J45","v":""},{"$f":"集計!K45","v":""},{"$f":"集計!L45","v":""},{"$f":"集計!M45","v":""},{"$f":"集計!N45","v":""},{"$f":"集計!O45","v":""},{"$f":"集計!P45","v":""},{"$f":"集計!Q45","v":""},{"$f":"集計!R45","v":""},{"$f":"集計!S45","v":""},{"$f":"集計!T45","v":""},{"$f":"集計!U45","v":""},{"$f":"集計!V45","v":""},{"$f":"集計!W45","v":""},{"$f":"集計!X45","v":""},{"$f":"集計!Y45","v":""},{"$f":"集計!Z45","v":""},{"$f":"集計!AA45","v":""},{"$f":"集計!AB45","v":""},{"$f":"集計!AC45","v":""},{"$f":"集計!AD45","v":""},{"$f":"集計!AE45","v":""},{"$f":"集計!AF45","v":""},{"$f":"集計!AG45","v":""},{"$f":"集計!AH45","v":""},{"$f":"集計!AI45","v":""},{"$f":"集計!AJ45","v":""},{"$f":"集計!AK45","v":""},{"$f":"集計!AL45","v":""},{"$f":"集計!AM45","v":""},{"$f":"集計!AN45","v":0}]
[null,null,null,null,null,"訪　問",{"$f":"集計!I46","v":""},{"$f":"集計!J46","v":""},{"$f":"集計!K46","v":""},{"$f":"集計!L46","v":""},{"$f":"集計!M46","v":""},{"$f":"集計!N46","v":""},{"$f":"集計!O46","v":""},{"$f":"集計!P46","v":""},{"$f":"集計!Q46","v":""},{"$f":"集計!R46","v":""},{"$f":"集計!S46","v":""},{"$f":"集計!T46","v":""},{"$f":"集計!U46","v":""},{"$f":"集計!V46","v":""},{"$f":"集計!W46","v":""},{"$f":"集計!X46","v":""},{"$f":"集計!Y46","v":""},{"$f":"集計!Z46","v":""},{"$f":"集計!AA46","v":""},{"$f":"集計!AB46","v":""},{"$f":"集計!AC46","v":""},{"$f":"集計!AD46","v":""},{"$f":"集計!AE46","v":""},{"$f":"集計!AF46","v":""},{"$f":"集計!AG46","v":""},{"$f":"集計!AH46","v":""},{"$f":"集計!AI46","v":""},{"$f":"集計!AJ46","v":""},{"$f":"集計!AK46","v":""},{"$f":"集計!AL46","v":""},{"$f":"集計!AM46","v":""},{"$f":"集計!AN46","v":0}]
[15,{"$f":"集計!C47","v":{"$error":"#N/A"}},{"$f":"集計!E47","v":{"$error":"#N/A"}},{"$f":"集計!F47","v":{"$error":"#N/A"}},{"$f":"集計!G47","v":{"$error":"#N/A"}},"通　い",{"$f":"集計!I47","v":1},{"$f":"集計!J47","v":1},{"$f":"集計!K47","v":1},{"$f":"集計!L47","v":1},{"$f":"集計!M47","v":1},{"$f":"集計!N47","v":1},{"$f":"集計!O47","v":1},{"$f":"集計!P47","v":1},{"$f":"集計!Q47","v":1},{"$f":"集計!R47","v":1},{"$f":"集計!S47","v":1},{"$f":"集計!T47","v":1},{"$f":"集計!U47","v":1},{"$f":"集計!V47","v":1},{"$f":"集計!W47","v":1},{"$f":"集計!X47","v":1},{"$f":"集計!Y47","v":1},{"$f":"集計!Z47","v":1},{"$f":"集計!AA47","v":1},{"$f":"集計!AB47","v":1},{"$f":"集計!AC47","v":1},{"$f":"集計!AD47","v":1},{"$f":"集計!AE47","v":1},{"$f":"集計!AF47","v":1},{"$f":"集計!AG47","v":1},{"$f":"集計!AH47","v":1},{"$f":"集計!AI47","v":1},{"$f":"集計!AJ47","v":1},{"$f":"集計!AK47","v":1},{"$f":"集計!AL47","v":1},{"$f":"集計!AM47","v":1},{"$f":"集計!AN47","v":31}]
[null,null,null,null,null,"泊まり",{"$f":"集計!I48","v":""},{"$f":"集計!J48","v":""},{"$f":"集計!K48","v":""},{"$f":"集計!L48","v":""},{"$f":"集計!M48","v":""},{"$f":"集計!N48","v":""},{"$f":"集計!O48","v":""},{"$f":"集計!P48","v":""},{"$f":"集計!Q48","v":""},{"$f":"集計!R48","v":""},{"$f":"集計!S48","v":""},{"$f":"集計!T48","v":""},{"$f":"集計!U48","v":""},{"$f":"集計!V48","v":""},{"$f":"集計!W48","v":""},{"$f":"集計!X48","v":""},{"$f":"集計!Y48","v":""},{"$f":"集計!Z48","v":""},{"$f":"集計!AA48","v":""},{"$f":"集計!AB48","v":""},{"$f":"集計!AC48","v":""},{"$f":"集計!AD48","v":""},{"$f":"集計!AE48","v":""},{"$f":"集計!AF48","v":""},{"$f":"集計!AG48","v":""},{"$f":"集計!AH48","v":""},{"$f":"集計!AI48","v":""},{"$f":"集計!AJ48","v":""},{"$f":"集計!AK48","v":""},{"$f":"集計!AL48","v":""},{"$f":"集計!AM48","v":""},{"$f":"集計!AN48","v":0}]
[null,null,null,null,null,"訪　問",{"$f":"集計!I49","v":""},{"$f":"集計!J49","v":""},{"$f":"集計!K49","v":""},{"$f":"集計!L49","v":""},{"$f":"集計!M49","v":""},{"$f":"集計!N49","v":""},{"$f":"集計!O49","v":""},{"$f":"集計!P49","v":""},{"$f":"集計!Q49","v":""},{"$f":"集計!R49","v":""},{"$f":"集計!S49","v":""},{"$f":"集計!T49","v":""},{"$f":"集計!U49","v":""},{"$f":"集計!V49","v":""},{"$f":"集計!W49","v":""},{"$f":"集計!X49","v":""},{"$f":"集計!Y49","v":""},{"$f":"集計!Z49","v":""},{"$f":"集計!AA49","v":""},{"$f":"集計!AB49","v":""},{"$f":"集計!AC49","v":""},{"$f":"集計!AD49","v":""},{"$f":"集計!AE49","v":""},{"$f":"集計!AF49","v":""},{"$f":"集計!AG49","v":""},{"$f":"集計!AH49","v":""},{"$f":"集計!AI49","v":""},{"$f":"集計!AJ49","v":""},{"$f":"集計!AK49","v":""},{"$f":"集計!AL49","v":""},{"$f":"集計!AM49","v":""},{"$f":"集計!AN49","v":0}]
[16,{"$f":"集計!C50","v":{"$error":"#N/A"}},{"$f":"集計!E50","v":{"$error":"#N/A"}},{"$f":"集計!F50","v":{"$error":"#N/A"}},{"$f":"集計!G50","v":{"$error":"#N/A"}},"通　い",{"$f":"集計!I50","v":1},{"$f":"集計!J50","v":1},{"$f":"集計!K50","v":1},{"$f":"集計!L50","v":1},{"$f":"集計!M50","v":1},{"$f":"集計!N50","v":1},{"$f":"集計!O50","v":1},{"$f":"集計!P50","v":1},{"$f":"集計!Q50","v":1},{"$f":"集計!R50","v":1},{"$f":"集計!S50","v":1},{"$f":"集計!T50","v":1},{"$f":"集計!U50","v":1},{"$f":"集計!V50","v":1},{"$f":"集計!W50","v":1},{"$f":"集計!X50","v":1},{"$f":"集計!Y50","v":1},{"$f":"集計!Z50","v":1},{"$f":"集計!AA50","v":1},{"$f":"集計!AB50","v":1},{"$f":"集計!AC50","v":1},{"$f":"集計!AD50","v":1},{"$f":"集計!AE50","v":1},{"$f":"集計!AF50","v":1},{"$f":"集計!AG50","v":1},{"$f":"集計!AH50","v":1},{"$f":"集計!AI50","v":1},{"$f":"集計!AJ50","v":1},{"$f":"集計!AK50","v":1},{"$f":"集計!AL50","v":1},{"$f":"集計!AM50","v":1},{"$f":"集計!AN50","v":31}]
[null,null,null,null,null,"泊まり",{"$f":"集計!I51","v":""},{"$f":"集計!J51","v":""},{"$f":"集計!K51","v":""},{"$f":"集計!L51","v":""},{"$f":"集計!M51","v":""},{"$f":"集計!N51","v":""},{"$f":"集計!O51","v":""},{"$f":"集計!P51","v":""},{"$f":"集計!Q51","v":""},{"$f":"集計!R51","v":""},{"$f":"集計!S51","v":""},{"$f":"集計!T51","v":""},{"$f":"集計!U51","v":""},{"$f":"集計!V51","v":""},{"$f":"集計!W51","v":""},{"$f":"集計!X51","v":""},{"$f":"集計!Y51","v":""},{"$f":"集計!Z51","v":""},{"$f":"集計!AA51","v":""},{"$f":"集計!AB51","v":""},{"$f":"集計!AC51","v":""},{"$f":"集計!AD51","v":""},{"$f":"集計!AE51","v":""},{"$f":"集計!AF51","v":""},{"$f":"集計!AG51","v":""},{"$f":"集計!AH51","v":""},{"$f":"集計!AI51","v":""},{"$f":"集計!AJ51","v":""},{"$f":"集計!AK51","v":""},{"$f":"集計!AL51","v":""},{"$f":"集計!AM51","v":""},{"$f":"集計!AN51","v":0}]
[null,null,null,null,null,"訪　問",{"$f":"集計!I52","v":""},{"$f":"集計!J52","v":""},{"$f":"集計!K52","v":""},{"$f":"集計!L52","v":""},{"$f":"集計!M52","v":""},{"$f":"集計!N52","v":""},{"$f":"集計!O52","v":""},{"$f":"集計!P52","v":""},{"$f":"集計!Q52","v":""},{"$f":"集計!R52","v":""},{"$f":"集計!S52","v":""},{"$f":"集計!T52","v":""},{"$f":"集計!U52","v":""},{"$f":"集計!V52","v":""},{"$f":"集計!W52","v":""},{"$f":"集計!X52","v":""},{"$f":"集計!Y52","v":""},{"$f":"集計!Z52","v":""},{"$f":"集計!AA52","v":""},{"$f":"集計!AB52","v":""},{"$f":"集計!AC52","v":""},{"$f":"集計!AD52","v":""},{"$f":"集計!AE52","v":""},{"$f":"集計!AF52","v":""},{"$f":"集計!AG52","v":""},{"$f":"集計!AH52","v":""},{"$f":"集計!AI52","v":""},{"$f":"集計!AJ52","v":""},{"$f":"集計!AK52","v":""},{"$f":"集計!AL52","v":""},{"$f":"集計!AM52","v":""},{"$f":"集計!AN52","v":0}]
[17,{"$f":"集計!C53","v":{"$error":"#N/A"}},{"$f":"集計!E53","v":{"$error":"#N/A"}},{"$f":"集計!F53","v":{"$error":"#N/A"}},{"$f":"集計!G53","v":{"$error":"#N/A"}},"通　い",{"$f":"集計!I53","v":1},{"$f":"集計!J53","v":1},{"$f":"集計!K53","v":1},{"$f":"集計!L53","v":1},{"$f":"集計!M53","v":1},{"$f":"集計!N53","v":1},{"$f":"集計!O53","v":1},{"$f":"集計!P53","v":1},{"$f":"集計!Q53","v":1},{"$f":"集計!R53","v":1},{"$f":"集計!S53","v":1},{"$f":"集計!T53","v":1},{"$f":"集計!U53","v":1},{"$f":"集計!V53","v":1},{"$f":"集計!W53","v":1},{"$f":"集計!X53","v":1},{"$f":"集計!Y53","v":1},{"$f":"集計!Z53","v":1},{"$f":"集計!AA53","v":1},{"$f":"集計!AB53","v":1},{"$f":"集計!AC53","v":1},{"$f":"集計!AD53","v":1},{"$f":"集計!AE53","v":1},{"$f":"集計!AF53","v":1},{"$f":"集計!AG53","v":1},{"$f":"集計!AH53","v":1},{"$f":"集計!AI53","v":1},{"$f":"集計!AJ53","v":1},{"$f":"集計!AK53","v":1},{"$f":"集計!AL53","v":1},{"$f":"集計!AM53","v":1},{"$f":"集計!AN53","v":31}]
[null,null,null,null,null,"泊まり",{"$f":"集計!I54","v":""},{"$f":"集計!J54","v":""},{"$f":"集計!K54","v":""},{"$f":"集計!L54","v":""},{"$f":"集計!M54","v":""},{"$f":"集計!N54","v":""},{"$f":"集計!O54","v":""},{"$f":"集計!P54","v":""},{"$f":"集計!Q54","v":""},{"$f":"集計!R54","v":""},{"$f":"集計!S54","v":""},{"$f":"集計!T54","v":""},{"$f":"集計!U54","v":""},{"$f":"集計!V54","v":""},{"$f":"集計!W54","v":""},{"$f":"集計!X54","v":""},{"$f":"集計!Y54","v":""},{"$f":"集計!Z54","v":""},{"$f":"集計!AA54","v":""},{"$f":"集計!AB54","v":""},{"$f":"集計!AC54","v":""},{"$f":"集計!AD54","v":""},{"$f":"集計!AE54","v":""},{"$f":"集計!AF54","v":""},{"$f":"集計!AG54","v":""},{"$f":"集計!AH54","v":""},{"$f":"集計!AI54","v":""},{"$f":"集計!AJ54","v":""},{"$f":"集計!AK54","v":""},{"$f":"集計!AL54","v":""},{"$f":"集計!AM54","v":""},{"$f":"集計!AN54","v":0}]
[null,null,null,null,null,"訪　問",{"$f":"集計!I55","v":""},{"$f":"集計!J55","v":""},{"$f":"集計!K55","v":""},{"$f":"集計!L55","v":""},{"$f":"集計!M55","v":""},{"$f":"集計!N55","v":""},{"$f":"集計!O55","v":""},{"$f":"集計!P55","v":""},{"$f":"集計!Q55","v":""},{"$f":"集計!R55","v":""},{"$f":"集計!S55","v":""},{"$f":"集計!T55","v":""},{"$f":"集計!U55","v":""},{"$f":"集計!V55","v":""},{"$f":"集計!W55","v":""},{"$f":"集計!X55","v":""},{"$f":"集計!Y55","v":""},{"$f":"集計!Z55","v":""},{"$f":"集計!AA55","v":""},{"$f":"集計!AB55","v":""},{"$f":"集計!AC55","v":""},{"$f":"集計!AD55","v":""},{"$f":"集計!AE55","v":""},{"$f":"集計!AF55","v":""},{"$f":"集計!AG55","v":""},{"$f":"集計!AH55","v":""},{"$f":"集計!AI55","v":""},{"$f":"集計!AJ55","v":""},{"$f":"集計!AK55","v":""},{"$f":"集計!AL55","v":""},{"$f":"集計!AM55","v":""},{"$f":"集計!AN55","v":0}]
[18,{"$f":"集計!C56","v":{"$error":"#N/A"}},{"$f":"集計!E56","v":{"$error":"#N/A"}},{"$f":"集計!F56","v":{"$error":"#N/A"}},{"$f":"集計!G56","v":{"$error":"#N/A"}},"通　い",{"$f":"集計!I56","v":1},{"$f":"集計!J56","v":1},{"$f":"集計!K56","v":1},{"$f":"集計!L56","v":1},{"$f":"集計!M56","v":1},{"$f":"集計!N56","v":1},{"$f":"集計!O56","v":1},{"$f":"集計!P56","v":1},{"$f":"集計!Q56","v":1},{"$f":"集計!R56","v":1},{"$f":"集計!S56","v":1},{"$f":"集計!T56","v":1},{"$f":"集計!U56","v":1},{"$f":"集計!V56","v":1},{"$f":"集計!W56","v":1},{"$f":"集計!X56","v":1},{"$f":"集計!Y56","v":1},{"$f":"集計!Z56","v":1},{"$f":"集計!AA56","v":1},{"$f":"集計!AB56","v":1},{"$f":"集計!AC56","v":1},{"$f":"集計!AD56","v":1},{"$f":"集計!AE56","v":1},{"$f":"集計!AF56","v":1},{"$f":"集計!AG56","v":1},{"$f":"集計!AH56","v":1},{"$f":"集計!AI56","v":1},{"$f":"集計!AJ56","v":1},{"$f":"集計!AK56","v":1},{"$f":"集計!AL56","v":1},{"$f":"集計!AM56","v":1},{"$f":"集計!AN56","v":31}]
[null,null,null,null,null,"泊まり",{"$f":"集計!I57","v":""},{"$f":"集計!J57","v":""},{"$f":"集計!K57","v":""},{"$f":"集計!L57","v":""},{"$f":"集計!M57","v":""},{"$f":"集計!N57","v":""},{"$f":"集計!O57","v":""},{"$f":"集計!P57","v":""},{"$f":"集計!Q57","v":""},{"$f":"集計!R57","v":""},{"$f":"集計!S57","v":""},{"$f":"集計!T57","v":""},{"$f":"集計!U57","v":""},{"$f":"集計!V57","v":""},{"$f":"集計!W57","v":""},{"$f":"集計!X57","v":""},{"$f":"集計!Y57","v":""},{"$f":"集計!Z57","v":""},{"$f":"集計!AA57","v":""},{"$f":"集計!AB57","v":""},{"$f":"集計!AC57","v":""},{"$f":"集計!AD57","v":""},{"$f":"集計!AE57","v":""},{"$f":"集計!AF57","v":""},{"$f":"集計!AG57","v":""},{"$f":"集計!AH57","v":""},{"$f":"集計!AI57","v":""},{"$f":"集計!AJ57","v":""},{"$f":"集計!AK57","v":""},{"$f":"集計!AL57","v":""},{"$f":"集計!AM57","v":""},{"$f":"集計!AN57","v":0}]
[null,null,null,null,null,"訪　問",{"$f":"集計!I58","v":""},{"$f":"集計!J58","v":""},{"$f":"集計!K58","v":""},{"$f":"集計!L58","v":""},{"$f":"集計!M58","v":""},{"$f":"集計!N58","v":""},{"$f":"集計!O58","v":""},{"$f":"集計!P58","v":""},{"$f":"集計!Q58","v":""},{"$f":"集計!R58","v":""},{"$f":"集計!S58","v":""},{"$f":"集計!T58","v":""},{"$f":"集計!U58","v":""},{"$f":"集計!V58","v":""},{"$f":"集計!W58","v":""},{"$f":"集計!X58","v":""},{"$f":"集計!Y58","v":""},{"$f":"集計!Z58","v":""},{"$f":"集計!AA58","v":""},{"$f":"集計!AB58","v":""},{"$f":"集計!AC58","v":""},{"$f":"集計!AD58","v":""},{"$f":"集計!AE58","v":""},{"$f":"集計!AF58","v":""},{"$f":"集計!AG58","v":""},{"$f":"集計!AH58","v":""},{"$f":"集計!AI58","v":""},{"$f":"集計!AJ58","v":""},{"$f":"集計!AK58","v":""},{"$f":"集計!AL58","v":""},{"$f":"集計!AM58","v":""},{"$f":"集計!AN58","v":0}]
[19,{"$f":"集計!C59","v":{"$error":"#N/A"}},{"$f":"集計!E59","v":{"$error":"#N/A"}},{"$f":"集計!F59","v":{"$error":"#N/A"}},{"$f":"集計!G59","v":{"$error":"#N/A"}},"通　い",{"$f":"集計!I59","v":1},{"$f":"集計!J59","v":1},{"$f":"集計!K59","v":1},{"$f":"集計!L59","v":1},{"$f":"集計!M59","v":1},{"$f":"集計!N59","v":1},{"$f":"集計!O59","v":1},{"$f":"集計!P59","v":1},{"$f":"集計!Q59","v":1},{"$f":"集計!R59","v":1},{"$f":"集計!S59","v":1},{"$f":"集計!T59","v":1},{"$f":"集計!U59","v":1},{"$f":"集計!V59","v":1},{"$f":"集計!W59","v":1},{"$f":"集計!X59","v":1},{"$f":"集計!Y59","v":1},{"$f":"集計!Z59","v":1},{"$f":"集計!AA59","v":1},{"$f":"集計!AB59","v":1},{"$f":"集計!AC59","v":1},{"$f":"集計!AD59","v":1},{"$f":"集計!AE59","v":1},{"$f":"集計!AF59","v":1},{"$f":"集計!AG59","v":1},{"$f":"集計!AH59","v":1},{"$f":"集計!AI59","v":1},{"$f":"集計!AJ59","v":1},{"$f":"集計!AK59","v":1},{"$f":"集計!AL59","v":1},{"$f":"集計!AM59","v":1},{"$f":"集計!AN59","v":31}]
[null,null,null,null,null,"泊まり",{"$f":"集計!I60","v":""},{"$f":"集計!J60","v":""},{"$f":"集計!K60","v":""},{"$f":"集計!L60","v":""},{"$f":"集計!M60","v":""},{"$f":"集計!N60","v":""},{"$f":"集計!O60","v":""},{"$f":"集計!P60","v":""},{"$f":"集計!Q60","v":""},{"$f":"集計!R60","v":""},{"$f":"集計!S60","v":""},{"$f":"集計!T60","v":""},{"$f":"集計!U60","v":""},{"$f":"集計!V60","v":""},{"$f":"集計!W60","v":""},{"$f":"集計!X60","v":""},{"$f":"集計!Y60","v":""},{"$f":"集計!Z60","v":""},{"$f":"集計!AA60","v":""},{"$f":"集計!AB60","v":""},{"$f":"集計!AC60","v":""},{"$f":"集計!AD60","v":""},{"$f":"集計!AE60","v":""},{"$f":"集計!AF60","v":""},{"$f":"集計!AG60","v":""},{"$f":"集計!AH60","v":""},{"$f":"集計!AI60","v":""},{"$f":"集計!AJ60","v":""},{"$f":"集計!AK60","v":""},{"$f":"集計!AL60","v":""},{"$f":"集計!AM60","v":""},{"$f":"集計!AN60","v":0}]
[null,null,null,null,null,"訪　問",{"$f":"集計!I61","v":""},{"$f":"集計!J61","v":""},{"$f":"集計!K61","v":""},{"$f":"集計!L61","v":""},{"$f":"集計!M61","v":""},{"$f":"集計!N61","v":""},{"$f":"集計!O61","v":""},{"$f":"集計!P61","v":""},{"$f":"集計!Q61","v":""},{"$f":"集計!R61","v":""},{"$f":"集計!S61","v":""},{"$f":"集計!T61","v":""},{"$f":"集計!U61","v":""},{"$f":"集計!V61","v":""},{"$f":"集計!W61","v":""},{"$f":"集計!X61","v":""},{"$f":"集計!Y61","v":""},{"$f":"集計!Z61","v":""},{"$f":"集計!AA61","v":""},{"$f":"集計!AB61","v":""},{"$f":"集計!AC61","v":""},{"$f":"集計!AD61","v":""},{"$f":"集計!AE61","v":""},{"$f":"集計!AF61","v":""},{"$f":"集計!AG61","v":""},{"$f":"集計!AH61","v":""},{"$f":"集計!AI61","v":""},{"$f":"集計!AJ61","v":""},{"$f":"集計!AK61","v":""},{"$f":"集計!AL61","v":""},{"$f":"集計!AM61","v":""},{"$f":"集計!AN61","v":0}]
[20,{"$f":"集計!C62","v":{"$error":"#N/A"}},{"$f":"集計!E62","v":{"$error":"#N/A"}},{"$f":"集計!F62","v":{"$error":"#N/A"}},{"$f":"集計!G62","v":{"$error":"#N/A"}},"通　い",{"$f":"集計!I62","v":1},{"$f":"集計!J62","v":1},{"$f":"集計!K62","v":1},{"$f":"集計!L62","v":1},{"$f":"集計!M62","v":1},{"$f":"集計!N62","v":1},{"$f":"集計!O62","v":1},{"$f":"集計!P62","v":1},{"$f":"集計!Q62","v":1},{"$f":"集計!R62","v":1},{"$f":"集計!S62","v":1},{"$f":"集計!T62","v":1},{"$f":"集計!U62","v":1},{"$f":"集計!V62","v":1},{"$f":"集計!W62","v":1},{"$f":"集計!X62","v":1},{"$f":"集計!Y62","v":1},{"$f":"集計!Z62","v":1},{"$f":"集計!AA62","v":1},{"$f":"集計!AB62","v":1},{"$f":"集計!AC62","v":1},{"$f":"集計!AD62","v":1},{"$f":"集計!AE62","v":1},{"$f":"集計!AF62","v":1},{"$f":"集計!AG62","v":1},{"$f":"集計!AH62","v":1},{"$f":"集計!AI62","v":1},{"$f":"集計!AJ62","v":1},{"$f":"集計!AK62","v":1},{"$f":"集計!AL62","v":1},{"$f":"集計!AM62","v":1},{"$f":"集計!AN62","v":31}]
[null,null,null,null,null,"泊まり",{"$f":"集計!I63","v":""},{"$f":"集計!J63","v":""},{"$f":"集計!K63","v":""},{"$f":"集計!L63","v":""},{"$f":"集計!M63","v":""},{"$f":"集計!N63","v":""},{"$f":"集計!O63","v":""},{"$f":"集計!P63","v":""},{"$f":"集計!Q63","v":""},{"$f":"集計!R63","v":""},{"$f":"集計!S63","v":""},{"$f":"集計!T63","v":""},{"$f":"集計!U63","v":""},{"$f":"集計!V63","v":""},{"$f":"集計!W63","v":""},{"$f":"集計!X63","v":""},{"$f":"集計!Y63","v":""},{"$f":"集計!Z63","v":""},{"$f":"集計!AA63","v":""},{"$f":"集計!AB63","v":""},{"$f":"集計!AC63","v":""},{"$f":"集計!AD63","v":""},{"$f":"集計!AE63","v":""},{"$f":"集計!AF63","v":""},{"$f":"集計!AG63","v":""},{"$f":"集計!AH63","v":""},{"$f":"集計!AI63","v":""},{"$f":"集計!AJ63","v":""},{"$f":"集計!AK63","v":""},{"$f":"集計!AL63","v":""},{"$f":"集計!AM63","v":""},{"$f":"集計!AN63","v":0}]
[null,null,null,null,null,"訪　問",{"$f":"集計!I64","v":""},{"$f":"集計!J64","v":""},{"$f":"集計!K64","v":""},{"$f":"集計!L64","v":""},{"$f":"集計!M64","v":""},{"$f":"集計!N64","v":""},{"$f":"集計!O64","v":""},{"$f":"集計!P64","v":""},{"$f":"集計!Q64","v":""},{"$f":"集計!R64","v":""},{"$f":"集計!S64","v":""},{"$f":"集計!T64","v":""},{"$f":"集計!U64","v":""},{"$f":"集計!V64","v":""},{"$f":"集計!W64","v":""},{"$f":"集計!X64","v":""},{"$f":"集計!Y64","v":""},{"$f":"集計!Z64","v":""},{"$f":"集計!AA64","v":""},{"$f":"集計!AB64","v":""},{"$f":"集計!AC64","v":""},{"$f":"集計!AD64","v":""},{"$f":"集計!AE64","v":""},{"$f":"集計!AF64","v":""},{"$f":"集計!AG64","v":""},{"$f":"集計!AH64","v":""},{"$f":"集計!AI64","v":""},{"$f":"集計!AJ64","v":""},{"$f":"集計!AK64","v":""},{"$f":"集計!AL64","v":""},{"$f":"集計!AM64","v":""},{"$f":"集計!AN64","v":0}]
[21,{"$f":"集計!C65","v":{"$error":"#N/A"}},{"$f":"集計!E65","v":{"$error":"#N/A"}},{"$f":"集計!F65","v":{"$error":"#N/A"}},{"$f":"集計!G65","v":{"$error":"#N/A"}},"通　い",{"$f":"集計!I65","v":1},{"$f":"集計!J65","v":1},{"$f":"集計!K65","v":1},{"$f":"集計!L65","v":1},{"$f":"集計!M65","v":1},{"$f":"集計!N65","v":1},{"$f":"集計!O65","v":1},{"$f":"集計!P65","v":1},{"$f":"集計!Q65","v":1},{"$f":"集計!R65","v":1},{"$f":"集計!S65","v":1},{"$f":"集計!T65","v":1},{"$f":"集計!U65","v":1},{"$f":"集計!V65","v":1},{"$f":"集計!W65","v":1},{"$f":"集計!X65","v":1},{"$f":"集計!Y65","v":1},{"$f":"集計!Z65","v":1},{"$f":"集計!AA65","v":1},{"$f":"集計!AB65","v":1},{"$f":"集計!AC65","v":1},{"$f":"集計!AD65","v":1},{"$f":"集計!AE65","v":1},{"$f":"集計!AF65","v":1},{"$f":"集計!AG65","v":1},{"$f":"集計!AH65","v":1},{"$f":"集計!AI65","v":1},{"$f":"集計!AJ65","v":1},{"$f":"集計!AK65","v":1},{"$f":"集計!AL65","v":1},{"$f":"集計!AM65","v":1},{"$f":"集計!AN65","v":31}]
[null,null,null,null,null,"泊まり",{"$f":"集計!I66","v":""},{"$f":"集計!J66","v":""},{"$f":"集計!K66","v":""},{"$f":"集計!L66","v":""},{"$f":"集計!M66","v":""},{"$f":"集計!N66","v":""},{"$f":"集計!O66","v":""},{"$f":"集計!P66","v":""},{"$f":"集計!Q66","v":""},{"$f":"集計!R66","v":""},{"$f":"集計!S66","v":""},{"$f":"集計!T66","v":""},{"$f":"集計!U66","v":""},{"$f":"集計!V66","v":""},{"$f":"集計!W66","v":""},{"$f":"集計!X66","v":""},{"$f":"集計!Y66","v":""},{"$f":"集計!Z66","v":""},{"$f":"集計!AA66","v":""},{"$f":"集計!AB66","v":""},{"$f":"集計!AC66","v":""},{"$f":"集計!AD66","v":""},{"$f":"集計!AE66","v":""},{"$f":"集計!AF66","v":""},{"$f":"集計!AG66","v":""},{"$f":"集計!AH66","v":""},{"$f":"集計!AI66","v":""},{"$f":"集計!AJ66","v":""},{"$f":"集計!AK66","v":""},{"$f":"集計!AL66","v":""},{"$f":"集計!AM66","v":""},{"$f":"集計!AN66","v":0}]
[null,null,null,null,null,"訪　問",{"$f":"集計!I67","v":""},{"$f":"集計!J67","v":""},{"$f":"集計!K67","v":""},{"$f":"集計!L67","v":""},{"$f":"集計!M67","v":""},{"$f":"集計!N67","v":""},{"$f":"集計!O67","v":""},{"$f":"集計!P67","v":""},{"$f":"集計!Q67","v":""},{"$f":"集計!R67","v":""},{"$f":"集計!S67","v":""},{"$f":"集計!T67","v":""},{"$f":"集計!U67","v":""},{"$f":"集計!V67","v":""},{"$f":"集計!W67","v":""},{"$f":"集計!X67","v":""},{"$f":"集計!Y67","v":""},{"$f":"集計!Z67","v":""},{"$f":"集計!AA67","v":""},{"$f":"集計!AB67","v":""},{"$f":"集計!AC67","v":""},{"$f":"集計!AD67","v":""},{"$f":"集計!AE67","v":""},{"$f":"集計!AF67","v":""},{"$f":"集計!AG67","v":""},{"$f":"集計!AH67","v":""},{"$f":"集計!AI67","v":""},{"$f":"集計!AJ67","v":""},{"$f":"集計!AK67","v":""},{"$f":"集計!AL67","v":""},{"$f":"集計!AM67","v":""},{"$f":"集計!AN67","v":0}]
[22,{"$f":"集計!C68","v":{"$error":"#N/A"}},{"$f":"集計!E68","v":{"$error":"#N/A"}},{"$f":"集計!F68","v":{"$error":"#N/A"}},{"$f":"集計!G68","v":{"$error":"#N/A"}},"通　い",{"$f":"集計!I68","v":1},{"$f":"集計!J68","v":1},{"$f":"集計!K68","v":1},{"$f":"集計!L68","v":1},{"$f":"集計!M68","v":1},{"$f":"集計!N68","v":1},{"$f":"集計!O68","v":1},{"$f":"集計!P68","v":1},{"$f":"集計!Q68","v":1},{"$f":"集計!R68","v":1},{"$f":"集計!S68","v":1},{"$f":"集計!T68","v":1},{"$f":"集計!U68","v":1},{"$f":"集計!V68","v":1},{"$f":"集計!W68","v":1},{"$f":"集計!X68","v":1},{"$f":"集計!Y68","v":1},{"$f":"集計!Z68","v":1},{"$f":"集計!AA68","v":1},{"$f":"集計!AB68","v":1},{"$f":"集計!AC68","v":1},{"$f":"集計!AD68","v":1},{"$f":"集計!AE68","v":1},{"$f":"集計!AF68","v":1},{"$f":"集計!AG68","v":1},{"$f":"集計!AH68","v":1},{"$f":"集計!AI68","v":1},{"$f":"集計!AJ68","v":1},{"$f":"集計!AK68","v":1},{"$f":"集計!AL68","v":1},{"$f":"集計!AM68","v":1},{"$f":"集計!AN68","v":31}]
[null,null,null,null,null,"泊まり",{"$f":"集計!I69","v":""},{"$f":"集計!J69","v":""},{"$f":"集計!K69","v":""},{"$f":"集計!L69","v":""},{"$f":"集計!M69","v":""},{"$f":"集計!N69","v":""},{"$f":"集計!O69","v":""},{"$f":"集計!P69","v":""},{"$f":"集計!Q69","v":""},{"$f":"集計!R69","v":""},{"$f":"集計!S69","v":""},{"$f":"集計!T69","v":""},{"$f":"集計!U69","v":""},{"$f":"集計!V69","v":""},{"$f":"集計!W69","v":""},{"$f":"集計!X69","v":""},{"$f":"集計!Y69","v":""},{"$f":"集計!Z69","v":""},{"$f":"集計!AA69","v":""},{"$f":"集計!AB69","v":""},{"$f":"集計!AC69","v":""},{"$f":"集計!AD69","v":""},{"$f":"集計!AE69","v":""},{"$f":"集計!AF69","v":""},{"$f":"集計!AG69","v":""},{"$f":"集計!AH69","v":""},{"$f":"集計!AI69","v":""},{"$f":"集計!AJ69","v":""},{"$f":"集計!AK69","v":""},{"$f":"集計!AL69","v":""},{"$f":"集計!AM69","v":""},{"$f":"集計!AN69","v":0}]
[null,null,null,null,null,"訪　問",{"$f":"集計!I70","v":""},{"$f":"集計!J70","v":""},{"$f":"集計!K70","v":""},{"$f":"集計!L70","v":""},{"$f":"集計!M70","v":""},{"$f":"集計!N70","v":""},{"$f":"集計!O70","v":""},{"$f":"集計!P70","v":""},{"$f":"集計!Q70","v":""},{"$f":"集計!R70","v":""},{"$f":"集計!S70","v":""},{"$f":"集計!T70","v":""},{"$f":"集計!U70","v":""},{"$f":"集計!V70","v":""},{"$f":"集計!W70","v":""},{"$f":"集計!X70","v":""},{"$f":"集計!Y70","v":""},{"$f":"集計!Z70","v":""},{"$f":"集計!AA70","v":""},{"$f":"集計!AB70","v":""},{"$f":"集計!AC70","v":""},{"$f":"集計!AD70","v":""},{"$f":"集計!AE70","v":""},{"$f":"集計!AF70","v":""},{"$f":"集計!AG70","v":""},{"$f":"集計!AH70","v":""},{"$f":"集計!AI70","v":""},{"$f":"集計!AJ70","v":""},{"$f":"集計!AK70","v":""},{"$f":"集計!AL70","v":""},{"$f":"集計!AM70","v":""},{"$f":"集計!AN70","v":0}]
[23,{"$f":"集計!C71","v":{"$error":"#N/A"}},{"$f":"集計!E71","v":{"$error":"#N/A"}},{"$f":"集計!F71","v":{"$error":"#N/A"}},{"$f":"集計!G71","v":{"$error":"#N/A"}},"通　い",{"$f":"集計!I71","v":1},{"$f":"集計!J71","v":1},{"$f":"集計!K71","v":1},{"$f":"集計!L71","v":1},{"$f":"集計!M71","v":1},{"$f":"集計!N71","v":1},{"$f":"集計!O71","v":1},{"$f":"集計!P71","v":1},{"$f":"集計!Q71","v":1},{"$f":"集計!R71","v":1},{"$f":"集計!S71","v":1},{"$f":"集計!T71","v":1},{"$f":"集計!U71","v":1},{"$f":"集計!V71","v":1},{"$f":"集計!W71","v":1},{"$f":"集計!X71","v":1},{"$f":"集計!Y71","v":1},{"$f":"集計!Z71","v":1},{"$f":"集計!AA71","v":1},{"$f":"集計!AB71","v":1},{"$f":"集計!AC71","v":1},{"$f":"集計!AD71","v":1},{"$f":"集計!AE71","v":1},{"$f":"集計!AF71","v":1},{"$f":"集計!AG71","v":1},{"$f":"集計!AH71","v":1},{"$f":"集計!AI71","v":1},{"$f":"集計!AJ71","v":1},{"$f":"集計!AK71","v":1},{"$f":"集計!AL71","v":1},{"$f":"集計!AM71","v":1},{"$f":"集計!AN71","v":31}]
[null,null,null,null,null,"泊まり",{"$f":"集計!I72","v":""},{"$f":"集計!J72","v":""},{"$f":"集計!K72","v":""},{"$f":"集計!L72","v":""},{"$f":"集計!M72","v":""},{"$f":"集計!N72","v":""},{"$f":"集計!O72","v":""},{"$f":"集計!P72","v":""},{"$f":"集計!Q72","v":""},{"$f":"集計!R72","v":""},{"$f":"集計!S72","v":""},{"$f":"集計!T72","v":""},{"$f":"集計!U72","v":""},{"$f":"集計!V72","v":""},{"$f":"集計!W72","v":""},{"$f":"集計!X72","v":""},{"$f":"集計!Y72","v":""},{"$f":"集計!Z72","v":""},{"$f":"集計!AA72","v":""},{"$f":"集計!AB72","v":""},{"$f":"集計!AC72","v":""},{"$f":"集計!AD72","v":""},{"$f":"集計!AE72","v":""},{"$f":"集計!AF72","v":""},{"$f":"集計!AG72","v":""},{"$f":"集計!AH72","v":""},{"$f":"集計!AI72","v":""},{"$f":"集計!AJ72","v":""},{"$f":"集計!AK72","v":""},{"$f":"集計!AL72","v":""},{"$f":"集計!AM72","v":""},{"$f":"集計!AN72","v":0}]
[null,null,null,null,null,"訪　問",{"$f":"集計!I73","v":""},{"$f":"集計!J73","v":""},{"$f":"集計!K73","v":""},{"$f":"集計!L73","v":""},{"$f":"集計!M73","v":""},{"$f":"集計!N73","v":""},{"$f":"集計!O73","v":""},{"$f":"集計!P73","v":""},{"$f":"集計!Q73","v":""},{"$f":"集計!R73","v":""},{"$f":"集計!S73","v":""},{"$f":"集計!T73","v":""},{"$f":"集計!U73","v":""},{"$f":"集計!V73","v":""},{"$f":"集計!W73","v":""},{"$f":"集計!X73","v":""},{"$f":"集計!Y73","v":""},{"$f":"集計!Z73","v":""},{"$f":"集計!AA73","v":""},{"$f":"集計!AB73","v":""},{"$f":"集計!AC73","v":""},{"$f":"集計!AD73","v":""},{"$f":"集計!AE73","v":""},{"$f":"集計!AF73","v":""},{"$f":"集計!AG73","v":""},{"$f":"集計!AH73","v":""},{"$f":"集計!AI73","v":""},{"$f":"集計!AJ73","v":""},{"$f":"集計!AK73","v":""},{"$f":"集計!AL73","v":""},{"$f":"集計!AM73","v":""},{"$f":"集計!AN73","v":0}]
[24,{"$f":"集計!C74","v":{"$error":"#N/A"}},{"$f":"集計!E74","v":{"$error":"#N/A"}},{"$f":"集計!F74","v":{"$error":"#N/A"}},{"$f":"集計!G74","v":{"$error":"#N/A"}},"通　い",{"$f":"集計!I74","v":1},{"$f":"集計!J74","v":1},{"$f":"集計!K74","v":1},{"$f":"集計!L74","v":1},{"$f":"集計!M74","v":1},{"$f":"集計!N74","v":1},{"$f":"集計!O74","v":1},{"$f":"集計!P74","v":1},{"$f":"集計!Q74","v":1},{"$f":"集計!R74","v":1},{"$f":"集計!S74","v":1},{"$f":"集計!T74","v":1},{"$f":"集計!U74","v":1},{"$f":"集計!V74","v":1},{"$f":"集計!W74","v":1},{"$f":"集計!X74","v":1},{"$f":"集計!Y74","v":1},{"$f":"集計!Z74","v":1},{"$f":"集計!AA74","v":1},{"$f":"集計!AB74","v":1},{"$f":"集計!AC74","v":1},{"$f":"集計!AD74","v":1},{"$f":"集計!AE74","v":1},{"$f":"集計!AF74","v":1},{"$f":"集計!AG74","v":1},{"$f":"集計!AH74","v":1},{"$f":"集計!AI74","v":1},{"$f":"集計!AJ74","v":1},{"$f":"集計!AK74","v":1},{"$f":"集計!AL74","v":1},{"$f":"集計!AM74","v":1},{"$f":"集計!AN74","v":31}]
[null,null,null,null,null,"泊まり",{"$f":"集計!I75","v":""},{"$f":"集計!J75","v":""},{"$f":"集計!K75","v":""},{"$f":"集計!L75","v":""},{"$f":"集計!M75","v":""},{"$f":"集計!N75","v":""},{"$f":"集計!O75","v":""},{"$f":"集計!P75","v":""},{"$f":"集計!Q75","v":""},{"$f":"集計!R75","v":""},{"$f":"集計!S75","v":""},{"$f":"集計!T75","v":""},{"$f":"集計!U75","v":""},{"$f":"集計!V75","v":""},{"$f":"集計!W75","v":""},{"$f":"集計!X75","v":""},{"$f":"集計!Y75","v":""},{"$f":"集計!Z75","v":""},{"$f":"集計!AA75","v":""},{"$f":"集計!AB75","v":""},{"$f":"集計!AC75","v":""},{"$f":"集計!AD75","v":""},{"$f":"集計!AE75","v":""},{"$f":"集計!AF75","v":""},{"$f":"集計!AG75","v":""},{"$f":"集計!AH75","v":""},{"$f":"集計!AI75","v":""},{"$f":"集計!AJ75","v":""},{"$f":"集計!AK75","v":""},{"$f":"集計!AL75","v":""},{"$f":"集計!AM75","v":""},{"$f":"集計!AN75","v":0}]
[null,null,null,null,null,"訪　問",{"$f":"集計!I76","v":""},{"$f":"集計!J76","v":""},{"$f":"集計!K76","v":""},{"$f":"集計!L76","v":""},{"$f":"集計!M76","v":""},{"$f":"集計!N76","v":""},{"$f":"集計!O76","v":""},{"$f":"集計!P76","v":""},{"$f":"集計!Q76","v":""},{"$f":"集計!R76","v":""},{"$f":"集計!S76","v":""},{"$f":"集計!T76","v":""},{"$f":"集計!U76","v":""},{"$f":"集計!V76","v":""},{"$f":"集計!W76","v":""},{"$f":"集計!X76","v":""},{"$f":"集計!Y76","v":""},{"$f":"集計!Z76","v":""},{"$f":"集計!AA76","v":""},{"$f":"集計!AB76","v":""},{"$f":"集計!AC76","v":""},{"$f":"集計!AD76","v":""},{"$f":"集計!AE76","v":""},{"$f":"集計!AF76","v":""},{"$f":"集計!AG76","v":""},{"$f":"集計!AH76","v":""},{"$f":"集計!AI76","v":""},{"$f":"集計!AJ76","v":""},{"$f":"集計!AK76","v":""},{"$f":"集計!AL76","v":""},{"$f":"集計!AM76","v":""},{"$f":"集計!AN76","v":0}]
[25,{"$f":"集計!C77","v":{"$error":"#N/A"}},{"$f":"集計!E77","v":{"$error":"#N/A"}},{"$f":"集計!F77","v":{"$error":"#N/A"}},{"$f":"集計!G77","v":{"$error":"#N/A"}},"通　い",{"$f":"集計!I77","v":1},{"$f":"集計!J77","v":1},{"$f":"集計!K77","v":1},{"$f":"集計!L77","v":1},{"$f":"集計!M77","v":1},{"$f":"集計!N77","v":1},{"$f":"集計!O77","v":1},{"$f":"集計!P77","v":1},{"$f":"集計!Q77","v":1},{"$f":"集計!R77","v":1},{"$f":"集計!S77","v":1},{"$f":"集計!T77","v":1},{"$f":"集計!U77","v":1},{"$f":"集計!V77","v":1},{"$f":"集計!W77","v":1},{"$f":"集計!X77","v":1},{"$f":"集計!Y77","v":1},{"$f":"集計!Z77","v":1},{"$f":"集計!AA77","v":1},{"$f":"集計!AB77","v":1},{"$f":"集計!AC77","v":1},{"$f":"集計!AD77","v":1},{"$f":"集計!AE77","v":1},{"$f":"集計!AF77","v":1},{"$f":"集計!AG77","v":1},{"$f":"集計!AH77","v":1},{"$f":"集計!AI77","v":1},{"$f":"集計!AJ77","v":1},{"$f":"集計!AK77","v":1},{"$f":"集計!AL77","v":1},{"$f":"集計!AM77","v":1},{"$f":"集計!AN77","v":31}]
[null,null,null,null,null,"泊まり",{"$f":"集計!I78","v":""},{"$f":"集計!J78","v":""},{"$f":"集計!K78","v":""},{"$f":"集計!L78","v":""},{"$f":"集計!M78","v":""},{"$f":"集計!N78","v":""},{"$f":"集計!O78","v":""},{"$f":"集計!P78","v":""},{"$f":"集計!Q78","v":""},{"$f":"集計!R78","v":""},{"$f":"集計!S78","v":""},{"$f":"集計!T78","v":""},{"$f":"集計!U78","v":""},{"$f":"集計!V78","v":""},{"$f":"集計!W78","v":""},{"$f":"集計!X78","v":""},{"$f":"集計!Y78","v":""},{"$f":"集計!Z78","v":""},{"$f":"集計!AA78","v":""},{"$f":"集計!AB78","v":""},{"$f":"集計!AC78","v":""},{"$f":"集計!AD78","v":""},{"$f":"集計!AE78","v":""},{"$f":"集計!AF78","v":""},{"$f":"集計!AG78","v":""},{"$f":"集計!AH78","v":""},{"$f":"集計!AI78","v":""},{"$f":"集計!AJ78","v":""},{"$f":"集計!AK78","v":""},{"$f":"集計!AL78","v":""},{"$f":"集計!AM78","v":""},{"$f":"集計!AN78","v":0}]
[null,null,null,null,null,"訪　問",{"$f":"集計!I79","v":""},{"$f":"集計!J79","v":""},{"$f":"集計!K79","v":""},{"$f":"集計!L79","v":""},{"$f":"集計!M79","v":""},{"$f":"集計!N79","v":""},{"$f":"集計!O79","v":""},{"$f":"集計!P79","v":""},{"$f":"集計!Q79","v":""},{"$f":"集計!R79","v":""},{"$f":"集計!S79","v":""},{"$f":"集計!T79","v":""},{"$f":"集計!U79","v":""},{"$f":"集計!V79","v":""},{"$f":"集計!W79","v":""},{"$f":"集計!X79","v":""},{"$f":"集計!Y79","v":""},{"$f":"集計!Z79","v":""},{"$f":"集計!AA79","v":""},{"$f":"集計!AB79","v":""},{"$f":"集計!AC79","v":""},{"$f":"集計!AD79","v":""},{"$f":"集計!AE79","v":""},{"$f":"集計!AF79","v":""},{"$f":"集計!AG79","v":""},{"$f":"集計!AH79","v":""},{"$f":"集計!AI79","v":""},{"$f":"集計!AJ79","v":""},{"$f":"集計!AK79","v":""},{"$f":"集計!AL79","v":""},{"$f":"集計!AM79","v":""},{"$f":"集計!AN79","v":0},"平均"]
["合　　　　　　　計",null,null,null,null,"通　い",{"$f":"集計!I80","v":21},{"$f":"集計!J80","v":20},{"$f":"集計!K80","v":18},{"$f":"集計!L80","v":18},{"$f":"集計!M80","v":21},{"$f":"集計!N80","v":21},{"$f":"集計!O80","v":21},{"$f":"集計!P80","v":20},{"$f":"集計!Q80","v":21},{"$f":"集計!R80","v":20},{"$f":"集計!S80","v":19},{"$f":"集計!T80","v":21},{"$f":"集計!U80","v":21},{"$f":"集計!V80","v":18},{"$f":"集計!W80","v":18},{"$f":"集計!X80","v":20},{"$f":"集計!Y80","v":20},{"$f":"集計!Z80","v":20},{"$f":"集計!AA80","v":21},{"$f":"集計!AB80","v":20},{"$f":"集計!AC80","v":20},{"$f":"集計!AD80","v":21},{"$f":"集計!AE80","v":21},{"$f":"集計!AF80","v":20},{"$f":"集計!AG80","v":19},{"$f":"集計!AH80","v":21},{"$f":"集計!AI80","v":21},{"$f":"集計!AJ80","v":21},{"$f":"集計!AK80","v":21},{"$f":"集計!AL80","v":21},{"$f":"集計!AM80","v":20},{"$f":"集計!AN80","v":625},{"$f":"INDIRECT(\"集計\"&\"!AO80\")","v":20.833333333333332},{"$f":"INDIRECT($M$1&\"!am77\")","v":{"$error":"#REF!"}}]
[null,null,null,null,null,"泊まり",{"$f":"集計!I81","v":4},{"$f":"集計!J81","v":3},{"$f":"集計!K81","v":3},{"$f":"集計!L81","v":3},{"$f":"集計!M81","v":5},{"$f":"集計!N81","v":5},{"$f":"集計!O81","v":4},{"$f":"集計!P81","v":4},{"$f":"集計!Q81","v":4},{"$f":"集計!R81","v":4},{"$f":"集計!S81","v":5},{"$f":"集計!T81","v":5},{"$f":"集計!U81","v":5},{"$f":"集計!V81","v":3},{"$f":"集計!W81","v":3},{"$f":"集計!X81","v":3},{"$f":"集計!Y81","v":4},{"$f":"集計!Z81","v":5},{"$f":"集計!AA81","v":5},{"$f":"集計!AB81","v":5},{"$f":"集計!AC81","v":4},{"$f":"集計!AD81","v":4},{"$f":"集計!AE81","v":4},{"$f":"集計!AF81","v":4},{"$f":"集計!AG81","v":4},{"$f":"集計!AH81","v":5},{"$f":"集計!AI81","v":5},{"$f":"集計!AJ81","v":4},{"$f":"集計!AK81","v":4},{"$f":"集計!AL81","v":4},{"$f":"集計!AM81","v":4},{"$f":"集計!AN81","v":128},{"$f":"INDIRECT(\"集計\"&\"!ao81\")","v":4.2666666666666666},{"$f":"INDIRECT($M$1&\"!am78\")","v":{"$error":"#REF!"}}]
[null,null,null,null,null,"訪　問",{"$f":"集計!I82","v":3},{"$f":"集計!J82","v":4},{"$f":"集計!K82","v":3},{"$f":"集計!L82","v":4},{"$f":"集計!M82","v":3},{"$f":"集計!N82","v":3},{"$f":"集計!O82","v":3},{"$f":"集計!P82","v":3},{"$f":"集計!Q82","v":3},{"$f":"集計!R82","v":4},{"$f":"集計!S82","v":3},{"$f":"集計!T82","v":3},{"$f":"集計!U82","v":3},{"$f":"集計!V82","v":3},{"$f":"集計!W82","v":3},{"$f":"集計!X82","v":3},{"$f":"集計!Y82","v":4},{"$f":"集計!Z82","v":3},{"$f":"集計!AA82","v":3},{"$f":"集計!AB82","v":3},{"$f":"集計!AC82","v":3},{"$f":"集計!AD82","v":3},{"$f":"集計!AE82","v":3},{"$f":"集計!AF82","v":4},{"$f":"集計!AG82","v":3},{"$f":"集計!AH82","v":3},{"$f":"集計!AI82","v":3},{"$f":"集計!AJ82","v":3},{"$f":"集計!AK82","v":3},{"$f":"集計!AL82","v":3},{"$f":"集計!AM82","v":4},{"$f":"集計!AN82","v":99},{"$f":"INDIRECT(\"集計\"&\"!ao82\")","v":3.3},{"$f":"INDIRECT($M$1&\"!am79\")","v":{"$error":"#REF!"}}]

{"sheet":"yotei","index":6,"n_rows":42,"n_cols":8,"rows_kept":42,"cut":false,"hidden":true,"merged":[]}
[]
[]
[null,null,{"$f":"月","v":6},"月勤務表",null,null,"A職員",{"$f":"IF(G3<>\"\",VLOOKUP(G3,$A$27:$B$42,2,FALSE)+2,\"\")","v":3}]
[]
["日曜日","月曜日","火曜日","水曜日","木曜日","金曜日","土曜日"]
[{"$f":"DATE(年,月,1)-WEEKDAY(DATE(年,月,1),1)+1","v":"2013-05-26"},{"$f":"A6+1","v":"2013-05-27"},"2013-05-28","2013-05-29","2013-05-30","2013-05-31","2013-06-01"]
[{"$f":"IF(ISNA(HLOOKUP(A6,勤務,$H$3,FALSE))=FALSE,HLOOKUP(A6,勤務,$H$3,FALSE),\"\")","v":""},"","","","","",{"$f":"IF(ISNA(HLOOKUP(G6,勤務,$H$3,FALSE))=FALSE,HLOOKUP(G6,勤務,$H$3,FALSE),\"\")","v":"LK2"}]
[]
[{"$f":"G6+1","v":"2013-06-02"},{"$f":"A9+1","v":"2013-06-03"},"2013-06-04","2013-06-05","2013-06-06","2013-06-07","2013-06-08"]
[{"$f":"IF(ISNA(HLOOKUP(A9,勤務,$H$3,FALSE))=FALSE,HLOOKUP(A9,勤務,$H$3,FALSE),\"\")","v":"早番"},"休","早番","休","LK2","CM","CM"]
[]
[{"$f":"G9+1","v":"2013-06-09"},{"$f":"A12+1","v":"2013-06-10"},"2013-06-11","2013-06-12","2013-06-13","2013-06-14","2013-06-15"]
[{"$f":"IF(ISNA(HLOOKUP(A12,勤務,$H$3,FALSE))=FALSE,HLOOKUP(A12,勤務,$H$3,FALSE),\"\")","v":"夜勤"},"明番","早番","休","休","休","有給"]
[]
[{"$f":"G12+1","v":"2013-06-16"},{"$f":"A15+1","v":"2013-06-17"},"2013-06-18","2013-06-19","2013-06-20","2013-06-21","2013-06-22"]
[{"$f":"IF(ISNA(HLOOKUP(A15,勤務,$H$3,FALSE))=FALSE,HLOOKUP(A15,勤務,$H$3,FALSE),\"\")","v":"L1"},"有給","有給","遅番","LK2","CM","休"]
[]
[{"$f":"G15+1","v":"2013-06-23"},{"$f":"A18+1","v":"2013-06-24"},"2013-06-25","2013-06-26","2013-06-27","2013-06-28","2013-06-29"]
[{"$f":"IF(ISNA(HLOOKUP(A18,勤務,$H$3,FALSE))=FALSE,HLOOKUP(A18,勤務,$H$3,FALSE),\"\")","v":"L1"},"休","夜勤","明番","休","遅番","休"]
[]
[]
[]
[]
[]
[]
["氏名"]
[{"$f":"勤務表!B4","v":"A職員"},1]
[{"$f":"勤務表!B5","v":"B職員"},2]
[{"$f":"勤務表!B6","v":"C職員"},3]
[{"$f":"勤務表!B7","v":"D職員"},4]
[{"$f":"勤務表!B8","v":"E職員"},5]
[{"$f":"勤務表!B9","v":"F職員"},6]
[{"$f":"勤務表!B10","v":"G職員"},7]
[{"$f":"勤務表!B11","v":0},8]
[{"$f":"勤務表!B12","v":0},9]
[{"$f":"勤務表!B13","v":0},10]
[{"$f":"勤務表!B14","v":0},11]
[{"$f":"勤務表!B15","v":0},12]
[{"$f":"勤務表!B16","v":0},13]
[{"$f":"勤務表!B17","v":0},14]
[{"$f":"勤務表!B18","v":0},15]
[{"$f":"勤務表!B19","v":0},16]

{"sheet":"カンファ","index":7,"n_rows":33,"n_cols":5,"rows_kept":33,"cut":false,"hidden":true,"merged":[]}
[null,null,{"$f":"月","v":6},"月カンファレンス予定表"]
["日付","担当","書記","クライアント","内容"]
[{"$f":"DATE(年,月,1)","v":"2013-06-01"}]
[{"$f":"A3+1","v":"2013-06-02"}]
[{"$f":"A4+1","v":"2013-06-03"}]
["2013-06-04"]
["2013-06-05"]
["2013-06-06"]
["2013-06-07"]
["2013-06-08"]
["2013-06-09"]
["2013-06-10"]
["2013-06-11"]
["2013-06-12"]
["2013-06-13"]
["2013-06-14"]
["2013-06-15"]
["2013-06-16"]
["2013-06-17"]
["2013-06-18"]
["2013-06-19"]
["2013-06-20"]
["2013-06-21"]
["2013-06-22"]
["2013-06-23"]
["2013-06-24"]
["2013-06-25"]
["2013-06-26"]
["2013-06-27"]
["2013-06-28"]
[{"$f":"IF(MONTH(A30+1)=月,A30+1,\"\")","v":"2013-06-29"}]
[{"$f":"IF(MONTH(A30+2)=月,A30+2,\"\")","v":"2013-06-30"}]
[{"$f":"IF(MONTH(A30+3)=月,A30+3,\"\")","v":""}]

{"sheet":"勤務表","index":8,"n_rows":32,"n_cols":44,"rows_kept":32,"cut":false,"hidden":true,"merged":[[1,1,2,1],[0,1,0,6]]}
[{"$f":"COUNTA(B4:B19)","v":7},null,null,null,null,null,null,{"$f":"Top!$J$6","v":"小規模多機能型事業所"},null,null,null,null,null,null,null,null,null,null,{"$f":"月&\"月\"","v":"6月"}]
[null,"氏名",{"$f":"DATE(年,月,1)","v":"2013-06-01"},{"$f":"C2+1","v":"2013-06-02"},"2013-06-03","2013-06-04","2013-06-05","2013-06-06","2013-06-07","2013-06-08","2013-06-09","2013-06-10","2013-06-11","2013-06-12","2013-06-13","2013-06-14","2013-06-15","2013-06-16","2013-06-17","2013-06-18","2013-06-19","2013-06-20","2013-06-21","2013-06-22","2013-06-23","2013-06-24","2013-06-25","2013-06-26","2013-06-27","2013-06-28",{"$f":"IF(MONTH(AD2+1)=月,AD2+1,\"\")","v":"2013-06-29"},{"$f":"IF(MONTH(AD2+2)=月,AD2+2,\"\")","v":"2013-06-30"},{"$f":"IF(MONTH(AD2+3)=月,AD2+3,\"\")","v":""},"制限",300,300,500,450,300,300,300,300,350,150]
[null,null,{"$f":"C2","v":41426},41427,41428,41429,41430,41431,41432,41433,41434,41435,41436,41437,41438,41439,41440,41441,41442,41443,41444,41445,41446,41447,41448,41449,41450,41451,41452,41453,41454,41455,"",null,"L1","K1","遅番","早番","LK2","B2","CM","事務","夜勤","明番"]
[null,"A職員","LK2","早番","休","早番","休","LK2","CM","CM","夜勤","明番","早番","休","休","休","有給","L1","有給","有給","遅番","LK2","CM","休","L1","休","夜勤","明番","休","遅番","休","LK2",null,null,{"$f":"COUNTIF($C4:$AG4,AI$3)","v":2},{"$f":"COUNTIF($C4:$AG4,AJ$3)","v":0},{"$f":"COUNTIF($C4:$AG4,AK$3)","v":2},3,4,0,3,0,2,2]
[null,"B職員","夜勤","明番","休","LK2","遅番","夜勤","明番","休","L1","有給","休","LK2","夜勤","明番","休","早番","休","遅番","夜勤","明番","休","休","早番","休","遅番","L1","夜勤","明番","休","早番",null,null,{"$f":"COUNTIF($C5:$AG5,AI$3)","v":2},0,3,3,2,0,0,0,5,5]
[null,"C職員","L1","夜勤","明番","休","B2","遅番","夜勤","明番","B2","L1","遅番","休","休","夜勤","明番","休","L1","早番","休","有給","早番","休","夜勤","明番","休","休","遅番","夜勤","明番","休",null,null,3,0,3,2,0,2,0,0,5,5]
[null,"D職員","早番","K1","LK2","休","L1","K1","遅番","休","休","LK2","休","早番","遅番","休","LK2","K1","早番","L1","休","L1","休","LK2","LK2","休","B2","LK2","LK2","休","遅番","LK2",null,null,3,3,3,3,8,1,0,0,0,0]
[null,"E職員","明番","休","遅番","休","早番","休","早番","夜勤","明番","LK2","休","L1","早番","遅番","夜勤","明番","休","休","B2","夜勤","明番","休","B2","L1","休","休","LK2","LK2","夜勤","明番",null,null,2,0,2,3,3,2,0,0,4,5]
[null,"F職員","休","休","L1","夜勤","明番","休","LK2","遅番","K1","早番","休","夜勤","明番","休","遅番","休","夜勤","明番","休","早番","遅番","夜勤","明番","休","L1","B2","K1","L1","早番","休",null,null,3,2,3,3,1,1,0,0,4,4]
[null,"G職員","有給","遅番","早番","遅番","LK2","休","L1","休","遅番","休","L1","LK2","B2","LK2","休","遅番","休","B2","早番","B2","LK2","休","遅番","LK2","休","遅番","休","早番","休","L1",null,null,3,0,6,3,5,3,0,0,0,0]
[null,null,null,null,null,null,null,null,null,null,null,null,null,null,null,null,null,null,null,null,null,null,null,null,null,null,null,null,null,null,null,null,null,null,0,0,0,0,0,0,0,0,0,0]
[null,null,null,null,null,null,null,null,null,null,null,null,null,null,null,null,null,null,null,null,null,null,null,null,null,null,null,null,null,null,null,null,null,null,0,0,0,0,0,0,0,0,0,0]
[null,null,null,null,null,null,null,null,null,null,null,null,null,null,null,null,null,null,null,null,null,null,null,null,null,null,null,null,null,null,null,null,null,null,0,0,0,0,0,0,0,0,0,0]
[null,null,null,null,null,null,null,null,null,null,null,null,null,null,null,null,null,null,null,null,null,null,null,null,null,null,null,null,null,null,null,null,null,null,0,0,0,0,0,0,0,0,0,0]
[null,null,null,null,null,null,null,null,null,null,null,null,null,null,null,null,null,null,null,null,null,null,null,null,null,null,null,null,null,null,null,null,null,null,0,0,0,0,0,0,0,0,0,0]
[null,null,null,null,null,null,null,null,null,null,null,null,null,null,null,null,null,null,null,null,null,null,null,null,null,null,null,null,null,null,null,null,null,null,0,0,0,0,0,0,0,0,0,0]
[null,null,null,null,null,null,null,null,null,null,null,null,null,null,null,null,null,null,null,null,null,null,null,null,null,null,null,null,null,null,null,null,null,null,0,0,0,0,0,0,0,0,0,0]
[null,null,null,null,null,null,null,null,null,null,null,null,null,null,null,null,null,null,null,null,null,null,null,null,null,null,null,null,null,null,null,null,null,null,0,0,0,0,0,0,0,0,0,0]
[null,null,null,null,null,null,null,null,null,null,null,null,null,null,null,null,null,null,null,null,null,null,null,null,null,null,null,null,null,null,null,null,null,null,0,0,0,0,0,0,0,0,0,0]
[null,null,{"$f":"C2","v":"2013-06-01"},{"$f":"D2","v":"2013-06-02"},"2013-06-03","2013-06-04","2013-06-05","2013-06-06","2013-06-07","2013-06-08","2013-06-09","2013-06-10","2013-06-11","2013-06-12","2013-06-13","2013-06-14","2013-06-15","2013-06-16","2013-06-17","2013-06-18","2013-06-19","2013-06-20","2013-06-21","2013-06-22","2013-06-23","2013-06-24","2013-06-25","2013-06-26","2013-06-27","2013-06-28","2013-06-29","2013-06-30","",null,{"$f":"SUM(AI4:AI19)","v":18},{"$f":"SUM(AJ4:AJ19)","v":5},22,20,23,{"$f":"SUM(AN4:AN19)","v":9},3,0,20]
[null,"L1",{"$f":"COUNTIF(C$4:C$19,$B21)","v":1},0,1,0,1,0,1,0,1,1,{"$f":"COUNTIF(M$4:M$19,$B21)","v":1},1,0,0,0,1,1,1,0,1,{"$f":"COUNTIF(W$4:W$19,$B21)","v":0},0,1,1,1,1,0,1,0,1,0]
[null,"K1",0,1,0,0,0,1,0,0,1,0,0,0,0,0,0,1,0,0,0,0,0,0,0,0,0,0,1,0,0,0,0]
[null,"B2",0,0,0,0,1,0,0,0,1,0,0,0,1,0,0,0,0,1,1,1,0,0,1,0,1,1,0,0,0,0,0]
[null,"遅番",0,1,1,1,1,1,1,1,1,0,1,0,1,1,1,1,0,1,1,0,1,0,1,0,1,1,1,1,1,0,0]
[null,"早番",1,1,1,1,1,0,1,0,0,1,1,1,1,0,0,1,1,1,1,1,1,0,1,0,0,0,0,1,1,1,0]
[null,"LK2",{"$f":"COUNTIF(C$4:C$19,$B26)","v":1},0,1,1,1,1,1,0,0,2,0,2,0,1,1,0,0,0,0,1,1,1,1,1,0,1,2,1,0,2,0]
[null,"事務・CM",{"$f":"COUNTIF(C$4:C$19,\"事務\")+COUNTIF(C$4:C$19,\"CM\")","v":0},{"$f":"COUNTIF(D$4:D$19,\"事務\")+COUNTIF(D$4:D$19,\"CM\")","v":0},0,0,0,0,1,1,0,0,0,0,0,0,0,0,0,0,0,0,1,0,0,0,0,0,0,0,0,0,0]
[null,"日勤計",{"$f":"SUM(C21:C27)","v":3},{"$f":"SUM(D21:D27)","v":3},4,3,5,3,5,2,4,4,3,4,3,2,2,4,2,4,3,4,4,1,5,2,3,4,4,4,2,4,0]
[]
[null,"夜勤",{"$f":"COUNTIF(C$4:C$19,$B30)","v":1},{"$f":"COUNTIF(D$4:D$19,$B30)","v":1},0,1,0,1,1,1,1,0,0,1,1,1,1,0,1,0,1,1,0,1,1,0,1,0,1,1,1,0,0]
[null,"明番",{"$f":"COUNTIF(C$4:C$19,$B31)","v":1},1,1,0,1,0,1,1,1,1,0,0,1,1,1,1,0,1,0,1,1,0,1,1,0,1,0,1,1,1,0]
[null,null,{"$f":"COUNTBLANK(C4:C19)","v":9},{"$f":"COUNTBLANK(D4:D19)","v":9},9,9,9,9,9,9,9,9,9,9,9,9,9,9,9,9,9,9,9,9,9,9,9,9,9,9,9,9]

{"sheet":"日印","index":9,"n_rows":89,"n_cols":21,"rows_kept":89,"cut":false,"hidden":true,"merged":[[75,2,76,2],[81,2,82,2],[2,3,2,9],[2,14,2,19],[66,2,66,5],[67,2,67,5],[68,2,68,5],[69,2,69,5],[67,6,67,9],[68,6,68,9],[69,6,69,9],[62,16,62,19],[63,16,63,19],[64,16,64,19],[65,16,65,19],[65,10,65,13],[66,10,66,13],[54,10,54,13],[55,6,55,9],[55,10,55,13],[59,16,59,19],[60,16,60,19],[61,16,61,19],[75,17,76,18],[75,19,76,20],[78,3,78,4],[78,5,78,6],[78,7,78,8],[78,9,78,10],[78,11,78,12],[78,13,78,14],[29,2,29,3],[29,6,29,7],[29,4,29,5],[29,8,29,9],[72,11,72,12],[59,10,59,13],[61,10,61,13],[63,10,63,13],[64,10,64,13],[48,2,48,5],[49,2,49,5],[50,2,50,5],[51,2,51,5],[52,2,52,5],[53,2,53,5],[51,6,51,9],[75,3,76,4],[75,5,76,6],[75,7,76,8],[75,9,76,10],[75,11,76,12],[75,13,76,14],[75,15,76,16],[81,13,82,14],[79,3,80,4],[79,5,80,6],[79,7,80,8],[79,9,80,10],[79,11,80,12],[79,13,80,14],[81,3,82,4],[81,5,82,6],[81,7,82,8],[81,9,82,10],[81,11,82,12],[73,3,74,4],[73,5,74,6],[73,7,74,8],[73,9,74,10],[73,11,74,12],[73,13,74,14],[73,15,74,16],[73,17,74,18],[73,19,74,20],[72,19,72,20],[72,1,72,2],[72,3,72,4],[72,5,72,6],[72,7,72,8],[72,9,72,10],[59,2,59,5],[61,2,61,5],[63,2,63,5],[64,2,64,5],[59,6,59,9],[61,6,61,9],[63,6,63,9],[64,6,64,9],[60,2,60,5],[60,6,60,9],[60,10,60,13],[62,2,62,5],[62,6,62,9],[62,10,62,13],[72,13,72,14],[72,15,72,16],[72,17,72,18],[58,2,58,5],[58,6,58,9],[58,10,58,13],[54,2,54,5],[55,2,55,5],[54,6,54,9],[57,2,57,5],[57,6,57,9],[57,10,57,13],[54,16,54,19],[55,16,55,19],[56,16,56,19],[57,16,57,19],[51,10,51,13],[37,1,41,3],[42,1,43,3],[52,6,52,9],[52,10,52,13],[53,6,53,9],[53,10,53,13],[48,6,48,9],[48,10,48,13],[49,6,49,9],[49,10,49,13],[50,6,50,9],[50,10,50,13],[46,2,46,5],[46,6,46,9],[42,4,43,13],[43,14,43,17],[39,14,39,17],[40,14,40,17],[41,14,41,17],[42,14,42,17],[46,10,46,13],[45,14,45,19],[27,19,27,20],[28,2,28,4],[28,5,28,6],[28,7,28,8],[28,12,28,13],[28,14,28,15],[28,16,28,17],[28,19,28,20],[27,2,27,4],[27,5,27,6],[27,7,27,8],[27,12,27,13],[27,14,27,15],[27,16,27,17],[35,4,36,13],[40,4,41,13],[37,4,38,13],[39,4,39,13],[35,1,36,3],[25,19,25,20],[26,2,26,4],[26,5,26,6],[26,7,26,8],[26,12,26,13],[26,14,26,15],[26,16,26,17],[26,19,26,20],[25,2,25,4],[25,5,25,6],[25,7,25,8],[25,12,25,13],[25,14,25,15],[25,16,25,17],[23,19,23,20],[24,2,24,4],[24,5,24,6],[24,7,24,8],[24,12,24,13],[24,14,24,15],[24,16,24,17],[24,19,24,20],[23,2,23,4],[23,5,23,6],[23,7,23,8],[23,12,23,13],[23,14,23,15],[23,16,23,17],[21,19,21,20],[22,2,22,4],[22,5,22,6],[22,7,22,8],[22,12,22,13],[22,14,22,15],[22,16,22,17],[22,19,22,20],[21,2,21,4],[21,5,21,6],[21,7,21,8],[21,12,21,13],[21,14,21,15],[21,16,21,17],[19,19,19,20],[20,2,20,4],[20,5,20,6],[20,7,20,8],[20,12,20,13],[20,14,20,15],[20,16,20,17],[20,19,20,20],[19,2,19,4],[19,5,19,6],[19,7,19,8],[19,12,19,13],[19,14,19,15],[19,16,19,17],[17,19,17,20],[18,2,18,4],[18,5,18,6],[18,7,18,8],[18,12,18,13],[18,14,18,15],[18,16,18,17],[18,19,18,20],[17,2,17,4],[17,5,17,6],[17,7,17,8],[17,12,17,13],[17,14,17,15],[17,16,17,17],[15,19,15,20],[16,2,16,4],[16,5,16,6],[16,7,16,8],[16,12,16,13],[16,14,16,15],[16,16,16,17],[16,19,16,20],[15,2,15,4],[15,5,15,6],[15,7,15,8],[15,12,15,13],[15,14,15,15],[15,16,15,17],[13,19,13,20],[14,2,14,4],[14,5,14,6],[14,7,14,8],[14,12,14,13],[14,14,14,15],[14,16,14,17],[14,19,14,20],[13,2,13,4],[13,5,13,6],[13,7,13,8],[13,12,13,13],[13,14,13,15],[13,16,13,17],[11,19,11,20],[12,2,12,4],[12,5,12,6],[12,7,12,8],[12,12,12,13],[12,14,12,15],[12,16,12,17],[12,19,12,20],[11,2,11,4],[11,5,11,6],[11,7,11,8],[11,12,11,13],[11,14,11,15],[11,16,11,17],[9,19,9,20],[10,2,10,4],[10,5,10,6],[10,7,10,8],[10,12,10,13],[10,14,10,15],[10,16,10,17],[10,19,10,20],[9,2,9,4],[9,5,9,6],[9,7,9,8],[9,12,9,13],[9,14,9,15],[9,16,9,17],[7,19,7,20],[8,2,8,4],[8,5,8,6],[8,7,8,8],[8,12,8,13],[8,14,8,15],[8,16,8,17],[8,19,8,20],[7,2,7,4],[7,5,7,6],[7,7,7,8],[7,12,7,13],[7,14,7,15],[7,16,7,17],[5,19,5,20],[6,2,6,4],[6,5,6,6],[6,7,6,8],[6,12,6,13],[6,14,6,15],[6,16,6,17],[6,19,6,20],[5,2,5,4],[5,5,5,6],[5,7,5,8],[5,12,5,13],[5,14,5,15],[5,16,5,17],[3,19,3,20],[4,2,4,4],[4,5,4,6],[4,7,4,8],[4,12,4,13],[4,14,4,15],[4,16,4,17],[4,19,4,20],[3,2,3,4],[3,5,3,6],[3,7,3,8],[3,12,3,13],[3,14,3,15],[3,16,3,17],[86,3,87,19],[84,3,84,19],[85,3,85,19],[31,4,31,6],[31,15,31,16],[31,18,31,19],[32,14,32,20],[33,14,33,20],[34,14,34,20],[35,14,35,20],[32,4,34,13],[32,1,34,3],[48,16,48,19],[49,16,49,19],[50,16,50,19],[51,16,51,19],[52,16,52,19],[53,16,53,19],[36,14,36,20],[37,14,37,20],[47,2,47,5],[47,6,47,9],[47,10,47,13],[47,16,47,19]]}
[]
[null,null,null,null,{"$f":"Top!J6&\" 業務日誌\"","v":"小規模多機能型事業所 業務日誌"}]
[null,null,null,{"$f":"処理日","v":"2013-06-02"},null,null,null,null,null,null,null,null,null,null,"室温　　　　 　℃湿度　　　  　　％"]
[null,null,"氏名",null,null,"本日",null,"宿泊",null,"昼","夕","朝","その他",null,"血圧",null,"体温",null,"脈拍","部屋"]
[null,1,{"$f":"利用表!B6","v":"利用者A"},null,null,{"$f":"IF(利用表!B6<>\"\",IF(HLOOKUP($D$3,利用予定,3,FALSE)=\"\",\"通所\",HLOOKUP($D$3,利用予定,3,FALSE)),\"\")","v":"通所"},null,{"$f":"IF(ISNA(VLOOKUP(C5,泊判定,3,FALSE)=TRUE),\"\",VLOOKUP(C5,泊判定,3,FALSE))","v":"連泊"},null,{"$f":"IF(AND(F5=\"休\",H5<>\"泊入り\"),\"\",IF(ISNA(VLOOKUP(C5,薬,2,FALSE)=TRUE),\"\",VLOOKUP(C5,薬,2,FALSE)))","v":0},{"$f":"IF(AND(F5=\"休\",H5<>\"泊入り\"),\"\",IF(OR(ISNA(VLOOKUP(C5,薬,3,FALSE)=TRUE),OR(H5=\"\",H5=\"泊明け\")),\"\",VLOOKUP(C5,薬,3,FALSE)))","v":0},{"$f":"IF(AND(F5=\"休\",H5<>\"泊入り\"),\"\",IF(OR(ISNA(VLOOKUP(C5,薬,4,FALSE)=TRUE),OR(H5=\"\",H5=\"泊明け\")),\"\",VLOOKUP(C5,薬,4,FALSE)))","v":"朝"},{"$f":"IF(AND(F5=\"休\",H5<>\"泊入り\"),\"\",IF(OR(ISNA(VLOOKUP(C5,薬,5,FALSE)=TRUE),OR(H5=\"\",H5=\"泊明け\")),\"\",VLOOKUP(C5,薬,5,FALSE)))","v":0},null,{"$f":"IF(OR(F5=\"\",F5=\"休\"),\"\",IF(AND(LEFT(C5,1)<>\"訪\",C5<>\"\"),\"-\",\"\"))","v":"-"},null,{"$f":"IF(OR(F5=\"\",F5=\"休\"),\"\",IF(AND(LEFT(C5,1)<>\"訪\",C5<>\"\"),\"℃\",\"\"))","v":"℃"},null,null,{"$f":"IF(OR(H5=\"連泊\",H5=\"泊入り\")<>FALSE,\"栃・桜・ヤ・銀・日・皐・椿・ゆ・リ\",\"\")","v":"栃・桜・ヤ・銀・日・皐・椿・ゆ・リ"}]
[null,2,{"$f":"利用表!B8","v":"利用者B"},null,null,{"$f":"IF(利用表!B8<>\"\",IF(HLOOKUP($D$3,利用予定,5,FALSE)=\"\",\"通所\",HLOOKUP($D$3,利用予定,5,FALSE)),\"\")","v":"休"},null,"泊明け",null,"","","","",null,{"$f":"IF(OR(F6=\"\",F6=\"休\"),\"\",IF(AND(LEFT(C6,1)<>\"訪\",C6<>\"\"),\"-\",\"\"))","v":""},null,{"$f":"IF(OR(F6=\"\",F6=\"休\"),\"\",IF(AND(LEFT(C6,1)<>\"訪\",C6<>\"\"),\"℃\",\"\"))","v":""},null,null,{"$f":"IF(OR(H6=\"連泊\",H6=\"泊入り\")<>FALSE,\"栃・桜・ヤ・銀・日・皐・椿・ゆ・リ\",\"\")","v":""}]
[null,3,{"$f":"利用表!B10","v":"利用者C"},null,null,{"$f":"IF(利用表!B10<>\"\",IF(HLOOKUP($D$3,利用予定,7,FALSE)=\"\",\"通所\",HLOOKUP($D$3,利用予定,7,FALSE)),\"\")","v":"訪"},null,"",null,"昼","","","",null,"-",null,"℃",null,null,""]
[null,4,{"$f":"利用表!B12","v":"利用者D"},null,null,{"$f":"IF(利用表!B12<>\"\",IF(HLOOKUP($D$3,利用予定,9,FALSE)=\"\",\"通所\",HLOOKUP($D$3,利用予定,9,FALSE)),\"\")","v":"通所"},null,"",null,{"$f":"IF(AND(F8=\"休\",H8<>\"泊入り\"),\"\",IF(ISNA(VLOOKUP(C8,薬,2,FALSE)=TRUE),\"\",VLOOKUP(C8,薬,2,FALSE)))","v":"(夕）"},"","","",null,"-",null,"℃",null,null,""]
[null,5,{"$f":"利用表!B14","v":"利用者E"},null,null,{"$f":"IF(利用表!B14<>\"\",IF(HLOOKUP($D$3,利用予定,11,FALSE)=\"\",\"通所\",HLOOKUP($D$3,利用予定,11,FALSE)),\"\")","v":"通所"},null,"",null,"","","","",null,"-",null,"℃",null,null,""]
[null,6,{"$f":"利用表!B16","v":"利用者F"},null,null,{"$f":"IF(利用表!B16<>\"\",IF(HLOOKUP($D$3,利用予定,13,FALSE)=\"\",\"通所\",HLOOKUP($D$3,利用予定,13,FALSE)),\"\")","v":"訪"},null,"",null,"","","","",null,"-",null,"℃",null,null,""]
[null,7,{"$f":"利用表!B18","v":"利用者G"},null,null,{"$f":"IF(利用表!B18<>\"\",IF(HLOOKUP($D$3,利用予定,15,FALSE)=\"\",\"通所\",HLOOKUP($D$3,利用予定,15,FALSE)),\"\")","v":"訪"},null,"連泊",null,"","","","",null,"-",null,"℃",null,null,"栃・桜・ヤ・銀・日・皐・椿・ゆ・リ"]
[null,8,{"$f":"利用表!B20","v":"利用者H"},null,null,{"$f":"IF(利用表!B20<>\"\",IF(HLOOKUP($D$3,利用予定,17,FALSE)=\"\",\"通所\",HLOOKUP($D$3,利用予定,17,FALSE)),\"\")","v":"通所"},null,"連泊",null,0,"夕","朝",0,null,"-",null,"℃",null,null,"栃・桜・ヤ・銀・日・皐・椿・ゆ・リ"]
[null,9,{"$f":"利用表!B22","v":"利用者I"},null,null,{"$f":"IF(利用表!B22<>\"\",IF(HLOOKUP($D$3,利用予定,19,FALSE)=\"\",\"通所\",HLOOKUP($D$3,利用予定,19,FALSE)),\"\")","v":"通所"},null,"",null,"昼","","","",null,"-",null,"℃",null,null,""]
[null,10,{"$f":"利用表!B24","v":"利用者J"},null,null,{"$f":"IF(利用表!B24<>\"\",IF(HLOOKUP($D$3,利用予定,21,FALSE)=\"\",\"通所\",HLOOKUP($D$3,利用予定,21,FALSE)),\"\")","v":"訪"},null,"",null,0,"","","",null,"-",null,"℃",null,null,""]
[null,11,{"$f":"利用表!B26","v":""},null,null,{"$f":"IF(利用表!B26<>\"\",IF(HLOOKUP($D$3,利用予定,23,FALSE)=\"\",\"通所\",HLOOKUP($D$3,利用予定,23,FALSE)),\"\")","v":""},null,"",null,"","","","",null,"",null,"",null,null,""]
[null,12,{"$f":"利用表!B28","v":""},null,null,{"$f":"IF(利用表!B28<>\"\",IF(HLOOKUP($D$3,利用予定,25,FALSE)=\"\",\"通所\",HLOOKUP($D$3,利用予定,25,FALSE)),\"\")","v":""},null,"",null,"","","","",null,"",null,"",null,null,""]
[null,13,{"$f":"利用表!B30","v":""},null,null,{"$f":"IF(利用表!B30<>\"\",IF(HLOOKUP($D$3,利用予定,27,FALSE)=\"\",\"通所\",HLOOKUP($D$3,利用予定,27,FALSE)),\"\")","v":""},null,"",null,"","","","",null,"",null,"",null,null,""]
[null,14,{"$f":"利用表!B32","v":""},null,null,{"$f":"IF(利用表!B32<>\"\",IF(HLOOKUP($D$3,利用予定,29,FALSE)=\"\",\"通所\",HLOOKUP($D$3,利用予定,29,FALSE)),\"\")","v":""},null,"",null,"","","","",null,"",null,"",null,null,""]
[null,15,{"$f":"利用表!B34","v":""},null,null,{"$f":"IF(利用表!B34<>\"\",IF(HLOOKUP($D$3,利用予定,31,FALSE)=\"\",\"通所\",HLOOKUP($D$3,利用予定,31,FALSE)),\"\")","v":""},null,"",null,"","","","",null,"",null,"",null,null,""]
[null,16,{"$f":"利用表!B36","v":""},null,null,{"$f":"IF(利用表!B36<>\"\",IF(HLOOKUP($D$3,利用予定,33,FALSE)=\"\",\"通所\",HLOOKUP($D$3,利用予定,33,FALSE)),\"\")","v":""},null,"",null,"","","","",null,"",null,"",null,null,""]
[null,17,{"$f":"利用表!B38","v":""},null,null,{"$f":"IF(利用表!B38<>\"\",IF(HLOOKUP($D$3,利用予定,35,FALSE)=\"\",\"通所\",HLOOKUP($D$3,利用予定,35,FALSE)),\"\")","v":""},null,"",null,"","","","",null,"",null,"",null,null,""]
[null,18,{"$f":"利用表!B40","v":""},null,null,{"$f":"IF(利用表!B40<>\"\",IF(HLOOKUP($D$3,利用予定,37,FALSE)=\"\",\"通所\",HLOOKUP($D$3,利用予定,37,FALSE)),\"\")","v":""},null,"",null,"","","","",null,"",null,"",null,null,""]
[null,19,{"$f":"利用表!B42","v":""},null,null,{"$f":"IF(利用表!B42<>\"\",IF(HLOOKUP($D$3,利用予定,39,FALSE)=\"\",\"通所\",HLOOKUP($D$3,利用予定,39,FALSE)),\"\")","v":""},null,"",null,"","","","",null,"",null,"",null,null,""]
[null,20,{"$f":"利用表!B44","v":""},null,null,{"$f":"IF(利用表!B44<>\"\",IF(HLOOKUP($D$3,利用予定,41,FALSE)=\"\",\"通所\",HLOOKUP($D$3,利用予定,41,FALSE)),\"\")","v":""},null,"",null,"","","","",null,"",null,"",null,null,""]
[null,21,{"$f":"利用表!B46","v":""},null,null,{"$f":"IF(利用表!B46<>\"\",IF(HLOOKUP($D$3,利用予定,43,FALSE)=\"\",\"通所\",HLOOKUP($D$3,利用予定,43,FALSE)),\"\")","v":""},null,"",null,"","","","",null,"",null,"",null,null,""]
[null,22,{"$f":"利用表!B48","v":""},null,null,{"$f":"IF(利用表!B48<>\"\",IF(HLOOKUP($D$3,利用予定,45,FALSE)=\"\",\"通所\",HLOOKUP($D$3,利用予定,45,FALSE)),\"\")","v":""},null,"",null,"","","","",null,"",null,"",null,null,""]
[null,23,{"$f":"利用表!B50","v":""},null,null,{"$f":"IF(利用表!B50<>\"\",IF(HLOOKUP($D$3,利用予定,47,FALSE)=\"\",\"通所\",HLOOKUP($D$3,利用予定,47,FALSE)),\"\")","v":""},null,"",null,"","","","",null,"",null,"",null,null,""]
[null,24,{"$f":"利用表!B52","v":""},null,null,{"$f":"IF(利用表!B52<>\"\",IF(HLOOKUP($D$3,利用予定,49,FALSE)=\"\",\"通所\",HLOOKUP($D$3,利用予定,49,FALSE)),\"\")","v":""},null,"",null,"","","","",null,"",null,"",null,null,""]
[null,25,{"$f":"利用表!B54","v":""},null,null,{"$f":"IF(利用表!B54<>\"\",IF(HLOOKUP($D$3,利用予定,51,FALSE)=\"\",\"通所\",HLOOKUP($D$3,利用予定,51,FALSE)),\"\")","v":""},null,"",null,"","","","",null,"",null,"",null,null,""]
[null,null,"通所",null,{"$f":"COUNTIF(F5:F29,\"通所\")","v":5},null,"訪問",null,{"$f":"COUNTIF(F5:F29,\"訪\")","v":4},null,null,null,null,null,"※内服チェック：配薬はレ点。服薬確認は○"]
[]
[null,"記入者（Le）：　　　　　　　　　　　　　　check(                     )",null,null,{"$f":"VLOOKUP(\"L1\",配車作成!AN9:'配車作成'!AO27,2,FALSE)","v":{"$error":"#N/A"}},null,null,null,"check :",null,null,null,null,null,"遅番",{"$f":"VLOOKUP(O32,配車作成!AN9:'配車作成'!AO27,2,FALSE)","v":"G職員"},null,"夜勤",{"$f":"VLOOKUP(R32,配車作成!AN9:'配車作成'!AO27,2,FALSE)","v":"C職員"}]
[null,"午前",null,null,"10時　お茶"]
[]
[]
[null,"昼",null,null,"主食：　　　　　　副食：　　　　　　その他"]
[]
[null,"午後"]
[null,null,null,null,null,null,null,null,null,null,null,null,null,null,null,null,null,null,"昼","夕","朝"]
[null,null,null,null,"15時　お茶",null,null,null,null,null,null,null,null,null,"配食",null,null,null,{"$f":"HLOOKUP(処理日,配食,3,FALSE)","v":0},{"$f":"HLOOKUP(処理日,配食,4,FALSE)","v":{"$error":"#N/A"}},{"$f":"HLOOKUP(処理日+1,配食,2,FALSE)","v":0}]
[null,null,null,null,"主食：　　　　　　副食：　　　　　　その他",null,null,null,null,null,null,null,null,null,"夕食後送り",null,null,null,null,{"$f":"配車作成!M2","v":0}]
[null,null,null,null,null,null,null,null,null,null,null,null,null,null,"利用or宿泊",null,null,null,{"$f":"E30","v":5},{"$f":"配車作成!M1","v":3},{"$f":"T42","v":3}]
[null,"朝",null,null,"主食：　　　　　　副食：　　　　　　その他",null,null,null,null,null,null,null,null,null,"職員",null,null,null,{"$f":"配車作成!AJ1","v":3},{"$f":"配車作成!AL1+配車作成!AN1","v":2},{"$f":"HLOOKUP(処理日,職勤,4,FALSE)+HLOOKUP(処理日+1,職勤,6,FALSE)","v":1}]
[null,null,null,null,null,null,null,null,null,null,null,null,null,null,"合計",null,null,null,{"$f":"SUM(S40:S43)","v":8},{"$f":"SUM(T41:T43)","v":5},{"$f":"SUM(U40:U43)","v":4}]
[]
[null,null,null,"送迎表及び担当表",null,null,null,null,null,null,null,null,null,null,{"$f":"処理日","v":"2013-06-02"}]
[]
[null,"迎",{"$f":"配車作成!$H$8","v":"軽自動車"},null,null,null,{"$f":"配車作成!$H$14","v":"5人乗り"},null,null,null,{"$f":"配車作成!$H$20","v":"9人乗り"},null,null,null,null,null,"本日の宿泊",null,null,null,"泊"]
[null,1,{"$f":"配車作成!H9","v":""},null,null,null,{"$f":"配車作成!H15","v":""},null,null,null,{"$f":"配車作成!H21","v":""},null,null,null,null,null,{"$f":"配車作成!AB9","v":"利用者A"},null,null,null,{"$f":"IF(Q49<>\"\",VLOOKUP(Q49,泊数表,DAY($O$46)+2,FALSE)-2,\"\")","v":0}]
[null,2,{"$f":"配車作成!H10","v":""},null,null,null,{"$f":"配車作成!H16","v":""},null,null,null,{"$f":"配車作成!H22","v":""},null,null,null,null,null,{"$f":"配車作成!AB10","v":"利用者B"},null,null,null,-2]
[null,3,{"$f":"配車作成!H11","v":""},null,null,null,{"$f":"配車作成!H17","v":""},null,null,null,{"$f":"配車作成!H23","v":""},null,null,null,null,null,{"$f":"配車作成!AB11","v":"利用者E"},null,null,null,-2]
[null,4,{"$f":"配車作成!H12","v":""},null,null,null,{"$f":"配車作成!H18","v":""},null,null,null,{"$f":"配車作成!H24","v":""},null,null,null,null,null,{"$f":"配車作成!AB12","v":"利用者G"},null,null,null,27]
[null,5,null,null,null,null,{"$f":"配車作成!H19","v":""},null,null,null,{"$f":"配車作成!H25","v":""},null,null,null,null,null,{"$f":"配車作成!AB13","v":"利用者H"},null,null,null,27]
[null,6,null,null,null,null,null,null,null,null,{"$f":"配車作成!H26","v":""},null,null,null,null,null,{"$f":"配車作成!AB14","v":""},null,null,null,""]
[null,7,null,null,null,null,null,null,null,null,{"$f":"配車作成!H27","v":""},null,null,null,null,null,{"$f":"配車作成!AB15","v":""},null,null,null,""]
[null,8,null,null,null,null,null,null,null,null,{"$f":"配車作成!H28","v":""},null,null,null,null,null,{"$f":"配車作成!AB16","v":""},null,null,null,""]
[null,null,null,null,null,null,null,null,null,null,null,null,null,null,null,null,{"$f":"配車作成!AB17","v":""},null,null,null,""]
[null,null,null,null,null,null,null,null,null,null,null,null,null,null,null,null,{"$f":"配車作成!AB18","v":""},null,null,null,""]
[null,"送",{"$f":"C48","v":"軽自動車"},null,null,null,{"$f":"G48","v":"5人乗り"},null,null,null,{"$f":"K48","v":"9人乗り"}]
[null,1,{"$f":"配車作成!L9","v":""},null,null,null,{"$f":"配車作成!L15","v":""},null,null,null,{"$f":"配車作成!L21","v":""},null,null,null,null,null,"本日の訪問"]
[null,2,{"$f":"配車作成!L10","v":""},null,null,null,{"$f":"配車作成!L16","v":""},null,null,null,{"$f":"配車作成!L22","v":""},null,null,null,null,null,{"$f":"IF(配車作成!AU9<>\"\",VLOOKUP(配車作成!AU9,訪問,2,FALSE),\"\")","v":"Jさま　夕方配食"}]
[null,3,{"$f":"配車作成!L11","v":""},null,null,null,{"$f":"配車作成!L17","v":""},null,null,null,{"$f":"配車作成!L23","v":""},null,null,null,null,null,{"$f":"IF(配車作成!AU10<>\"\",VLOOKUP(配車作成!AU10,訪問,2,FALSE),\"\")","v":"Gさま　11時訪問"}]
[null,4,{"$f":"配車作成!L12","v":""},null,null,null,{"$f":"配車作成!L18","v":""},null,null,null,{"$f":"配車作成!L24","v":""},null,null,null,null,null,{"$f":"IF(配車作成!AU11<>\"\",VLOOKUP(配車作成!AU11,訪問,2,FALSE),\"\")","v":"Cさま　午前訪問"}]
[null,5,null,null,null,null,{"$f":"配車作成!L19","v":""},null,null,null,{"$f":"配車作成!L25","v":""},null,null,null,null,null,{"$f":"IF(配車作成!AU12<>\"\",VLOOKUP(配車作成!AU12,訪問,2,FALSE),\"\")","v":""}]
[null,6,null,null,null,null,null,null,null,null,{"$f":"配車作成!L26","v":""},null,null,null,null,null,{"$f":"IF(配車作成!AU13<>\"\",VLOOKUP(配車作成!AU13,訪問,2,FALSE),\"\")","v":""}]
[null,null,null,null,null,null,null,null,null,null,{"$f":"配車作成!L27","v":""},null,null,null,null,null,{"$f":"IF(配車作成!AU14<>\"\",VLOOKUP(配車作成!AU14,訪問,2,FALSE),\"\")","v":""}]
[null,null,"夕食後送り・迎え",null,null,null,null,null,null,null,{"$f":"配車作成!L28","v":""}]
[null,null,{"$f":"配車作成!L31","v":""},null,null,null,{"$f":"配車作成!L34","v":""}]
[null,null,{"$f":"配車作成!L32","v":""},null,null,null,{"$f":"配車作成!L35","v":""}]
[null,null,{"$f":"配車作成!L33","v":""}]
[]
[null,null,"業務分担表及び業務変更一覧"]
[null,null,null,{"$f":"勤務表!B4","v":"A職員"},null,{"$f":"勤務表!B5","v":"B職員"},null,{"$f":"勤務表!B6","v":"C職員"},null,{"$f":"勤務表!B7","v":"D職員"},null,{"$f":"勤務表!B8","v":"E職員"},null,{"$f":"勤務表!B9","v":"F職員"},null,{"$f":"勤務表!B10","v":"G職員"},null,{"$f":"勤務表!B11","v":0},null,{"$f":"勤務表!B12","v":0}]
[null,null,null,{"$f":"配車作成!B9","v":"早番"},null,{"$f":"配車作成!B10","v":"明番"},null,{"$f":"配車作成!B11","v":"夜勤"},null,{"$f":"配車作成!B12","v":"K1"},null,{"$f":"配車作成!B13","v":"休"},null,{"$f":"配車作成!B14","v":"休"},null,{"$f":"配車作成!B15","v":"遅番"},null,{"$f":"配車作成!B16","v":0},null,{"$f":"配車作成!B17","v":0}]
[]
[null,null,null,{"$f":"配車作成!F3","v":0},null,{"$f":"配車作成!G3","v":0},null,{"$f":"配車作成!H3","v":0},null,{"$f":"配車作成!I3","v":0},null,{"$f":"配車作成!J3","v":0},null,{"$f":"配車作成!K3","v":0},null,{"$f":"配車作成!L3","v":0},null,{"$f":"配車作成!M3","v":0}]
[]
[]
[null,null,null,{"$f":"勤務表!B13","v":0},null,{"$f":"勤務表!B14","v":0},null,{"$f":"勤務表!B15","v":0},null,{"$f":"勤務表!B16","v":0},null,{"$f":"勤務表!B17","v":0},null,{"$f":"勤務表!B19","v":0}]
[null,null,null,{"$f":"配車作成!B18","v":0},null,{"$f":"配車作成!B19","v":0},null,{"$f":"配車作成!B20","v":0},null,{"$f":"配車作成!B21","v":0},null,{"$f":"配車作成!B22","v":0},null,{"$f":"配車作成!B23","v":0}]
[]
[]
[]
[null,null,"備考"]
[null,null,null,{"$f":"VLOOKUP(WEEKDAY(D3),曜日別表示,2,FALSE)","v":0}]
[null,null,null,{"$f":"Top!$D$104","v":0}]
[null,null,null,{"$f":"Top!$C$144","v":""}]
[]
[null,null,null,null,null,null,null,null,null,null,null,"※継続する送り内容は「情報ノート」へ記載する"]

{"sheet":"泊数","index":10,"n_rows":94,"n_cols":37,"rows_kept":94,"cut":false,"hidden":true,"merged":[[12,1,13,1],[2,1,3,1],[4,1,5,1],[6,1,7,1],[8,1,9,1],[10,1,11,1],[36,1,37,1],[14,1,15,1],[16,1,17,1],[18,1,19,1],[20,1,21,1],[22,1,23,1],[24,1,25,1],[26,1,27,1],[28,1,29,1],[30,1,31,1],[32,1,33,1],[34,1,35,1],[50,1,51,1],[38,1,39,1],[40,1,41,1],[42,1,43,1],[44,1,45,1],[46,1,47,1],[48,1,49,1]]}
[null,null,null,{"$f":"E1-1","v":"2013-05-31"},{"$f":"DATE(年,月,1)","v":"2013-06-01"},{"$f":"E1+1","v":"2013-06-02"},"2013-06-03","2013-06-04","2013-06-05","2013-06-06","2013-06-07","2013-06-08","2013-06-09","2013-06-10","2013-06-11","2013-06-12","2013-06-13","2013-06-14","2013-06-15","2013-06-16","2013-06-17","2013-06-18","2013-06-19","2013-06-20","2013-06-21","2013-06-22","2013-06-23","2013-06-24","2013-06-25","2013-06-26","2013-06-27","2013-06-28",{"$f":"IF(MONTH(AF1+1)=月,AF1+1,\"\")","v":"2013-06-29"},{"$f":"IF(MONTH(AF1+2)=月,AF1+2,\"\")","v":"2013-06-30"},{"$f":"IF(MONTH(AF1+3)=月,AF1+3,\"\")","v":""}]
[null,null,null,{"$f":"D1","v":41425},41426,41427,41428,41429,41430,41431,41432,41433,41434,41435,41436,41437,41438,41439,41440,41441,41442,41443,41444,41445,41446,41447,41448,41449,41450,41451,41452,41453,41454,41455,""]
[null,{"$f":"利用表!B6","v":"利用者A"},null,{"$f":"IF(D4<>\"\",E3+D4,0)","v":4},3,2,1,0,20,19,18,17,16,15,14,13,12,11,10,9,8,7,6,5,4,3,2,1,0,5,4,3,2,1,{"$f":"IF(AI4<>\"\",1,0)","v":0}]
[null,null,null,{"$f":"IF(AND($B$3<>\"\",利用表!C7=\"●\"),1,\"\")","v":1},{"$f":"IF(AND($B$3<>\"\",利用表!D7=\"●\"),1,\"\")","v":1},{"$f":"IF(AND($B$3<>\"\",利用表!E7=\"●\"),1,\"\")","v":1},{"$f":"IF(AND($B$3<>\"\",利用表!F7=\"●\"),1,\"\")","v":1},{"$f":"IF(AND($B$3<>\"\",利用表!G7=\"●\"),1,\"\")","v":""},{"$f":"IF(AND($B$3<>\"\",利用表!H7=\"●\"),1,\"\")","v":1},{"$f":"IF(AND($B$3<>\"\",利用表!I7=\"●\"),1,\"\")","v":1},{"$f":"IF(AND($B$3<>\"\",利用表!J7=\"●\"),1,\"\")","v":1},{"$f":"IF(AND($B$3<>\"\",利用表!K7=\"●\"),1,\"\")","v":1},{"$f":"IF(AND($B$3<>\"\",利用表!L7=\"●\"),1,\"\")","v":1},{"$f":"IF(AND($B$3<>\"\",利用表!M7=\"●\"),1,\"\")","v":1},{"$f":"IF(AND($B$3<>\"\",利用表!N7=\"●\"),1,\"\")","v":1},{"$f":"IF(AND($B$3<>\"\",利用表!O7=\"●\"),1,\"\")","v":1},{"$f":"IF(AND($B$3<>\"\",利用表!P7=\"●\"),1,\"\")","v":1},{"$f":"IF(AND($B$3<>\"\",利用表!Q7=\"●\"),1,\"\")","v":1},{"$f":"IF(AND($B$3<>\"\",利用表!R7=\"●\"),1,\"\")","v":1},{"$f":"IF(AND($B$3<>\"\",利用表!S7=\"●\"),1,\"\")","v":1},{"$f":"IF(AND($B$3<>\"\",利用表!T7=\"●\"),1,\"\")","v":1},{"$f":"IF(AND($B$3<>\"\",利用表!U7=\"●\"),1,\"\")","v":1},{"$f":"IF(AND($B$3<>\"\",利用表!V7=\"●\"),1,\"\")","v":1},{"$f":"IF(AND($B$3<>\"\",利用表!W7=\"●\"),1,\"\")","v":1},{"$f":"IF(AND($B$3<>\"\",利用表!X7=\"●\"),1,\"\")","v":1},{"$f":"IF(AND($B$3<>\"\",利用表!Y7=\"●\"),1,\"\")","v":1},{"$f":"IF(AND($B$3<>\"\",利用表!Z7=\"●\"),1,\"\")","v":1},{"$f":"IF(AND($B$3<>\"\",利用表!AA7=\"●\"),1,\"\")","v":1},{"$f":"IF(AND($B$3<>\"\",利用表!AB7=\"●\"),1,\"\")","v":""},{"$f":"IF(AND($B$3<>\"\",利用表!AC7=\"●\"),1,\"\")","v":1},{"$f":"IF(AND($B$3<>\"\",利用表!AD7=\"●\"),1,\"\")","v":1},{"$f":"IF(AND($B$3<>\"\",利用表!AE7=\"●\"),1,\"\")","v":1},{"$f":"IF(AND($B$3<>\"\",利用表!AF7=\"●\"),1,\"\")","v":1},{"$f":"IF(AND($B$3<>\"\",利用表!AG7=\"●\"),1,\"\")","v":1}]
[null,{"$f":"利用表!B8","v":"利用者B"},null,{"$f":"IF(D6<>\"\",E5+D6,0)","v":2},1,0,0,0,9,8,7,6,5,4,3,2,1,0,0,0,14,13,12,11,10,9,8,7,6,5,4,3,2,1,{"$f":"IF(AI6<>\"\",1,0)","v":0}]
[null,null,null,{"$f":"IF(AND($B$3<>\"\",利用表!C9=\"●\"),1,\"\")","v":1},{"$f":"IF(AND($B$3<>\"\",利用表!D9=\"●\"),1,\"\")","v":1},{"$f":"IF(AND($B$3<>\"\",利用表!E9=\"●\"),1,\"\")","v":""},{"$f":"IF(AND($B$3<>\"\",利用表!F9=\"●\"),1,\"\")","v":""},{"$f":"IF(AND($B$3<>\"\",利用表!G9=\"●\"),1,\"\")","v":""},{"$f":"IF(AND($B$3<>\"\",利用表!H9=\"●\"),1,\"\")","v":1},{"$f":"IF(AND($B$3<>\"\",利用表!I9=\"●\"),1,\"\")","v":1},{"$f":"IF(AND($B$3<>\"\",利用表!J9=\"●\"),1,\"\")","v":1},{"$f":"IF(AND($B$3<>\"\",利用表!K9=\"●\"),1,\"\")","v":1},{"$f":"IF(AND($B$3<>\"\",利用表!L9=\"●\"),1,\"\")","v":1},{"$f":"IF(AND($B$3<>\"\",利用表!M9=\"●\"),1,\"\")","v":1},{"$f":"IF(AND($B$3<>\"\",利用表!N9=\"●\"),1,\"\")","v":1},{"$f":"IF(AND($B$3<>\"\",利用表!O9=\"●\"),1,\"\")","v":1},{"$f":"IF(AND($B$3<>\"\",利用表!P9=\"●\"),1,\"\")","v":1},{"$f":"IF(AND($B$3<>\"\",利用表!Q9=\"●\"),1,\"\")","v":""},{"$f":"IF(AND($B$3<>\"\",利用表!R9=\"●\"),1,\"\")","v":""},{"$f":"IF(AND($B$3<>\"\",利用表!S9=\"●\"),1,\"\")","v":""},{"$f":"IF(AND($B$3<>\"\",利用表!T9=\"●\"),1,\"\")","v":1},{"$f":"IF(AND($B$3<>\"\",利用表!U9=\"●\"),1,\"\")","v":1},{"$f":"IF(AND($B$3<>\"\",利用表!V9=\"●\"),1,\"\")","v":1},{"$f":"IF(AND($B$3<>\"\",利用表!W9=\"●\"),1,\"\")","v":1},{"$f":"IF(AND($B$3<>\"\",利用表!X9=\"●\"),1,\"\")","v":1},{"$f":"IF(AND($B$3<>\"\",利用表!Y9=\"●\"),1,\"\")","v":1},{"$f":"IF(AND($B$3<>\"\",利用表!Z9=\"●\"),1,\"\")","v":1},{"$f":"IF(AND($B$3<>\"\",利用表!AA9=\"●\"),1,\"\")","v":1},{"$f":"IF(AND($B$3<>\"\",利用表!AB9=\"●\"),1,\"\")","v":1},{"$f":"IF(AND($B$3<>\"\",利用表!AC9=\"●\"),1,\"\")","v":1},{"$f":"IF(AND($B$3<>\"\",利用表!AD9=\"●\"),1,\"\")","v":1},{"$f":"IF(AND($B$3<>\"\",利用表!AE9=\"●\"),1,\"\")","v":1},{"$f":"IF(AND($B$3<>\"\",利用表!AF9=\"●\"),1,\"\")","v":1},{"$f":"IF(AND($B$3<>\"\",利用表!AG9=\"●\"),1,\"\")","v":1}]
[null,{"$f":"利用表!B10","v":"利用者C"},null,{"$f":"IF(D8<>\"\",E7+D8,0)","v":0},0,0,0,0,0,0,0,0,0,0,0,0,0,0,0,0,0,0,0,0,0,0,0,0,0,0,0,0,0,0,{"$f":"IF(AI8<>\"\",1,0)","v":0}]
[null,null,null,{"$f":"IF(AND($B$3<>\"\",利用表!C11=\"●\"),1,\"\")","v":""},{"$f":"IF(AND($B$3<>\"\",利用表!D11=\"●\"),1,\"\")","v":""},{"$f":"IF(AND($B$3<>\"\",利用表!E11=\"●\"),1,\"\")","v":""},{"$f":"IF(AND($B$3<>\"\",利用表!F11=\"●\"),1,\"\")","v":""},{"$f":"IF(AND($B$3<>\"\",利用表!G11=\"●\"),1,\"\")","v":""},{"$f":"IF(AND($B$3<>\"\",利用表!H11=\"●\"),1,\"\")","v":""},{"$f":"IF(AND($B$3<>\"\",利用表!I11=\"●\"),1,\"\")","v":""},{"$f":"IF(AND($B$3<>\"\",利用表!J11=\"●\"),1,\"\")","v":""},{"$f":"IF(AND($B$3<>\"\",利用表!K11=\"●\"),1,\"\")","v":""},{"$f":"IF(AND($B$3<>\"\",利用表!L11=\"●\"),1,\"\")","v":""},{"$f":"IF(AND($B$3<>\"\",利用表!M11=\"●\"),1,\"\")","v":""},{"$f":"IF(AND($B$3<>\"\",利用表!N11=\"●\"),1,\"\")","v":""},{"$f":"IF(AND($B$3<>\"\",利用表!O11=\"●\"),1,\"\")","v":""},{"$f":"IF(AND($B$3<>\"\",利用表!P11=\"●\"),1,\"\")","v":""},{"$f":"IF(AND($B$3<>\"\",利用表!Q11=\"●\"),1,\"\")","v":""},{"$f":"IF(AND($B$3<>\"\",利用表!R11=\"●\"),1,\"\")","v":""},{"$f":"IF(AND($B$3<>\"\",利用表!S11=\"●\"),1,\"\")","v":""},{"$f":"IF(AND($B$3<>\"\",利用表!T11=\"●\"),1,\"\")","v":""},{"$f":"IF(AND($B$3<>\"\",利用表!U11=\"●\"),1,\"\")","v":""},{"$f":"IF(AND($B$3<>\"\",利用表!V11=\"●\"),1,\"\")","v":""},{"$f":"IF(AND($B$3<>\"\",利用表!W11=\"●\"),1,\"\")","v":""},{"$f":"IF(AND($B$3<>\"\",利用表!X11=\"●\"),1,\"\")","v":""},{"$f":"IF(AND($B$3<>\"\",利用表!Y11=\"●\"),1,\"\")","v":""},{"$f":"IF(AND($B$3<>\"\",利用表!Z11=\"●\"),1,\"\")","v":""},{"$f":"IF(AND($B$3<>\"\",利用表!AA11=\"●\"),1,\"\")","v":""},{"$f":"IF(AND($B$3<>\"\",利用表!AB11=\"●\"),1,\"\")","v":""},{"$f":"IF(AND($B$3<>\"\",利用表!AC11=\"●\"),1,\"\")","v":""},{"$f":"IF(AND($B$3<>\"\",利用表!AD11=\"●\"),1,\"\")","v":""},{"$f":"IF(AND($B$3<>\"\",利用表!AE11=\"●\"),1,\"\")","v":""},{"$f":"IF(AND($B$3<>\"\",利用表!AF11=\"●\"),1,\"\")","v":""},{"$f":"IF(AND($B$3<>\"\",利用表!AG11=\"●\"),1,\"\")","v":""}]
[null,{"$f":"利用表!B12","v":"利用者D"},null,{"$f":"IF(D10<>\"\",E9+D10,0)","v":0},0,0,0,0,0,0,0,0,0,0,0,0,0,0,0,0,0,0,0,0,0,0,0,0,0,0,0,0,0,0,{"$f":"IF(AI10<>\"\",1,0)","v":0}]
[null,null,null,{"$f":"IF(AND($B$3<>\"\",利用表!C13=\"●\"),1,\"\")","v":""},{"$f":"IF(AND($B$3<>\"\",利用表!D13=\"●\"),1,\"\")","v":""},{"$f":"IF(AND($B$3<>\"\",利用表!E13=\"●\"),1,\"\")","v":""},{"$f":"IF(AND($B$3<>\"\",利用表!F13=\"●\"),1,\"\")","v":""},{"$f":"IF(AND($B$3<>\"\",利用表!G13=\"●\"),1,\"\")","v":""},{"$f":"IF(AND($B$3<>\"\",利用表!H13=\"●\"),1,\"\")","v":""},{"$f":"IF(AND($B$3<>\"\",利用表!I13=\"●\"),1,\"\")","v":""},{"$f":"IF(AND($B$3<>\"\",利用表!J13=\"●\"),1,\"\")","v":""},{"$f":"IF(AND($B$3<>\"\",利用表!K13=\"●\"),1,\"\")","v":""},{"$f":"IF(AND($B$3<>\"\",利用表!L13=\"●\"),1,\"\")","v":""},{"$f":"IF(AND($B$3<>\"\",利用表!M13=\"●\"),1,\"\")","v":""},{"$f":"IF(AND($B$3<>\"\",利用表!N13=\"●\"),1,\"\")","v":""},{"$f":"IF(AND($B$3<>\"\",利用表!O13=\"●\"),1,\"\")","v":""},{"$f":"IF(AND($B$3<>\"\",利用表!P13=\"●\"),1,\"\")","v":""},{"$f":"IF(AND($B$3<>\"\",利用表!Q13=\"●\"),1,\"\")","v":""},{"$f":"IF(AND($B$3<>\"\",利用表!R13=\"●\"),1,\"\")","v":""},{"$f":"IF(AND($B$3<>\"\",利用表!S13=\"●\"),1,\"\")","v":""},{"$f":"IF(AND($B$3<>\"\",利用表!T13=\"●\"),1,\"\")","v":""},{"$f":"IF(AND($B$3<>\"\",利用表!U13=\"●\"),1,\"\")","v":""},{"$f":"IF(AND($B$3<>\"\",利用表!V13=\"●\"),1,\"\")","v":""},{"$f":"IF(AND($B$3<>\"\",利用表!W13=\"●\"),1,\"\")","v":""},{"$f":"IF(AND($B$3<>\"\",利用表!X13=\"●\"),1,\"\")","v":""},{"$f":"IF(AND($B$3<>\"\",利用表!Y13=\"●\"),1,\"\")","v":""},{"$f":"IF(AND($B$3<>\"\",利用表!Z13=\"●\"),1,\"\")","v":""},{"$f":"IF(AND($B$3<>\"\",利用表!AA13=\"●\"),1,\"\")","v":""},{"$f":"IF(AND($B$3<>\"\",利用表!AB13=\"●\"),1,\"\")","v":""},{"$f":"IF(AND($B$3<>\"\",利用表!AC13=\"●\"),1,\"\")","v":""},{"$f":"IF(AND($B$3<>\"\",利用表!AD13=\"●\"),1,\"\")","v":""},{"$f":"IF(AND($B$3<>\"\",利用表!AE13=\"●\"),1,\"\")","v":""},{"$f":"IF(AND($B$3<>\"\",利用表!AF13=\"●\"),1,\"\")","v":""},{"$f":"IF(AND($B$3<>\"\",利用表!AG13=\"●\"),1,\"\")","v":""}]
[null,{"$f":"利用表!B14","v":"利用者E"},null,{"$f":"IF(D12<>\"\",E11+D12,0)","v":0},0,0,0,3,2,1,0,0,0,0,3,2,1,0,0,0,0,3,2,1,0,0,0,0,3,2,1,0,0,0,{"$f":"IF(AI12<>\"\",1,0)","v":0}]
[null,null,null,{"$f":"IF(AND($B$3<>\"\",利用表!C15=\"●\"),1,\"\")","v":""},{"$f":"IF(AND($B$3<>\"\",利用表!D15=\"●\"),1,\"\")","v":""},{"$f":"IF(AND($B$3<>\"\",利用表!E15=\"●\"),1,\"\")","v":""},{"$f":"IF(AND($B$3<>\"\",利用表!F15=\"●\"),1,\"\")","v":""},{"$f":"IF(AND($B$3<>\"\",利用表!G15=\"●\"),1,\"\")","v":1},{"$f":"IF(AND($B$3<>\"\",利用表!H15=\"●\"),1,\"\")","v":1},{"$f":"IF(AND($B$3<>\"\",利用表!I15=\"●\"),1,\"\")","v":1},{"$f":"IF(AND($B$3<>\"\",利用表!J15=\"●\"),1,\"\")","v":""},{"$f":"IF(AND($B$3<>\"\",利用表!K15=\"●\"),1,\"\")","v":""},{"$f":"IF(AND($B$3<>\"\",利用表!L15=\"●\"),1,\"\")","v":""},{"$f":"IF(AND($B$3<>\"\",利用表!M15=\"●\"),1,\"\")","v":""},{"$f":"IF(AND($B$3<>\"\",利用表!N15=\"●\"),1,\"\")","v":1},{"$f":"IF(AND($B$3<>\"\",利用表!O15=\"●\"),1,\"\")","v":1},{"$f":"IF(AND($B$3<>\"\",利用表!P15=\"●\"),1,\"\")","v":1},{"$f":"IF(AND($B$3<>\"\",利用表!Q15=\"●\"),1,\"\")","v":""},{"$f":"IF(AND($B$3<>\"\",利用表!R15=\"●\"),1,\"\")","v":""},{"$f":"IF(AND($B$3<>\"\",利用表!S15=\"●\"),1,\"\")","v":""},{"$f":"IF(AND($B$3<>\"\",利用表!T15=\"●\"),1,\"\")","v":""},{"$f":"IF(AND($B$3<>\"\",利用表!U15=\"●\"),1,\"\")","v":1},{"$f":"IF(AND($B$3<>\"\",利用表!V15=\"●\"),1,\"\")","v":1},{"$f":"IF(AND($B$3<>\"\",利用表!W15=\"●\"),1,\"\")","v":1},{"$f":"IF(AND($B$3<>\"\",利用表!X15=\"●\"),1,\"\")","v":""},{"$f":"IF(AND($B$3<>\"\",利用表!Y15=\"●\"),1,\"\")","v":""},{"$f":"IF(AND($B$3<>\"\",利用表!Z15=\"●\"),1,\"\")","v":""},{"$f":"IF(AND($B$3<>\"\",利用表!AA15=\"●\"),1,\"\")","v":""},{"$f":"IF(AND($B$3<>\"\",利用表!AB15=\"●\"),1,\"\")","v":1},{"$f":"IF(AND($B$3<>\"\",利用表!AC15=\"●\"),1,\"\")","v":1},{"$f":"IF(AND($B$3<>\"\",利用表!AD15=\"●\"),1,\"\")","v":1},{"$f":"IF(AND($B$3<>\"\",利用表!AE15=\"●\"),1,\"\")","v":""},{"$f":"IF(AND($B$3<>\"\",利用表!AF15=\"●\"),1,\"\")","v":""},{"$f":"IF(AND($B$3<>\"\",利用表!AG15=\"●\"),1,\"\")","v":""}]
[null,{"$f":"利用表!B16","v":"利用者F"},null,{"$f":"IF(D14<>\"\",E13+D14,0)","v":0},0,0,0,0,0,0,0,0,0,0,0,0,0,0,0,0,0,0,0,0,0,0,0,0,0,0,0,0,0,0,{"$f":"IF(AI14<>\"\",1,0)","v":0}]
[null,null,null,{"$f":"IF(AND($B$3<>\"\",利用表!C17=\"●\"),1,\"\")","v":""},{"$f":"IF(AND($B$3<>\"\",利用表!D17=\"●\"),1,\"\")","v":""},{"$f":"IF(AND($B$3<>\"\",利用表!E17=\"●\"),1,\"\")","v":""},{"$f":"IF(AND($B$3<>\"\",利用表!F17=\"●\"),1,\"\")","v":""},{"$f":"IF(AND($B$3<>\"\",利用表!G17=\"●\"),1,\"\")","v":""},{"$f":"IF(AND($B$3<>\"\",利用表!H17=\"●\"),1,\"\")","v":""},{"$f":"IF(AND($B$3<>\"\",利用表!I17=\"●\"),1,\"\")","v":""},{"$f":"IF(AND($B$3<>\"\",利用表!J17=\"●\"),1,\"\")","v":""},{"$f":"IF(AND($B$3<>\"\",利用表!K17=\"●\"),1,\"\")","v":""},{"$f":"IF(AND($B$3<>\"\",利用表!L17=\"●\"),1,\"\")","v":""},{"$f":"IF(AND($B$3<>\"\",利用表!M17=\"●\"),1,\"\")","v":""},{"$f":"IF(AND($B$3<>\"\",利用表!N17=\"●\"),1,\"\")","v":""},{"$f":"IF(AND($B$3<>\"\",利用表!O17=\"●\"),1,\"\")","v":""},{"$f":"IF(AND($B$3<>\"\",利用表!P17=\"●\"),1,\"\")","v":""},{"$f":"IF(AND($B$3<>\"\",利用表!Q17=\"●\"),1,\"\")","v":""},{"$f":"IF(AND($B$3<>\"\",利用表!R17=\"●\"),1,\"\")","v":""},{"$f":"IF(AND($B$3<>\"\",利用表!S17=\"●\"),1,\"\")","v":""},{"$f":"IF(AND($B$3<>\"\",利用表!T17=\"●\"),1,\"\")","v":""},{"$f":"IF(AND($B$3<>\"\",利用表!U17=\"●\"),1,\"\")","v":""},{"$f":"IF(AND($B$3<>\"\",利用表!V17=\"●\"),1,\"\")","v":""},{"$f":"IF(AND($B$3<>\"\",利用表!W17=\"●\"),1,\"\")","v":""},{"$f":"IF(AND($B$3<>\"\",利用表!X17=\"●\"),1,\"\")","v":""},{"$f":"IF(AND($B$3<>\"\",利用表!Y17=\"●\"),1,\"\")","v":""},{"$f":"IF(AND($B$3<>\"\",利用表!Z17=\"●\"),1,\"\")","v":""},{"$f":"IF(AND($B$3<>\"\",利用表!AA17=\"●\"),1,\"\")","v":""},{"$f":"IF(AND($B$3<>\"\",利用表!AB17=\"●\"),1,\"\")","v":""},{"$f":"IF(AND($B$3<>\"\",利用表!AC17=\"●\"),1,\"\")","v":""},{"$f":"IF(AND($B$3<>\"\",利用表!AD17=\"●\"),1,\"\")","v":""},{"$f":"IF(AND($B$3<>\"\",利用表!AE17=\"●\"),1,\"\")","v":""},{"$f":"IF(AND($B$3<>\"\",利用表!AF17=\"●\"),1,\"\")","v":""},{"$f":"IF(AND($B$3<>\"\",利用表!AG17=\"●\"),1,\"\")","v":""}]
[null,{"$f":"利用表!B18","v":"利用者G"},null,{"$f":"IF(D16<>\"\",E15+D16,0)","v":31},30,29,28,27,26,25,24,23,22,21,20,19,18,17,16,15,14,13,12,11,10,9,8,7,6,5,4,3,2,1,{"$f":"IF(AI16<>\"\",1,0)","v":0}]
[null,null,null,{"$f":"IF(AND($B$3<>\"\",利用表!C19=\"●\"),1,\"\")","v":1},{"$f":"IF(AND($B$3<>\"\",利用表!D19=\"●\"),1,\"\")","v":1},{"$f":"IF(AND($B$3<>\"\",利用表!E19=\"●\"),1,\"\")","v":1},{"$f":"IF(AND($B$3<>\"\",利用表!F19=\"●\"),1,\"\")","v":1},{"$f":"IF(AND($B$3<>\"\",利用表!G19=\"●\"),1,\"\")","v":1},{"$f":"IF(AND($B$3<>\"\",利用表!H19=\"●\"),1,\"\")","v":1},{"$f":"IF(AND($B$3<>\"\",利用表!I19=\"●\"),1,\"\")","v":1},{"$f":"IF(AND($B$3<>\"\",利用表!J19=\"●\"),1,\"\")","v":1},{"$f":"IF(AND($B$3<>\"\",利用表!K19=\"●\"),1,\"\")","v":1},{"$f":"IF(AND($B$3<>\"\",利用表!L19=\"●\"),1,\"\")","v":1},{"$f":"IF(AND($B$3<>\"\",利用表!M19=\"●\"),1,\"\")","v":1},{"$f":"IF(AND($B$3<>\"\",利用表!N19=\"●\"),1,\"\")","v":1},{"$f":"IF(AND($B$3<>\"\",利用表!O19=\"●\"),1,\"\")","v":1},{"$f":"IF(AND($B$3<>\"\",利用表!P19=\"●\"),1,\"\")","v":1},{"$f":"IF(AND($B$3<>\"\",利用表!Q19=\"●\"),1,\"\")","v":1},{"$f":"IF(AND($B$3<>\"\",利用表!R19=\"●\"),1,\"\")","v":1},{"$f":"IF(AND($B$3<>\"\",利用表!S19=\"●\"),1,\"\")","v":1},{"$f":"IF(AND($B$3<>\"\",利用表!T19=\"●\"),1,\"\")","v":1},{"$f":"IF(AND($B$3<>\"\",利用表!U19=\"●\"),1,\"\")","v":1},{"$f":"IF(AND($B$3<>\"\",利用表!V19=\"●\"),1,\"\")","v":1},{"$f":"IF(AND($B$3<>\"\",利用表!W19=\"●\"),1,\"\")","v":1},{"$f":"IF(AND($B$3<>\"\",利用表!X19=\"●\"),1,\"\")","v":1},{"$f":"IF(AND($B$3<>\"\",利用表!Y19=\"●\"),1,\"\")","v":1},{"$f":"IF(AND($B$3<>\"\",利用表!Z19=\"●\"),1,\"\")","v":1},{"$f":"IF(AND($B$3<>\"\",利用表!AA19=\"●\"),1,\"\")","v":1},{"$f":"IF(AND($B$3<>\"\",利用表!AB19=\"●\"),1,\"\")","v":1},{"$f":"IF(AND($B$3<>\"\",利用表!AC19=\"●\"),1,\"\")","v":1},{"$f":"IF(AND($B$3<>\"\",利用表!AD19=\"●\"),1,\"\")","v":1},{"$f":"IF(AND($B$3<>\"\",利用表!AE19=\"●\"),1,\"\")","v":1},{"$f":"IF(AND($B$3<>\"\",利用表!AF19=\"●\"),1,\"\")","v":1},{"$f":"IF(AND($B$3<>\"\",利用表!AG19=\"●\"),1,\"\")","v":1}]
[null,{"$f":"利用表!B20","v":"利用者H"},null,{"$f":"IF(D18<>\"\",E17+D18,0)","v":31},30,29,28,27,26,25,24,23,22,21,20,19,18,17,16,15,14,13,12,11,10,9,8,7,6,5,4,3,2,1,{"$f":"IF(AI18<>\"\",1,0)","v":0}]
[null,null,null,{"$f":"IF(AND($B$3<>\"\",利用表!C21=\"●\"),1,\"\")","v":1},{"$f":"IF(AND($B$3<>\"\",利用表!D21=\"●\"),1,\"\")","v":1},{"$f":"IF(AND($B$3<>\"\",利用表!E21=\"●\"),1,\"\")","v":1},{"$f":"IF(AND($B$3<>\"\",利用表!F21=\"●\"),1,\"\")","v":1},{"$f":"IF(AND($B$3<>\"\",利用表!G21=\"●\"),1,\"\")","v":1},{"$f":"IF(AND($B$3<>\"\",利用表!H21=\"●\"),1,\"\")","v":1},{"$f":"IF(AND($B$3<>\"\",利用表!I21=\"●\"),1,\"\")","v":1},{"$f":"IF(AND($B$3<>\"\",利用表!J21=\"●\"),1,\"\")","v":1},{"$f":"IF(AND($B$3<>\"\",利用表!K21=\"●\"),1,\"\")","v":1},{"$f":"IF(AND($B$3<>\"\",利用表!L21=\"●\"),1,\"\")","v":1},{"$f":"IF(AND($B$3<>\"\",利用表!M21=\"●\"),1,\"\")","v":1},{"$f":"IF(AND($B$3<>\"\",利用表!N21=\"●\"),1,\"\")","v":1},{"$f":"IF(AND($B$3<>\"\",利用表!O21=\"●\"),1,\"\")","v":1},{"$f":"IF(AND($B$3<>\"\",利用表!P21=\"●\"),1,\"\")","v":1},{"$f":"IF(AND($B$3<>\"\",利用表!Q21=\"●\"),1,\"\")","v":1},{"$f":"IF(AND($B$3<>\"\",利用表!R21=\"●\"),1,\"\")","v":1},{"$f":"IF(AND($B$3<>\"\",利用表!S21=\"●\"),1,\"\")","v":1},{"$f":"IF(AND($B$3<>\"\",利用表!T21=\"●\"),1,\"\")","v":1},{"$f":"IF(AND($B$3<>\"\",利用表!U21=\"●\"),1,\"\")","v":1},{"$f":"IF(AND($B$3<>\"\",利用表!V21=\"●\"),1,\"\")","v":1},{"$f":"IF(AND($B$3<>\"\",利用表!W21=\"●\"),1,\"\")","v":1},{"$f":"IF(AND($B$3<>\"\",利用表!X21=\"●\"),1,\"\")","v":1},{"$f":"IF(AND($B$3<>\"\",利用表!Y21=\"●\"),1,\"\")","v":1},{"$f":"IF(AND($B$3<>\"\",利用表!Z21=\"●\"),1,\"\")","v":1},{"$f":"IF(AND($B$3<>\"\",利用表!AA21=\"●\"),1,\"\")","v":1},{"$f":"IF(AND($B$3<>\"\",利用表!AB21=\"●\"),1,\"\")","v":1},{"$f":"IF(AND($B$3<>\"\",利用表!AC21=\"●\"),1,\"\")","v":1},{"$f":"IF(AND($B$3<>\"\",利用表!AD21=\"●\"),1,\"\")","v":1},{"$f":"IF(AND($B$3<>\"\",利用表!AE21=\"●\"),1,\"\")","v":1},{"$f":"IF(AND($B$3<>\"\",利用表!AF21=\"●\"),1,\"\")","v":1},{"$f":"IF(AND($B$3<>\"\",利用表!AG21=\"●\"),1,\"\")","v":1}]
[null,{"$f":"利用表!B22","v":"利用者I"},null,{"$f":"IF(D20<>\"\",E19+D20,0)","v":0},0,0,0,0,0,0,0,0,0,0,0,0,0,0,0,0,0,0,0,0,0,0,0,0,0,0,0,0,0,0,{"$f":"IF(AI20<>\"\",1,0)","v":0}]
[null,null,null,{"$f":"IF(AND($B$3<>\"\",利用表!C23=\"●\"),1,\"\")","v":""},{"$f":"IF(AND($B$3<>\"\",利用表!D23=\"●\"),1,\"\")","v":""},{"$f":"IF(AND($B$3<>\"\",利用表!E23=\"●\"),1,\"\")","v":""},{"$f":"IF(AND($B$3<>\"\",利用表!F23=\"●\"),1,\"\")","v":""},{"$f":"IF(AND($B$3<>\"\",利用表!G23=\"●\"),1,\"\")","v":""},{"$f":"IF(AND($B$3<>\"\",利用表!H23=\"●\"),1,\"\")","v":""},{"$f":"IF(AND($B$3<>\"\",利用表!I23=\"●\"),1,\"\")","v":""},{"$f":"IF(AND($B$3<>\"\",利用表!J23=\"●\"),1,\"\")","v":""},{"$f":"IF(AND($B$3<>\"\",利用表!K23=\"●\"),1,\"\")","v":""},{"$f":"IF(AND($B$3<>\"\",利用表!L23=\"●\"),1,\"\")","v":""},{"$f":"IF(AND($B$3<>\"\",利用表!M23=\"●\"),1,\"\")","v":""},{"$f":"IF(AND($B$3<>\"\",利用表!N23=\"●\"),1,\"\")","v":""},{"$f":"IF(AND($B$3<>\"\",利用表!O23=\"●\"),1,\"\")","v":""},{"$f":"IF(AND($B$3<>\"\",利用表!P23=\"●\"),1,\"\")","v":""},{"$f":"IF(AND($B$3<>\"\",利用表!Q23=\"●\"),1,\"\")","v":""},{"$f":"IF(AND($B$3<>\"\",利用表!R23=\"●\"),1,\"\")","v":""},{"$f":"IF(AND($B$3<>\"\",利用表!S23=\"●\"),1,\"\")","v":""},{"$f":"IF(AND($B$3<>\"\",利用表!T23=\"●\"),1,\"\")","v":""},{"$f":"IF(AND($B$3<>\"\",利用表!U23=\"●\"),1,\"\")","v":""},{"$f":"IF(AND($B$3<>\"\",利用表!V23=\"●\"),1,\"\")","v":""},{"$f":"IF(AND($B$3<>\"\",利用表!W23=\"●\"),1,\"\")","v":""},{"$f":"IF(AND($B$3<>\"\",利用表!X23=\"●\"),1,\"\")","v":""},{"$f":"IF(AND($B$3<>\"\",利用表!Y23=\"●\"),1,\"\")","v":""},{"$f":"IF(AND($B$3<>\"\",利用表!Z23=\"●\"),1,\"\")","v":""},{"$f":"IF(AND($B$3<>\"\",利用表!AA23=\"●\"),1,\"\")","v":""},{"$f":"IF(AND($B$3<>\"\",利用表!AB23=\"●\"),1,\"\")","v":""},{"$f":"IF(AND($B$3<>\"\",利用表!AC23=\"●\"),1,\"\")","v":""},{"$f":"IF(AND($B$3<>\"\",利用表!AD23=\"●\"),1,\"\")","v":""},{"$f":"IF(AND($B$3<>\"\",利用表!AE23=\"●\"),1,\"\")","v":""},{"$f":"IF(AND($B$3<>\"\",利用表!AF23=\"●\"),1,\"\")","v":""},{"$f":"IF(AND($B$3<>\"\",利用表!AG23=\"●\"),1,\"\")","v":""}]
[null,{"$f":"利用表!B24","v":"利用者J"},null,{"$f":"IF(D22<>\"\",E21+D22,0)","v":0},0,0,0,0,0,0,0,0,0,0,0,0,0,0,0,0,0,0,0,0,0,0,0,0,0,0,0,0,0,0,{"$f":"IF(AI22<>\"\",1,0)","v":0}]
[null,null,null,{"$f":"IF(AND($B$3<>\"\",利用表!C25=\"●\"),1,\"\")","v":""},{"$f":"IF(AND($B$3<>\"\",利用表!D25=\"●\"),1,\"\")","v":""},{"$f":"IF(AND($B$3<>\"\",利用表!E25=\"●\"),1,\"\")","v":""},{"$f":"IF(AND($B$3<>\"\",利用表!F25=\"●\"),1,\"\")","v":""},{"$f":"IF(AND($B$3<>\"\",利用表!G25=\"●\"),1,\"\")","v":""},{"$f":"IF(AND($B$3<>\"\",利用表!H25=\"●\"),1,\"\")","v":""},{"$f":"IF(AND($B$3<>\"\",利用表!I25=\"●\"),1,\"\")","v":""},{"$f":"IF(AND($B$3<>\"\",利用表!J25=\"●\"),1,\"\")","v":""},{"$f":"IF(AND($B$3<>\"\",利用表!K25=\"●\"),1,\"\")","v":""},{"$f":"IF(AND($B$3<>\"\",利用表!L25=\"●\"),1,\"\")","v":""},{"$f":"IF(AND($B$3<>\"\",利用表!M25=\"●\"),1,\"\")","v":""},{"$f":"IF(AND($B$3<>\"\",利用表!N25=\"●\"),1,\"\")","v":""},{"$f":"IF(AND($B$3<>\"\",利用表!O25=\"●\"),1,\"\")","v":""},{"$f":"IF(AND($B$3<>\"\",利用表!P25=\"●\"),1,\"\")","v":""},{"$f":"IF(AND($B$3<>\"\",利用表!Q25=\"●\"),1,\"\")","v":""},{"$f":"IF(AND($B$3<>\"\",利用表!R25=\"●\"),1,\"\")","v":""},{"$f":"IF(AND($B$3<>\"\",利用表!S25=\"●\"),1,\"\")","v":""},{"$f":"IF(AND($B$3<>\"\",利用表!T25=\"●\"),1,\"\")","v":""},{"$f":"IF(AND($B$3<>\"\",利用表!U25=\"●\"),1,\"\")","v":""},{"$f":"IF(AND($B$3<>\"\",利用表!V25=\"●\"),1,\"\")","v":""},{"$f":"IF(AND($B$3<>\"\",利用表!W25=\"●\"),1,\"\")","v":""},{"$f":"IF(AND($B$3<>\"\",利用表!X25=\"●\"),1,\"\")","v":""},{"$f":"IF(AND($B$3<>\"\",利用表!Y25=\"●\"),1,\"\")","v":""},{"$f":"IF(AND($B$3<>\"\",利用表!Z25=\"●\"),1,\"\")","v":""},{"$f":"IF(AND($B$3<>\"\",利用表!AA25=\"●\"),1,\"\")","v":""},{"$f":"IF(AND($B$3<>\"\",利用表!AB25=\"●\"),1,\"\")","v":""},{"$f":"IF(AND($B$3<>\"\",利用表!AC25=\"●\"),1,\"\")","v":""},{"$f":"IF(AND($B$3<>\"\",利用表!AD25=\"●\"),1,\"\")","v":""},{"$f":"IF(AND($B$3<>\"\",利用表!AE25=\"●\"),1,\"\")","v":""},{"$f":"IF(AND($B$3<>\"\",利用表!AF25=\"●\"),1,\"\")","v":""},{"$f":"IF(AND($B$3<>\"\",利用表!AG25=\"●\"),1,\"\")","v":""}]
[null,{"$f":"利用表!B26","v":""},null,{"$f":"IF(D24<>\"\",E23+D24,0)","v":0},0,0,0,0,0,0,0,0,0,0,0,0,0,0,0,0,0,0,0,0,0,0,0,0,0,0,0,0,0,0,{"$f":"IF(AI24<>\"\",1,0)","v":0}]
[null,null,null,{"$f":"IF(AND($B$3<>\"\",利用表!C27=\"●\"),1,\"\")","v":""},{"$f":"IF(AND($B$3<>\"\",利用表!D27=\"●\"),1,\"\")","v":""},{"$f":"IF(AND($B$3<>\"\",利用表!E27=\"●\"),1,\"\")","v":""},{"$f":"IF(AND($B$3<>\"\",利用表!F27=\"●\"),1,\"\")","v":""},{"$f":"IF(AND($B$3<>\"\",利用表!G27=\"●\"),1,\"\")","v":""},{"$f":"IF(AND($B$3<>\"\",利用表!H27=\"●\"),1,\"\")","v":""},{"$f":"IF(AND($B$3<>\"\",利用表!I27=\"●\"),1,\"\")","v":""},{"$f":"IF(AND($B$3<>\"\",利用表!J27=\"●\"),1,\"\")","v":""},{"$f":"IF(AND($B$3<>\"\",利用表!K27=\"●\"),1,\"\")","v":""},{"$f":"IF(AND($B$3<>\"\",利用表!L27=\"●\"),1,\"\")","v":""},{"$f":"IF(AND($B$3<>\"\",利用表!M27=\"●\"),1,\"\")","v":""},{"$f":"IF(AND($B$3<>\"\",利用表!N27=\"●\"),1,\"\")","v":""},{"$f":"IF(AND($B$3<>\"\",利用表!O27=\"●\"),1,\"\")","v":""},{"$f":"IF(AND($B$3<>\"\",利用表!P27=\"●\"),1,\"\")","v":""},{"$f":"IF(AND($B$3<>\"\",利用表!Q27=\"●\"),1,\"\")","v":""},{"$f":"IF(AND($B$3<>\"\",利用表!R27=\"●\"),1,\"\")","v":""},{"$f":"IF(AND($B$3<>\"\",利用表!S27=\"●\"),1,\"\")","v":""},{"$f":"IF(AND($B$3<>\"\",利用表!T27=\"●\"),1,\"\")","v":""},{"$f":"IF(AND($B$3<>\"\",利用表!U27=\"●\"),1,\"\")","v":""},{"$f":"IF(AND($B$3<>\"\",利用表!V27=\"●\"),1,\"\")","v":""},{"$f":"IF(AND($B$3<>\"\",利用表!W27=\"●\"),1,\"\")","v":""},{"$f":"IF(AND($B$3<>\"\",利用表!X27=\"●\"),1,\"\")","v":""},{"$f":"IF(AND($B$3<>\"\",利用表!Y27=\"●\"),1,\"\")","v":""},{"$f":"IF(AND($B$3<>\"\",利用表!Z27=\"●\"),1,\"\")","v":""},{"$f":"IF(AND($B$3<>\"\",利用表!AA27=\"●\"),1,\"\")","v":""},{"$f":"IF(AND($B$3<>\"\",利用表!AB27=\"●\"),1,\"\")","v":""},{"$f":"IF(AND($B$3<>\"\",利用表!AC27=\"●\"),1,\"\")","v":""},{"$f":"IF(AND($B$3<>\"\",利用表!AD27=\"●\"),1,\"\")","v":""},{"$f":"IF(AND($B$3<>\"\",利用表!AE27=\"●\"),1,\"\")","v":""},{"$f":"IF(AND($B$3<>\"\",利用表!AF27=\"●\"),1,\"\")","v":""},{"$f":"IF(AND($B$3<>\"\",利用表!AG27=\"●\"),1,\"\")","v":""}]
[null,{"$f":"利用表!B28","v":""},null,{"$f":"IF(D26<>\"\",E25+D26,0)","v":0},0,0,0,0,0,0,0,0,0,0,0,0,0,0,0,0,0,0,0,0,0,0,0,0,0,0,0,0,0,0,{"$f":"IF(AI26<>\"\",1,0)","v":0},null,0]
[null,null,null,{"$f":"IF(AND($B$3<>\"\",利用表!C29=\"●\"),1,\"\")","v":""},{"$f":"IF(AND($B$3<>\"\",利用表!D29=\"●\"),1,\"\")","v":""},{"$f":"IF(AND($B$3<>\"\",利用表!E29=\"●\"),1,\"\")","v":""},{"$f":"IF(AND($B$3<>\"\",利用表!F29=\"●\"),1,\"\")","v":""},{"$f":"IF(AND($B$3<>\"\",利用表!G29=\"●\"),1,\"\")","v":""},{"$f":"IF(AND($B$3<>\"\",利用表!H29=\"●\"),1,\"\")","v":""},{"$f":"IF(AND($B$3<>\"\",利用表!I29=\"●\"),1,\"\")","v":""},{"$f":"IF(AND($B$3<>\"\",利用表!J29=\"●\"),1,\"\")","v":""},{"$f":"IF(AND($B$3<>\"\",利用表!K29=\"●\"),1,\"\")","v":""},{"$f":"IF(AND($B$3<>\"\",利用表!L29=\"●\"),1,\"\")","v":""},{"$f":"IF(AND($B$3<>\"\",利用表!M29=\"●\"),1,\"\")","v":""},{"$f":"IF(AND($B$3<>\"\",利用表!N29=\"●\"),1,\"\")","v":""},{"$f":"IF(AND($B$3<>\"\",利用表!O29=\"●\"),1,\"\")","v":""},{"$f":"IF(AND($B$3<>\"\",利用表!P29=\"●\"),1,\"\")","v":""},{"$f":"IF(AND($B$3<>\"\",利用表!Q29=\"●\"),1,\"\")","v":""},{"$f":"IF(AND($B$3<>\"\",利用表!R29=\"●\"),1,\"\")","v":""},{"$f":"IF(AND($B$3<>\"\",利用表!S29=\"●\"),1,\"\")","v":""},{"$f":"IF(AND($B$3<>\"\",利用表!T29=\"●\"),1,\"\")","v":""},{"$f":"IF(AND($B$3<>\"\",利用表!U29=\"●\"),1,\"\")","v":""},{"$f":"IF(AND($B$3<>\"\",利用表!V29=\"●\"),1,\"\")","v":""},{"$f":"IF(AND($B$3<>\"\",利用表!W29=\"●\"),1,\"\")","v":""},{"$f":"IF(AND($B$3<>\"\",利用表!X29=\"●\"),1,\"\")","v":""},{"$f":"IF(AND($B$3<>\"\",利用表!Y29=\"●\"),1,\"\")","v":""},{"$f":"IF(AND($B$3<>\"\",利用表!Z29=\"●\"),1,\"\")","v":""},{"$f":"IF(AND($B$3<>\"\",利用表!AA29=\"●\"),1,\"\")","v":""},{"$f":"IF(AND($B$3<>\"\",利用表!AB29=\"●\"),1,\"\")","v":""},{"$f":"IF(AND($B$3<>\"\",利用表!AC29=\"●\"),1,\"\")","v":""},{"$f":"IF(AND($B$3<>\"\",利用表!AD29=\"●\"),1,\"\")","v":""},{"$f":"IF(AND($B$3<>\"\",利用表!AE29=\"●\"),1,\"\")","v":""},{"$f":"IF(AND($B$3<>\"\",利用表!AF29=\"●\"),1,\"\")","v":""},{"$f":"IF(AND($B$3<>\"\",利用表!AG29=\"●\"),1,\"\")","v":""}]
[null,{"$f":"利用表!B30","v":""},null,{"$f":"IF(D28<>\"\",E27+D28,0)","v":0},0,0,0,0,0,0,0,0,0,0,0,0,0,0,0,0,0,0,0,0,0,0,0,0,0,0,0,0,0,0,{"$f":"IF(AI28<>\"\",1,0)","v":0}]
[null,null,null,{"$f":"IF(AND($B$3<>\"\",利用表!C31=\"●\"),1,\"\")","v":""},{"$f":"IF(AND($B$3<>\"\",利用表!D31=\"●\"),1,\"\")","v":""},{"$f":"IF(AND($B$3<>\"\",利用表!E31=\"●\"),1,\"\")","v":""},{"$f":"IF(AND($B$3<>\"\",利用表!F31=\"●\"),1,\"\")","v":""},{"$f":"IF(AND($B$3<>\"\",利用表!G31=\"●\"),1,\"\")","v":""},{"$f":"IF(AND($B$3<>\"\",利用表!H31=\"●\"),1,\"\")","v":""},{"$f":"IF(AND($B$3<>\"\",利用表!I31=\"●\"),1,\"\")","v":""},{"$f":"IF(AND($B$3<>\"\",利用表!J31=\"●\"),1,\"\")","v":""},{"$f":"IF(AND($B$3<>\"\",利用表!K31=\"●\"),1,\"\")","v":""},{"$f":"IF(AND($B$3<>\"\",利用表!L31=\"●\"),1,\"\")","v":""},{"$f":"IF(AND($B$3<>\"\",利用表!M31=\"●\"),1,\"\")","v":""},{"$f":"IF(AND($B$3<>\"\",利用表!N31=\"●\"),1,\"\")","v":""},{"$f":"IF(AND($B$3<>\"\",利用表!O31=\"●\"),1,\"\")","v":""},{"$f":"IF(AND($B$3<>\"\",利用表!P31=\"●\"),1,\"\")","v":""},{"$f":"IF(AND($B$3<>\"\",利用表!Q31=\"●\"),1,\"\")","v":""},{"$f":"IF(AND($B$3<>\"\",利用表!R31=\"●\"),1,\"\")","v":""},{"$f":"IF(AND($B$3<>\"\",利用表!S31=\"●\"),1,\"\")","v":""},{"$f":"IF(AND($B$3<>\"\",利用表!T31=\"●\"),1,\"\")","v":""},{"$f":"IF(AND($B$3<>\"\",利用表!U31=\"●\"),1,\"\")","v":""},{"$f":"IF(AND($B$3<>\"\",利用表!V31=\"●\"),1,\"\")","v":""},{"$f":"IF(AND($B$3<>\"\",利用表!W31=\"●\"),1,\"\")","v":""},{"$f":"IF(AND($B$3<>\"\",利用表!X31=\"●\"),1,\"\")","v":""},{"$f":"IF(AND($B$3<>\"\",利用表!Y31=\"●\"),1,\"\")","v":""},{"$f":"IF(AND($B$3<>\"\",利用表!Z31=\"●\"),1,\"\")","v":""},{"$f":"IF(AND($B$3<>\"\",利用表!AA31=\"●\"),1,\"\")","v":""},{"$f":"IF(AND($B$3<>\"\",利用表!AB31=\"●\"),1,\"\")","v":""},{"$f":"IF(AND($B$3<>\"\",利用表!AC31=\"●\"),1,\"\")","v":""},{"$f":"IF(AND($B$3<>\"\",利用表!AD31=\"●\"),1,\"\")","v":""},{"$f":"IF(AND($B$3<>\"\",利用表!AE31=\"●\"),1,\"\")","v":""},{"$f":"IF(AND($B$3<>\"\",利用表!AF31=\"●\"),1,\"\")","v":""},{"$f":"IF(AND($B$3<>\"\",利用表!AG31=\"●\"),1,\"\")","v":""}]
[null,{"$f":"利用表!B32","v":""},null,{"$f":"IF(D30<>\"\",E29+D30,0)","v":0},0,0,0,0,0,0,0,0,0,0,0,0,0,0,0,0,0,0,0,0,0,0,0,0,0,0,0,0,0,0,{"$f":"IF(AI30<>\"\",1,0)","v":0}]
[null,null,null,{"$f":"IF(AND($B$3<>\"\",利用表!C33=\"●\"),1,\"\")","v":""},{"$f":"IF(AND($B$3<>\"\",利用表!D33=\"●\"),1,\"\")","v":""},{"$f":"IF(AND($B$3<>\"\",利用表!E33=\"●\"),1,\"\")","v":""},{"$f":"IF(AND($B$3<>\"\",利用表!F33=\"●\"),1,\"\")","v":""},{"$f":"IF(AND($B$3<>\"\",利用表!G33=\"●\"),1,\"\")","v":""},{"$f":"IF(AND($B$3<>\"\",利用表!H33=\"●\"),1,\"\")","v":""},{"$f":"IF(AND($B$3<>\"\",利用表!I33=\"●\"),1,\"\")","v":""},{"$f":"IF(AND($B$3<>\"\",利用表!J33=\"●\"),1,\"\")","v":""},{"$f":"IF(AND($B$3<>\"\",利用表!K33=\"●\"),1,\"\")","v":""},{"$f":"IF(AND($B$3<>\"\",利用表!L33=\"●\"),1,\"\")","v":""},{"$f":"IF(AND($B$3<>\"\",利用表!M33=\"●\"),1,\"\")","v":""},{"$f":"IF(AND($B$3<>\"\",利用表!N33=\"●\"),1,\"\")","v":""},{"$f":"IF(AND($B$3<>\"\",利用表!O33=\"●\"),1,\"\")","v":""},{"$f":"IF(AND($B$3<>\"\",利用表!P33=\"●\"),1,\"\")","v":""},{"$f":"IF(AND($B$3<>\"\",利用表!Q33=\"●\"),1,\"\")","v":""},{"$f":"IF(AND($B$3<>\"\",利用表!R33=\"●\"),1,\"\")","v":""},{"$f":"IF(AND($B$3<>\"\",利用表!S33=\"●\"),1,\"\")","v":""},{"$f":"IF(AND($B$3<>\"\",利用表!T33=\"●\"),1,\"\")","v":""},{"$f":"IF(AND($B$3<>\"\",利用表!U33=\"●\"),1,\"\")","v":""},{"$f":"IF(AND($B$3<>\"\",利用表!V33=\"●\"),1,\"\")","v":""},{"$f":"IF(AND($B$3<>\"\",利用表!W33=\"●\"),1,\"\")","v":""},{"$f":"IF(AND($B$3<>\"\",利用表!X33=\"●\"),1,\"\")","v":""},{"$f":"IF(AND($B$3<>\"\",利用表!Y33=\"●\"),1,\"\")","v":""},{"$f":"IF(AND($B$3<>\"\",利用表!Z33=\"●\"),1,\"\")","v":""},{"$f":"IF(AND($B$3<>\"\",利用表!AA33=\"●\"),1,\"\")","v":""},{"$f":"IF(AND($B$3<>\"\",利用表!AB33=\"●\"),1,\"\")","v":""},{"$f":"IF(AND($B$3<>\"\",利用表!AC33=\"●\"),1,\"\")","v":""},{"$f":"IF(AND($B$3<>\"\",利用表!AD33=\"●\"),1,\"\")","v":""},{"$f":"IF(AND($B$3<>\"\",利用表!AE33=\"●\"),1,\"\")","v":""},{"$f":"IF(AND($B$3<>\"\",利用表!AF33=\"●\"),1,\"\")","v":""},{"$f":"IF(AND($B$3<>\"\",利用表!AG33=\"●\"),1,\"\")","v":""}]
[null,{"$f":"利用表!B34","v":""},null,{"$f":"IF(D32<>\"\",E31+D32,0)","v":0},0,0,0,0,0,0,0,0,0,0,0,0,0,0,0,0,0,0,0,0,0,0,0,0,0,0,0,0,0,0,{"$f":"IF(AI32<>\"\",1,0)","v":0}]
[null,null,null,{"$f":"IF(AND($B$3<>\"\",利用表!C35=\"●\"),1,\"\")","v":""},{"$f":"IF(AND($B$3<>\"\",利用表!D35=\"●\"),1,\"\")","v":""},{"$f":"IF(AND($B$3<>\"\",利用表!E35=\"●\"),1,\"\")","v":""},{"$f":"IF(AND($B$3<>\"\",利用表!F35=\"●\"),1,\"\")","v":""},{"$f":"IF(AND($B$3<>\"\",利用表!G35=\"●\"),1,\"\")","v":""},{"$f":"IF(AND($B$3<>\"\",利用表!H35=\"●\"),1,\"\")","v":""},{"$f":"IF(AND($B$3<>\"\",利用表!I35=\"●\"),1,\"\")","v":""},{"$f":"IF(AND($B$3<>\"\",利用表!J35=\"●\"),1,\"\")","v":""},{"$f":"IF(AND($B$3<>\"\",利用表!K35=\"●\"),1,\"\")","v":""},{"$f":"IF(AND($B$3<>\"\",利用表!L35=\"●\"),1,\"\")","v":""},{"$f":"IF(AND($B$3<>\"\",利用表!M35=\"●\"),1,\"\")","v":""},{"$f":"IF(AND($B$3<>\"\",利用表!N35=\"●\"),1,\"\")","v":""},{"$f":"IF(AND($B$3<>\"\",利用表!O35=\"●\"),1,\"\")","v":""},{"$f":"IF(AND($B$3<>\"\",利用表!P35=\"●\"),1,\"\")","v":""},{"$f":"IF(AND($B$3<>\"\",利用表!Q35=\"●\"),1,\"\")","v":""},{"$f":"IF(AND($B$3<>\"\",利用表!R35=\"●\"),1,\"\")","v":""},{"$f":"IF(AND($B$3<>\"\",利用表!S35=\"●\"),1,\"\")","v":""},{"$f":"IF(AND($B$3<>\"\",利用表!T35=\"●\"),1,\"\")","v":""},{"$f":"IF(AND($B$3<>\"\",利用表!U35=\"●\"),1,\"\")","v":""},{"$f":"IF(AND($B$3<>\"\",利用表!V35=\"●\"),1,\"\")","v":""},{"$f":"IF(AND($B$3<>\"\",利用表!W35=\"●\"),1,\"\")","v":""},{"$f":"IF(AND($B$3<>\"\",利用表!X35=\"●\"),1,\"\")","v":""},{"$f":"IF(AND($B$3<>\"\",利用表!Y35=\"●\"),1,\"\")","v":""},{"$f":"IF(AND($B$3<>\"\",利用表!Z35=\"●\"),1,\"\")","v":""},{"$f":"IF(AND($B$3<>\"\",利用表!AA35=\"●\"),1,\"\")","v":""},{"$f":"IF(AND($B$3<>\"\",利用表!AB35=\"●\"),1,\"\")","v":""},{"$f":"IF(AND($B$3<>\"\",利用表!AC35=\"●\"),1,\"\")","v":""},{"$f":"IF(AND($B$3<>\"\",利用表!AD35=\"●\"),1,\"\")","v":""},{"$f":"IF(AND($B$3<>\"\",利用表!AE35=\"●\"),1,\"\")","v":""},{"$f":"IF(AND($B$3<>\"\",利用表!AF35=\"●\"),1,\"\")","v":""},{"$f":"IF(AND($B$3<>\"\",利用表!AG35=\"●\"),1,\"\")","v":""}]
[null,{"$f":"利用表!B36","v":""},null,{"$f":"IF(D34<>\"\",E33+D34,0)","v":0},0,0,0,0,0,0,0,0,0,0,0,0,0,0,0,0,0,0,0,0,0,0,0,0,0,0,0,0,0,0,{"$f":"IF(AI34<>\"\",1,0)","v":0}]
[null,null,null,{"$f":"IF(AND($B$3<>\"\",利用表!C37=\"●\"),1,\"\")","v":""},{"$f":"IF(AND($B$3<>\"\",利用表!D37=\"●\"),1,\"\")","v":""},{"$f":"IF(AND($B$3<>\"\",利用表!E37=\"●\"),1,\"\")","v":""},{"$f":"IF(AND($B$3<>\"\",利用表!F37=\"●\"),1,\"\")","v":""},{"$f":"IF(AND($B$3<>\"\",利用表!G37=\"●\"),1,\"\")","v":""},{"$f":"IF(AND($B$3<>\"\",利用表!H37=\"●\"),1,\"\")","v":""},{"$f":"IF(AND($B$3<>\"\",利用表!I37=\"●\"),1,\"\")","v":""},{"$f":"IF(AND($B$3<>\"\",利用表!J37=\"●\"),1,\"\")","v":""},{"$f":"IF(AND($B$3<>\"\",利用表!K37=\"●\"),1,\"\")","v":""},{"$f":"IF(AND($B$3<>\"\",利用表!L37=\"●\"),1,\"\")","v":""},{"$f":"IF(AND($B$3<>\"\",利用表!M37=\"●\"),1,\"\")","v":""},{"$f":"IF(AND($B$3<>\"\",利用表!N37=\"●\"),1,\"\")","v":""},{"$f":"IF(AND($B$3<>\"\",利用表!O37=\"●\"),1,\"\")","v":""},{"$f":"IF(AND($B$3<>\"\",利用表!P37=\"●\"),1,\"\")","v":""},{"$f":"IF(AND($B$3<>\"\",利用表!Q37=\"●\"),1,\"\")","v":""},{"$f":"IF(AND($B$3<>\"\",利用表!R37=\"●\"),1,\"\")","v":""},{"$f":"IF(AND($B$3<>\"\",利用表!S37=\"●\"),1,\"\")","v":""},{"$f":"IF(AND($B$3<>\"\",利用表!T37=\"●\"),1,\"\")","v":""},{"$f":"IF(AND($B$3<>\"\",利用表!U37=\"●\"),1,\"\")","v":""},{"$f":"IF(AND($B$3<>\"\",利用表!V37=\"●\"),1,\"\")","v":""},{"$f":"IF(AND($B$3<>\"\",利用表!W37=\"●\"),1,\"\")","v":""},{"$f":"IF(AND($B$3<>\"\",利用表!X37=\"●\"),1,\"\")","v":""},{"$f":"IF(AND($B$3<>\"\",利用表!Y37=\"●\"),1,\"\")","v":""},{"$f":"IF(AND($B$3<>\"\",利用表!Z37=\"●\"),1,\"\")","v":""},{"$f":"IF(AND($B$3<>\"\",利用表!AA37=\"●\"),1,\"\")","v":""},{"$f":"IF(AND($B$3<>\"\",利用表!AB37=\"●\"),1,\"\")","v":""},{"$f":"IF(AND($B$3<>\"\",利用表!AC37=\"●\"),1,\"\")","v":""},{"$f":"IF(AND($B$3<>\"\",利用表!AD37=\"●\"),1,\"\")","v":""},{"$f":"IF(AND($B$3<>\"\",利用表!AE37=\"●\"),1,\"\")","v":""},{"$f":"IF(AND($B$3<>\"\",利用表!AF37=\"●\"),1,\"\")","v":""},{"$f":"IF(AND($B$3<>\"\",利用表!AG37=\"●\"),1,\"\")","v":""}]
[null,{"$f":"利用表!B38","v":""},null,{"$f":"IF(D36<>\"\",E35+D36,0)","v":0},0,0,0,0,0,0,0,0,0,0,0,0,0,0,0,0,0,0,0,0,0,0,0,0,0,0,0,0,0,0,{"$f":"IF(AI36<>\"\",1,0)","v":0},null,0]
[null,null,null,{"$f":"IF(AND($B$3<>\"\",利用表!C39=\"●\"),1,\"\")","v":""},{"$f":"IF(AND($B$3<>\"\",利用表!D39=\"●\"),1,\"\")","v":""},{"$f":"IF(AND($B$3<>\"\",利用表!E39=\"●\"),1,\"\")","v":""},{"$f":"IF(AND($B$3<>\"\",利用表!F39=\"●\"),1,\"\")","v":""},{"$f":"IF(AND($B$3<>\"\",利用表!G39=\"●\"),1,\"\")","v":""},{"$f":"IF(AND($B$3<>\"\",利用表!H39=\"●\"),1,\"\")","v":""},{"$f":"IF(AND($B$3<>\"\",利用表!I39=\"●\"),1,\"\")","v":""},{"$f":"IF(AND($B$3<>\"\",利用表!J39=\"●\"),1,\"\")","v":""},{"$f":"IF(AND($B$3<>\"\",利用表!K39=\"●\"),1,\"\")","v":""},{"$f":"IF(AND($B$3<>\"\",利用表!L39=\"●\"),1,\"\")","v":""},{"$f":"IF(AND($B$3<>\"\",利用表!M39=\"●\"),1,\"\")","v":""},{"$f":"IF(AND($B$3<>\"\",利用表!N39=\"●\"),1,\"\")","v":""},{"$f":"IF(AND($B$3<>\"\",利用表!O39=\"●\"),1,\"\")","v":""},{"$f":"IF(AND($B$3<>\"\",利用表!P39=\"●\"),1,\"\")","v":""},{"$f":"IF(AND($B$3<>\"\",利用表!Q39=\"●\"),1,\"\")","v":""},{"$f":"IF(AND($B$3<>\"\",利用表!R39=\"●\"),1,\"\")","v":""},{"$f":"IF(AND($B$3<>\"\",利用表!S39=\"●\"),1,\"\")","v":""},{"$f":"IF(AND($B$3<>\"\",利用表!T39=\"●\"),1,\"\")","v":""},{"$f":"IF(AND($B$3<>\"\",利用表!U39=\"●\"),1,\"\")","v":""},{"$f":"IF(AND($B$3<>\"\",利用表!V39=\"●\"),1,\"\")","v":""},{"$f":"IF(AND($B$3<>\"\",利用表!W39=\"●\"),1,\"\")","v":""},{"$f":"IF(AND($B$3<>\"\",利用表!X39=\"●\"),1,\"\")","v":""},{"$f":"IF(AND($B$3<>\"\",利用表!Y39=\"●\"),1,\"\")","v":""},{"$f":"IF(AND($B$3<>\"\",利用表!Z39=\"●\"),1,\"\")","v":""},{"$f":"IF(AND($B$3<>\"\",利用表!AA39=\"●\"),1,\"\")","v":""},{"$f":"IF(AND($B$3<>\"\",利用表!AB39=\"●\"),1,\"\")","v":""},{"$f":"IF(AND($B$3<>\"\",利用表!AC39=\"●\"),1,\"\")","v":""},{"$f":"IF(AND($B$3<>\"\",利用表!AD39=\"●\"),1,\"\")","v":""},{"$f":"IF(AND($B$3<>\"\",利用表!AE39=\"●\"),1,\"\")","v":""},{"$f":"IF(AND($B$3<>\"\",利用表!AF39=\"●\"),1,\"\")","v":""},{"$f":"IF(AND($B$3<>\"\",利用表!AG39=\"●\"),1,\"\")","v":""}]
[null,{"$f":"利用表!B40","v":""},null,{"$f":"IF(D38<>\"\",E37+D38,0)","v":0},0,0,0,0,0,0,0,0,0,0,0,0,0,0,0,0,0,0,0,0,0,0,0,0,0,0,0,0,0,0,{"$f":"IF(AI38<>\"\",1,0)","v":0},null,0]
[null,null,null,{"$f":"IF(AND($B$3<>\"\",利用表!C41=\"●\"),1,\"\")","v":""},{"$f":"IF(AND($B$3<>\"\",利用表!D41=\"●\"),1,\"\")","v":""},{"$f":"IF(AND($B$3<>\"\",利用表!E41=\"●\"),1,\"\")","v":""},{"$f":"IF(AND($B$3<>\"\",利用表!F41=\"●\"),1,\"\")","v":""},{"$f":"IF(AND($B$3<>\"\",利用表!G41=\"●\"),1,\"\")","v":""},{"$f":"IF(AND($B$3<>\"\",利用表!H41=\"●\"),1,\"\")","v":""},{"$f":"IF(AND($B$3<>\"\",利用表!I41=\"●\"),1,\"\")","v":""},{"$f":"IF(AND($B$3<>\"\",利用表!J41=\"●\"),1,\"\")","v":""},{"$f":"IF(AND($B$3<>\"\",利用表!K41=\"●\"),1,\"\")","v":""},{"$f":"IF(AND($B$3<>\"\",利用表!L41=\"●\"),1,\"\")","v":""},{"$f":"IF(AND($B$3<>\"\",利用表!M41=\"●\"),1,\"\")","v":""},{"$f":"IF(AND($B$3<>\"\",利用表!N41=\"●\"),1,\"\")","v":""},{"$f":"IF(AND($B$3<>\"\",利用表!O41=\"●\"),1,\"\")","v":""},{"$f":"IF(AND($B$3<>\"\",利用表!P41=\"●\"),1,\"\")","v":""},{"$f":"IF(AND($B$3<>\"\",利用表!Q41=\"●\"),1,\"\")","v":""},{"$f":"IF(AND($B$3<>\"\",利用表!R41=\"●\"),1,\"\")","v":""},{"$f":"IF(AND($B$3<>\"\",利用表!S41=\"●\"),1,\"\")","v":""},{"$f":"IF(AND($B$3<>\"\",利用表!T41=\"●\"),1,\"\")","v":""},{"$f":"IF(AND($B$3<>\"\",利用表!U41=\"●\"),1,\"\")","v":""},{"$f":"IF(AND($B$3<>\"\",利用表!V41=\"●\"),1,\"\")","v":""},{"$f":"IF(AND($B$3<>\"\",利用表!W41=\"●\"),1,\"\")","v":""},{"$f":"IF(AND($B$3<>\"\",利用表!X41=\"●\"),1,\"\")","v":""},{"$f":"IF(AND($B$3<>\"\",利用表!Y41=\"●\"),1,\"\")","v":""},{"$f":"IF(AND($B$3<>\"\",利用表!Z41=\"●\"),1,\"\")","v":""},{"$f":"IF(AND($B$3<>\"\",利用表!AA41=\"●\"),1,\"\")","v":""},{"$f":"IF(AND($B$3<>\"\",利用表!AB41=\"●\"),1,\"\")","v":""},{"$f":"IF(AND($B$3<>\"\",利用表!AC41=\"●\"),1,\"\")","v":""},{"$f":"IF(AND($B$3<>\"\",利用表!AD41=\"●\"),1,\"\")","v":""},{"$f":"IF(AND($B$3<>\"\",利用表!AE41=\"●\"),1,\"\")","v":""},{"$f":"IF(AND($B$3<>\"\",利用表!AF41=\"●\"),1,\"\")","v":""},{"$f":"IF(AND($B$3<>\"\",利用表!AG41=\"●\"),1,\"\")","v":""}]
[null,{"$f":"利用表!B42","v":""},null,{"$f":"IF(D40<>\"\",E39+D40,0)","v":0},0,0,0,0,0,0,0,0,0,0,0,0,0,0,0,0,0,0,0,0,0,0,0,0,0,0,0,0,0,0,{"$f":"IF(AI40<>\"\",1,0)","v":0}]
[null,null,null,{"$f":"IF(AND($B$3<>\"\",利用表!C43=\"●\"),1,\"\")","v":""},{"$f":"IF(AND($B$3<>\"\",利用表!D43=\"●\"),1,\"\")","v":""},{"$f":"IF(AND($B$3<>\"\",利用表!E43=\"●\"),1,\"\")","v":""},{"$f":"IF(AND($B$3<>\"\",利用表!F43=\"●\"),1,\"\")","v":""},{"$f":"IF(AND($B$3<>\"\",利用表!G43=\"●\"),1,\"\")","v":""},{"$f":"IF(AND($B$3<>\"\",利用表!H43=\"●\"),1,\"\")","v":""},{"$f":"IF(AND($B$3<>\"\",利用表!I43=\"●\"),1,\"\")","v":""},{"$f":"IF(AND($B$3<>\"\",利用表!J43=\"●\"),1,\"\")","v":""},{"$f":"IF(AND($B$3<>\"\",利用表!K43=\"●\"),1,\"\")","v":""},{"$f":"IF(AND($B$3<>\"\",利用表!L43=\"●\"),1,\"\")","v":""},{"$f":"IF(AND($B$3<>\"\",利用表!M43=\"●\"),1,\"\")","v":""},{"$f":"IF(AND($B$3<>\"\",利用表!N43=\"●\"),1,\"\")","v":""},{"$f":"IF(AND($B$3<>\"\",利用表!O43=\"●\"),1,\"\")","v":""},{"$f":"IF(AND($B$3<>\"\",利用表!P43=\"●\"),1,\"\")","v":""},{"$f":"IF(AND($B$3<>\"\",利用表!Q43=\"●\"),1,\"\")","v":""},{"$f":"IF(AND($B$3<>\"\",利用表!R43=\"●\"),1,\"\")","v":""},{"$f":"IF(AND($B$3<>\"\",利用表!S43=\"●\"),1,\"\")","v":""},{"$f":"IF(AND($B$3<>\"\",利用表!T43=\"●\"),1,\"\")","v":""},{"$f":"IF(AND($B$3<>\"\",利用表!U43=\"●\"),1,\"\")","v":""},{"$f":"IF(AND($B$3<>\"\",利用表!V43=\"●\"),1,\"\")","v":""},{"$f":"IF(AND($B$3<>\"\",利用表!W43=\"●\"),1,\"\")","v":""},{"$f":"IF(AND($B$3<>\"\",利用表!X43=\"●\"),1,\"\")","v":""},{"$f":"IF(AND($B$3<>\"\",利用表!Y43=\"●\"),1,\"\")","v":""},{"$f":"IF(AND($B$3<>\"\",利用表!Z43=\"●\"),1,\"\")","v":""},{"$f":"IF(AND($B$3<>\"\",利用表!AA43=\"●\"),1,\"\")","v":""},{"$f":"IF(AND($B$3<>\"\",利用表!AB43=\"●\"),1,\"\")","v":""},{"$f":"IF(AND($B$3<>\"\",利用表!AC43=\"●\"),1,\"\")","v":""},{"$f":"IF(AND($B$3<>\"\",利用表!AD43=\"●\"),1,\"\")","v":""},{"$f":"IF(AND($B$3<>\"\",利用表!AE43=\"●\"),1,\"\")","v":""},{"$f":"IF(AND($B$3<>\"\",利用表!AF43=\"●\"),1,\"\")","v":""},{"$f":"IF(AND($B$3<>\"\",利用表!AG43=\"●\"),1,\"\")","v":""}]
[null,{"$f":"利用表!B44","v":""},null,{"$f":"IF(D42<>\"\",E41+D42,0)","v":0},0,0,0,0,0,0,0,0,0,0,0,0,0,0,0,0,0,0,0,0,0,0,0,0,0,0,0,0,0,0,{"$f":"IF(AI42<>\"\",1,0)","v":0}]
[null,null,null,{"$f":"IF(AND($B$3<>\"\",利用表!C45=\"●\"),1,\"\")","v":""},{"$f":"IF(AND($B$3<>\"\",利用表!D45=\"●\"),1,\"\")","v":""},{"$f":"IF(AND($B$3<>\"\",利用表!E45=\"●\"),1,\"\")","v":""},{"$f":"IF(AND($B$3<>\"\",利用表!F45=\"●\"),1,\"\")","v":""},{"$f":"IF(AND($B$3<>\"\",利用表!G45=\"●\"),1,\"\")","v":""},{"$f":"IF(AND($B$3<>\"\",利用表!H45=\"●\"),1,\"\")","v":""},{"$f":"IF(AND($B$3<>\"\",利用表!I45=\"●\"),1,\"\")","v":""},{"$f":"IF(AND($B$3<>\"\",利用表!J45=\"●\"),1,\"\")","v":""},{"$f":"IF(AND($B$3<>\"\",利用表!K45=\"●\"),1,\"\")","v":""},{"$f":"IF(AND($B$3<>\"\",利用表!L45=\"●\"),1,\"\")","v":""},{"$f":"IF(AND($B$3<>\"\",利用表!M45=\"●\"),1,\"\")","v":""},{"$f":"IF(AND($B$3<>\"\",利用表!N45=\"●\"),1,\"\")","v":""},{"$f":"IF(AND($B$3<>\"\",利用表!O45=\"●\"),1,\"\")","v":""},{"$f":"IF(AND($B$3<>\"\",利用表!P45=\"●\"),1,\"\")","v":""},{"$f":"IF(AND($B$3<>\"\",利用表!Q45=\"●\"),1,\"\")","v":""},{"$f":"IF(AND($B$3<>\"\",利用表!R45=\"●\"),1,\"\")","v":""},{"$f":"IF(AND($B$3<>\"\",利用表!S45=\"●\"),1,\"\")","v":""},{"$f":"IF(AND($B$3<>\"\",利用表!T45=\"●\"),1,\"\")","v":""},{"$f":"IF(AND($B$3<>\"\",利用表!U45=\"●\"),1,\"\")","v":""},{"$f":"IF(AND($B$3<>\"\",利用表!V45=\"●\"),1,\"\")","v":""},{"$f":"IF(AND($B$3<>\"\",利用表!W45=\"●\"),1,\"\")","v":""},{"$f":"IF(AND($B$3<>\"\",利用表!X45=\"●\"),1,\"\")","v":""},{"$f":"IF(AND($B$3<>\"\",利用表!Y45=\"●\"),1,\"\")","v":""},{"$f":"IF(AND($B$3<>\"\",利用表!Z45=\"●\"),1,\"\")","v":""},{"$f":"IF(AND($B$3<>\"\",利用表!AA45=\"●\"),1,\"\")","v":""},{"$f":"IF(AND($B$3<>\"\",利用表!AB45=\"●\"),1,\"\")","v":""},{"$f":"IF(AND($B$3<>\"\",利用表!AC45=\"●\"),1,\"\")","v":""},{"$f":"IF(AND($B$3<>\"\",利用表!AD45=\"●\"),1,\"\")","v":""},{"$f":"IF(AND($B$3<>\"\",利用表!AE45=\"●\"),1,\"\")","v":""},{"$f":"IF(AND($B$3<>\"\",利用表!AF45=\"●\"),1,\"\")","v":""},{"$f":"IF(AND($B$3<>\"\",利用表!AG45=\"●\"),1,\"\")","v":""}]
[null,{"$f":"利用表!B46","v":""},null,{"$f":"IF(D44<>\"\",E43+D44,0)","v":0},0,0,0,0,0,0,0,0,0,0,0,0,0,0,0,0,0,0,0,0,0,0,0,0,0,0,0,0,0,0,{"$f":"IF(AI44<>\"\",1,0)","v":0}]
[null,null,null,{"$f":"IF(AND($B$3<>\"\",利用表!C47=\"●\"),1,\"\")","v":""},{"$f":"IF(AND($B$3<>\"\",利用表!D47=\"●\"),1,\"\")","v":""},{"$f":"IF(AND($B$3<>\"\",利用表!E47=\"●\"),1,\"\")","v":""},{"$f":"IF(AND($B$3<>\"\",利用表!F47=\"●\"),1,\"\")","v":""},{"$f":"IF(AND($B$3<>\"\",利用表!G47=\"●\"),1,\"\")","v":""},{"$f":"IF(AND($B$3<>\"\",利用表!H47=\"●\"),1,\"\")","v":""},{"$f":"IF(AND($B$3<>\"\",利用表!I47=\"●\"),1,\"\")","v":""},{"$f":"IF(AND($B$3<>\"\",利用表!J47=\"●\"),1,\"\")","v":""},{"$f":"IF(AND($B$3<>\"\",利用表!K47=\"●\"),1,\"\")","v":""},{"$f":"IF(AND($B$3<>\"\",利用表!L47=\"●\"),1,\"\")","v":""},{"$f":"IF(AND($B$3<>\"\",利用表!M47=\"●\"),1,\"\")","v":""},{"$f":"IF(AND($B$3<>\"\",利用表!N47=\"●\"),1,\"\")","v":""},{"$f":"IF(AND($B$3<>\"\",利用表!O47=\"●\"),1,\"\")","v":""},{"$f":"IF(AND($B$3<>\"\",利用表!P47=\"●\"),1,\"\")","v":""},{"$f":"IF(AND($B$3<>\"\",利用表!Q47=\"●\"),1,\"\")","v":""},{"$f":"IF(AND($B$3<>\"\",利用表!R47=\"●\"),1,\"\")","v":""},{"$f":"IF(AND($B$3<>\"\",利用表!S47=\"●\"),1,\"\")","v":""},{"$f":"IF(AND($B$3<>\"\",利用表!T47=\"●\"),1,\"\")","v":""},{"$f":"IF(AND($B$3<>\"\",利用表!U47=\"●\"),1,\"\")","v":""},{"$f":"IF(AND($B$3<>\"\",利用表!V47=\"●\"),1,\"\")","v":""},{"$f":"IF(AND($B$3<>\"\",利用表!W47=\"●\"),1,\"\")","v":""},{"$f":"IF(AND($B$3<>\"\",利用表!X47=\"●\"),1,\"\")","v":""},{"$f":"IF(AND($B$3<>\"\",利用表!Y47=\"●\"),1,\"\")","v":""},{"$f":"IF(AND($B$3<>\"\",利用表!Z47=\"●\"),1,\"\")","v":""},{"$f":"IF(AND($B$3<>\"\",利用表!AA47=\"●\"),1,\"\")","v":""},{"$f":"IF(AND($B$3<>\"\",利用表!AB47=\"●\"),1,\"\")","v":""},{"$f":"IF(AND($B$3<>\"\",利用表!AC47=\"●\"),1,\"\")","v":""},{"$f":"IF(AND($B$3<>\"\",利用表!AD47=\"●\"),1,\"\")","v":""},{"$f":"IF(AND($B$3<>\"\",利用表!AE47=\"●\"),1,\"\")","v":""},{"$f":"IF(AND($B$3<>\"\",利用表!AF47=\"●\"),1,\"\")","v":""},{"$f":"IF(AND($B$3<>\"\",利用表!AG47=\"●\"),1,\"\")","v":""}]
[null,{"$f":"利用表!B48","v":""},null,{"$f":"IF(D46<>\"\",E45+D46,0)","v":0},0,0,0,0,0,0,0,0,0,0,0,0,0,0,0,0,0,0,0,0,0,0,0,0,0,0,0,0,0,0,{"$f":"IF(AI46<>\"\",1,0)","v":0}]
[null,null,null,{"$f":"IF(AND($B$3<>\"\",利用表!C49=\"●\"),1,\"\")","v":""},{"$f":"IF(AND($B$3<>\"\",利用表!D49=\"●\"),1,\"\")","v":""},{"$f":"IF(AND($B$3<>\"\",利用表!E49=\"●\"),1,\"\")","v":""},{"$f":"IF(AND($B$3<>\"\",利用表!F49=\"●\"),1,\"\")","v":""},{"$f":"IF(AND($B$3<>\"\",利用表!G49=\"●\"),1,\"\")","v":""},{"$f":"IF(AND($B$3<>\"\",利用表!H49=\"●\"),1,\"\")","v":""},{"$f":"IF(AND($B$3<>\"\",利用表!I49=\"●\"),1,\"\")","v":""},{"$f":"IF(AND($B$3<>\"\",利用表!J49=\"●\"),1,\"\")","v":""},{"$f":"IF(AND($B$3<>\"\",利用表!K49=\"●\"),1,\"\")","v":""},{"$f":"IF(AND($B$3<>\"\",利用表!L49=\"●\"),1,\"\")","v":""},{"$f":"IF(AND($B$3<>\"\",利用表!M49=\"●\"),1,\"\")","v":""},{"$f":"IF(AND($B$3<>\"\",利用表!N49=\"●\"),1,\"\")","v":""},{"$f":"IF(AND($B$3<>\"\",利用表!O49=\"●\"),1,\"\")","v":""},{"$f":"IF(AND($B$3<>\"\",利用表!P49=\"●\"),1,\"\")","v":""},{"$f":"IF(AND($B$3<>\"\",利用表!Q49=\"●\"),1,\"\")","v":""},{"$f":"IF(AND($B$3<>\"\",利用表!R49=\"●\"),1,\"\")","v":""},{"$f":"IF(AND($B$3<>\"\",利用表!S49=\"●\"),1,\"\")","v":""},{"$f":"IF(AND($B$3<>\"\",利用表!T49=\"●\"),1,\"\")","v":""},{"$f":"IF(AND($B$3<>\"\",利用表!U49=\"●\"),1,\"\")","v":""},{"$f":"IF(AND($B$3<>\"\",利用表!V49=\"●\"),1,\"\")","v":""},{"$f":"IF(AND($B$3<>\"\",利用表!W49=\"●\"),1,\"\")","v":""},{"$f":"IF(AND($B$3<>\"\",利用表!X49=\"●\"),1,\"\")","v":""},{"$f":"IF(AND($B$3<>\"\",利用表!Y49=\"●\"),1,\"\")","v":""},{"$f":"IF(AND($B$3<>\"\",利用表!Z49=\"●\"),1,\"\")","v":""},{"$f":"IF(AND($B$3<>\"\",利用表!AA49=\"●\"),1,\"\")","v":""},{"$f":"IF(AND($B$3<>\"\",利用表!AB49=\"●\"),1,\"\")","v":""},{"$f":"IF(AND($B$3<>\"\",利用表!AC49=\"●\"),1,\"\")","v":""},{"$f":"IF(AND($B$3<>\"\",利用表!AD49=\"●\"),1,\"\")","v":""},{"$f":"IF(AND($B$3<>\"\",利用表!AE49=\"●\"),1,\"\")","v":""},{"$f":"IF(AND($B$3<>\"\",利用表!AF49=\"●\"),1,\"\")","v":""},{"$f":"IF(AND($B$3<>\"\",利用表!AG49=\"●\"),1,\"\")","v":""}]
[null,{"$f":"利用表!B50","v":""},null,{"$f":"IF(D48<>\"\",E47+D48,0)","v":0},0,0,0,0,0,0,0,0,0,0,0,0,0,0,0,0,0,0,0,0,0,0,0,0,0,0,0,0,0,0,{"$f":"IF(AI48<>\"\",1,0)","v":0}]
[null,null,null,{"$f":"IF(AND($B$3<>\"\",利用表!C51=\"●\"),1,\"\")","v":""},{"$f":"IF(AND($B$3<>\"\",利用表!D51=\"●\"),1,\"\")","v":""},{"$f":"IF(AND($B$3<>\"\",利用表!E51=\"●\"),1,\"\")","v":""},{"$f":"IF(AND($B$3<>\"\",利用表!F51=\"●\"),1,\"\")","v":""},{"$f":"IF(AND($B$3<>\"\",利用表!G51=\"●\"),1,\"\")","v":""},{"$f":"IF(AND($B$3<>\"\",利用表!H51=\"●\"),1,\"\")","v":""},{"$f":"IF(AND($B$3<>\"\",利用表!I51=\"●\"),1,\"\")","v":""},{"$f":"IF(AND($B$3<>\"\",利用表!J51=\"●\"),1,\"\")","v":""},{"$f":"IF(AND($B$3<>\"\",利用表!K51=\"●\"),1,\"\")","v":""},{"$f":"IF(AND($B$3<>\"\",利用表!L51=\"●\"),1,\"\")","v":""},{"$f":"IF(AND($B$3<>\"\",利用表!M51=\"●\"),1,\"\")","v":""},{"$f":"IF(AND($B$3<>\"\",利用表!N51=\"●\"),1,\"\")","v":""},{"$f":"IF(AND($B$3<>\"\",利用表!O51=\"●\"),1,\"\")","v":""},{"$f":"IF(AND($B$3<>\"\",利用表!P51=\"●\"),1,\"\")","v":""},{"$f":"IF(AND($B$3<>\"\",利用表!Q51=\"●\"),1,\"\")","v":""},{"$f":"IF(AND($B$3<>\"\",利用表!R51=\"●\"),1,\"\")","v":""},{"$f":"IF(AND($B$3<>\"\",利用表!S51=\"●\"),1,\"\")","v":""},{"$f":"IF(AND($B$3<>\"\",利用表!T51=\"●\"),1,\"\")","v":""},{"$f":"IF(AND($B$3<>\"\",利用表!U51=\"●\"),1,\"\")","v":""},{"$f":"IF(AND($B$3<>\"\",利用表!V51=\"●\"),1,\"\")","v":""},{"$f":"IF(AND($B$3<>\"\",利用表!W51=\"●\"),1,\"\")","v":""},{"$f":"IF(AND($B$3<>\"\",利用表!X51=\"●\"),1,\"\")","v":""},{"$f":"IF(AND($B$3<>\"\",利用表!Y51=\"●\"),1,\"\")","v":""},{"$f":"IF(AND($B$3<>\"\",利用表!Z51=\"●\"),1,\"\")","v":""},{"$f":"IF(AND($B$3<>\"\",利用表!AA51=\"●\"),1,\"\")","v":""},{"$f":"IF(AND($B$3<>\"\",利用表!AB51=\"●\"),1,\"\")","v":""},{"$f":"IF(AND($B$3<>\"\",利用表!AC51=\"●\"),1,\"\")","v":""},{"$f":"IF(AND($B$3<>\"\",利用表!AD51=\"●\"),1,\"\")","v":""},{"$f":"IF(AND($B$3<>\"\",利用表!AE51=\"●\"),1,\"\")","v":""},{"$f":"IF(AND($B$3<>\"\",利用表!AF51=\"●\"),1,\"\")","v":""},{"$f":"IF(AND($B$3<>\"\",利用表!AG51=\"●\"),1,\"\")","v":""}]
[null,{"$f":"利用表!B52","v":""},null,{"$f":"IF(D50<>\"\",E49+D50,0)","v":0},0,0,0,0,0,0,0,0,0,0,0,0,0,0,0,0,0,0,0,0,0,0,0,0,0,0,0,0,0,0,{"$f":"IF(AI50<>\"\",1,0)","v":0}]
[null,null,null,{"$f":"IF(AND($B$3<>\"\",利用表!C53=\"●\"),1,\"\")","v":""},{"$f":"IF(AND($B$3<>\"\",利用表!D53=\"●\"),1,\"\")","v":""},{"$f":"IF(AND($B$3<>\"\",利用表!E53=\"●\"),1,\"\")","v":""},{"$f":"IF(AND($B$3<>\"\",利用表!F53=\"●\"),1,\"\")","v":""},{"$f":"IF(AND($B$3<>\"\",利用表!G53=\"●\"),1,\"\")","v":""},{"$f":"IF(AND($B$3<>\"\",利用表!H53=\"●\"),1,\"\")","v":""},{"$f":"IF(AND($B$3<>\"\",利用表!I53=\"●\"),1,\"\")","v":""},{"$f":"IF(AND($B$3<>\"\",利用表!J53=\"●\"),1,\"\")","v":""},{"$f":"IF(AND($B$3<>\"\",利用表!K53=\"●\"),1,\"\")","v":""},{"$f":"IF(AND($B$3<>\"\",利用表!L53=\"●\"),1,\"\")","v":""},{"$f":"IF(AND($B$3<>\"\",利用表!M53=\"●\"),1,\"\")","v":""},{"$f":"IF(AND($B$3<>\"\",利用表!N53=\"●\"),1,\"\")","v":""},{"$f":"IF(AND($B$3<>\"\",利用表!O53=\"●\"),1,\"\")","v":""},{"$f":"IF(AND($B$3<>\"\",利用表!P53=\"●\"),1,\"\")","v":""},{"$f":"IF(AND($B$3<>\"\",利用表!Q53=\"●\"),1,\"\")","v":""},{"$f":"IF(AND($B$3<>\"\",利用表!R53=\"●\"),1,\"\")","v":""},{"$f":"IF(AND($B$3<>\"\",利用表!S53=\"●\"),1,\"\")","v":""},{"$f":"IF(AND($B$3<>\"\",利用表!T53=\"●\"),1,\"\")","v":""},{"$f":"IF(AND($B$3<>\"\",利用表!U53=\"●\"),1,\"\")","v":""},{"$f":"IF(AND($B$3<>\"\",利用表!V53=\"●\"),1,\"\")","v":""},{"$f":"IF(AND($B$3<>\"\",利用表!W53=\"●\"),1,\"\")","v":""},{"$f":"IF(AND($B$3<>\"\",利用表!X53=\"●\"),1,\"\")","v":""},{"$f":"IF(AND($B$3<>\"\",利用表!Y53=\"●\"),1,\"\")","v":""},{"$f":"IF(AND($B$3<>\"\",利用表!Z53=\"●\"),1,\"\")","v":""},{"$f":"IF(AND($B$3<>\"\",利用表!AA53=\"●\"),1,\"\")","v":""},{"$f":"IF(AND($B$3<>\"\",利用表!AB53=\"●\"),1,\"\")","v":""},{"$f":"IF(AND($B$3<>\"\",利用表!AC53=\"●\"),1,\"\")","v":""},{"$f":"IF(AND($B$3<>\"\",利用表!AD53=\"●\"),1,\"\")","v":""},{"$f":"IF(AND($B$3<>\"\",利用表!AE53=\"●\"),1,\"\")","v":""},{"$f":"IF(AND($B$3<>\"\",利用表!AF53=\"●\"),1,\"\")","v":""},{"$f":"IF(AND($B$3<>\"\",利用表!AG53=\"●\"),1,\"\")","v":""}]
[null,{"$f":"利用表!B54","v":""},null,{"$f":"IF(D52<>\"\",E51+D52,0)","v":0},0,0,0,0,0,0,0,0,0,0,0,0,0,0,0,0,0,0,0,0,0,0,0,0,0,0,0,0,0,0,{"$f":"IF(AI52<>\"\",1,0)","v":0}]
[null,null,null,{"$f":"IF(AND($B$3<>\"\",利用表!C55=\"●\"),1,\"\")","v":""},{"$f":"IF(AND($B$3<>\"\",利用表!D55=\"●\"),1,\"\")","v":""},{"$f":"IF(AND($B$3<>\"\",利用表!E55=\"●\"),1,\"\")","v":""},{"$f":"IF(AND($B$3<>\"\",利用表!F55=\"●\"),1,\"\")","v":""},{"$f":"IF(AND($B$3<>\"\",利用表!G55=\"●\"),1,\"\")","v":""},{"$f":"IF(AND($B$3<>\"\",利用表!H55=\"●\"),1,\"\")","v":""},{"$f":"IF(AND($B$3<>\"\",利用表!I55=\"●\"),1,\"\")","v":""},{"$f":"IF(AND($B$3<>\"\",利用表!J55=\"●\"),1,\"\")","v":""},{"$f":"IF(AND($B$3<>\"\",利用表!K55=\"●\"),1,\"\")","v":""},{"$f":"IF(AND($B$3<>\"\",利用表!L55=\"●\"),1,\"\")","v":""},{"$f":"IF(AND($B$3<>\"\",利用表!M55=\"●\"),1,\"\")","v":""},{"$f":"IF(AND($B$3<>\"\",利用表!N55=\"●\"),1,\"\")","v":""},{"$f":"IF(AND($B$3<>\"\",利用表!O55=\"●\"),1,\"\")","v":""},{"$f":"IF(AND($B$3<>\"\",利用表!P55=\"●\"),1,\"\")","v":""},{"$f":"IF(AND($B$3<>\"\",利用表!Q55=\"●\"),1,\"\")","v":""},{"$f":"IF(AND($B$3<>\"\",利用表!R55=\"●\"),1,\"\")","v":""},{"$f":"IF(AND($B$3<>\"\",利用表!S55=\"●\"),1,\"\")","v":""},{"$f":"IF(AND($B$3<>\"\",利用表!T55=\"●\"),1,\"\")","v":""},{"$f":"IF(AND($B$3<>\"\",利用表!U55=\"●\"),1,\"\")","v":""},{"$f":"IF(AND($B$3<>\"\",利用表!V55=\"●\"),1,\"\")","v":""},{"$f":"IF(AND($B$3<>\"\",利用表!W55=\"●\"),1,\"\")","v":""},{"$f":"IF(AND($B$3<>\"\",利用表!X55=\"●\"),1,\"\")","v":""},{"$f":"IF(AND($B$3<>\"\",利用表!Y55=\"●\"),1,\"\")","v":""},{"$f":"IF(AND($B$3<>\"\",利用表!Z55=\"●\"),1,\"\")","v":""},{"$f":"IF(AND($B$3<>\"\",利用表!AA55=\"●\"),1,\"\")","v":""},{"$f":"IF(AND($B$3<>\"\",利用表!AB55=\"●\"),1,\"\")","v":""},{"$f":"IF(AND($B$3<>\"\",利用表!AC55=\"●\"),1,\"\")","v":""},{"$f":"IF(AND($B$3<>\"\",利用表!AD55=\"●\"),1,\"\")","v":""},{"$f":"IF(AND($B$3<>\"\",利用表!AE55=\"●\"),1,\"\")","v":""},{"$f":"IF(AND($B$3<>\"\",利用表!AF55=\"●\"),1,\"\")","v":""},{"$f":"IF(AND($B$3<>\"\",利用表!AG55=\"●\"),1,\"\")","v":""}]
[]
[]
[]
[]
[]
[]
[]
[]
[]
[]
[]
[]
[]
[]
[]
[]
[null,null,null,2,3,4,5,6,7,8,9,10,11,12,13,14,15,16,17,18,19,20,21,22,23,24,25,26,27,28,29,30,31,32,33]
[null,null,{"$f":"利用表!B6","v":"利用者A"},{"$f":"D3","v":4},{"$f":"E3","v":3},2,1,0,20,19,18,17,16,15,14,13,12,11,10,9,8,{"$f":"V3","v":7},{"$f":"W3","v":6},5,4,3,2,1,0,5,4,3,2,1,0]
[null,null,{"$f":"利用表!B8","v":"利用者B"},{"$f":"D5","v":2},{"$f":"E5","v":1},0,0,0,9,8,7,6,5,4,3,2,1,0,0,0,14,{"$f":"V5","v":13},{"$f":"W5","v":12},11,10,9,8,7,6,5,4,3,2,1,0]
[null,null,{"$f":"利用表!B10","v":"利用者C"},{"$f":"D7","v":0},{"$f":"E7","v":0},0,0,0,0,0,0,0,0,0,0,0,0,0,0,0,0,{"$f":"V7","v":0},{"$f":"W7","v":0},0,0,0,0,0,0,0,0,0,0,0,0]
[null,null,{"$f":"利用表!B12","v":"利用者D"},{"$f":"D9","v":0},{"$f":"E9","v":0},0,0,0,0,0,0,0,0,0,0,0,0,0,0,0,0,{"$f":"V9","v":0},{"$f":"W9","v":0},0,0,0,0,0,0,0,0,0,0,0,0]
[null,null,{"$f":"利用表!B14","v":"利用者E"},{"$f":"D11","v":0},{"$f":"E11","v":0},0,0,3,2,1,0,0,0,0,3,2,1,0,0,0,0,{"$f":"V11","v":3},{"$f":"W11","v":2},1,0,0,0,0,3,2,1,0,0,0,0]
[null,null,{"$f":"利用表!B16","v":"利用者F"},{"$f":"D13","v":0},{"$f":"E13","v":0},0,0,0,0,0,0,0,0,0,0,0,0,0,0,0,0,{"$f":"V13","v":0},{"$f":"W13","v":0},0,0,0,0,0,0,0,0,0,0,0,0]
[null,null,{"$f":"利用表!B18","v":"利用者G"},{"$f":"D15","v":31},{"$f":"E15","v":30},29,28,27,26,25,24,23,22,21,20,19,18,17,16,15,14,{"$f":"V15","v":13},{"$f":"W15","v":12},11,10,9,8,7,6,5,4,3,2,1,0]
[null,null,{"$f":"利用表!B20","v":"利用者H"},{"$f":"D17","v":31},{"$f":"E17","v":30},29,28,27,26,25,24,23,22,21,20,19,18,17,16,15,14,{"$f":"V17","v":13},{"$f":"W17","v":12},11,10,9,8,7,6,5,4,3,2,1,0]
[null,null,{"$f":"利用表!B22","v":"利用者I"},{"$f":"D19","v":0},{"$f":"E19","v":0},0,0,0,0,0,0,0,0,0,0,0,0,0,0,0,0,{"$f":"V19","v":0},{"$f":"W19","v":0},0,0,0,0,0,0,0,0,0,0,0,0]
[null,null,{"$f":"利用表!B24","v":"利用者J"},{"$f":"D21","v":0},{"$f":"E21","v":0},0,0,0,0,0,0,0,0,0,0,0,0,0,0,0,0,{"$f":"V21","v":0},{"$f":"W21","v":0},0,0,0,0,0,0,0,0,0,0,0,0]
[null,null,{"$f":"利用表!B26","v":""},{"$f":"D23","v":0},{"$f":"E23","v":0},0,0,0,0,0,0,0,0,0,0,0,0,0,0,0,0,{"$f":"V23","v":0},{"$f":"W23","v":0},0,0,0,0,0,0,0,0,0,0,0,0]
[null,null,{"$f":"利用表!B28","v":""},{"$f":"D25","v":0},{"$f":"E25","v":0},0,0,0,0,0,0,0,0,0,0,0,0,0,0,0,0,{"$f":"V25","v":0},{"$f":"W25","v":0},0,0,0,0,0,0,0,0,0,0,0,0]
[null,null,{"$f":"利用表!B30","v":""},{"$f":"D27","v":0},{"$f":"E27","v":0},0,0,0,0,0,0,0,0,0,0,0,0,0,0,0,0,{"$f":"V27","v":0},{"$f":"W27","v":0},0,0,0,0,0,0,0,0,0,0,0,0]
[null,null,{"$f":"利用表!B32","v":""},{"$f":"D29","v":0},{"$f":"E29","v":0},0,0,0,0,0,0,0,0,0,0,0,0,0,0,0,0,{"$f":"V29","v":0},{"$f":"W29","v":0},0,0,0,0,0,0,0,0,0,0,0,0]
[null,null,{"$f":"利用表!B34","v":""},{"$f":"D31","v":0},{"$f":"E31","v":0},0,0,0,0,0,0,0,0,0,0,0,0,0,0,0,0,{"$f":"V31","v":0},{"$f":"W31","v":0},0,0,0,0,0,0,0,0,0,0,0,0]
[null,null,{"$f":"利用表!B36","v":""},{"$f":"D33","v":0},{"$f":"E33","v":0},0,0,0,0,0,0,0,0,0,0,0,0,0,0,0,0,{"$f":"V33","v":0},{"$f":"W33","v":0},0,0,0,0,0,0,0,0,0,0,0,0]
[null,null,{"$f":"利用表!B38","v":""},{"$f":"D35","v":0},{"$f":"E35","v":0},0,0,0,0,0,0,0,0,0,0,0,0,0,0,0,0,{"$f":"V35","v":0},{"$f":"W35","v":0},0,0,0,0,0,0,0,0,0,0,0,0]
[null,null,{"$f":"利用表!B40","v":""},{"$f":"D37","v":0},{"$f":"E37","v":0},0,0,0,0,0,0,0,0,0,0,0,0,0,0,0,0,{"$f":"V37","v":0},{"$f":"W37","v":0},0,0,0,0,0,0,0,0,0,0,0,0]
[null,null,{"$f":"利用表!B42","v":""},{"$f":"D39","v":0},{"$f":"E39","v":0},0,0,0,0,0,0,0,0,0,0,0,0,0,0,0,0,{"$f":"V39","v":0},{"$f":"W39","v":0},0,0,0,0,0,0,0,0,0,0,0,0]
[null,null,{"$f":"利用表!B44","v":""},{"$f":"D41","v":0},{"$f":"E41","v":0},0,0,0,0,0,0,0,0,0,0,0,0,0,0,0,0,{"$f":"V41","v":0},{"$f":"W41","v":0},0,0,0,0,0,0,0,0,0,0,0,0]
[null,null,{"$f":"利用表!B46","v":""},{"$f":"D43","v":0},{"$f":"E43","v":0},0,0,0,0,0,0,0,0,0,0,0,0,0,0,0,0,{"$f":"V43","v":0},{"$f":"W43","v":0},0,0,0,0,0,0,0,0,0,0,0,0]
[null,null,{"$f":"利用表!B48","v":""},{"$f":"D45","v":0},{"$f":"E45","v":0},0,0,0,0,0,0,0,0,0,0,0,0,0,0,0,0,{"$f":"V45","v":0},{"$f":"W45","v":0},0,0,0,0,0,0,0,0,0,0,0,0]
[null,null,{"$f":"利用表!B50","v":""},{"$f":"D47","v":0},{"$f":"E47","v":0},0,0,0,0,0,0,0,0,0,0,0,0,0,0,0,0,{"$f":"V47","v":0},{"$f":"W47","v":0},0,0,0,0,0,0,0,0,0,0,0,0]
[null,null,{"$f":"利用表!B52","v":""},{"$f":"D49","v":0},{"$f":"E49","v":0},0,0,0,0,0,0,0,0,0,0,0,0,0,0,0,0,{"$f":"V49","v":0},{"$f":"W49","v":0},0,0,0,0,0,0,0,0,0,0,0,0]
[null,null,{"$f":"利用表!B54","v":""},{"$f":"D51","v":0},{"$f":"E51","v":0},0,0,0,0,0,0,0,0,0,0,0,0,0,0,0,0,{"$f":"V51","v":0},{"$f":"W51","v":0},0,0,0,0,0,0,0,0,0,0,0,0]

{"sheet":"職員勤務表","index":11,"n_rows":36,"n_cols":34,"rows_kept":36,"cut":false,"hidden":true,"merged":[[19,1,20,1],[21,1,22,1],[23,1,24,1],[31,1,32,1],[33,1,34,1],[1,1,2,1],[27,1,28,1],[29,1,30,1],[3,1,4,1],[5,1,6,1],[7,1,8,1],[9,1,10,1],[11,1,12,1],[13,1,14,1],[15,1,16,1],[25,1,26,1],[17,1,18,1]]}
[null,null,null,null,null,null,null,{"$f":"Top!J6&\" 勤務表\"","v":"小規模多機能型事業所 勤務表"},null,null,null,null,null,null,null,null,null,null,{"$f":"月&\"月\"","v":"6月"}]
[null,"氏名",{"$f":"DATE(年,月,1)","v":"2013-06-01"},{"$f":"C2+1","v":"2013-06-02"},"2013-06-03","2013-06-04","2013-06-05","2013-06-06","2013-06-07","2013-06-08","2013-06-09","2013-06-10","2013-06-11","2013-06-12","2013-06-13","2013-06-14","2013-06-15","2013-06-16","2013-06-17","2013-06-18","2013-06-19","2013-06-20","2013-06-21","2013-06-22","2013-06-23","2013-06-24","2013-06-25","2013-06-26","2013-06-27","2013-06-28",{"$f":"IF(MONTH(AD2+1)=月,AD2+1,\"\")","v":"2013-06-29"},{"$f":"IF(MONTH(AD2+2)=月,AD2+2,\"\")","v":"2013-06-30"},{"$f":"IF(MONTH(AD2+3)=月,AD2+3,\"\")","v":""}]
[null,null,{"$f":"C2","v":41426},41427,41428,41429,41430,41431,41432,41433,41434,41435,41436,41437,41438,41439,41440,41441,41442,41443,41444,41445,41446,41447,41448,41449,41450,41451,41452,41453,41454,41455,""]
[null,{"$f":"勤務表!B4","v":"A職員"},{"$f":"勤務表!C4","v":"LK2"},{"$f":"勤務表!D4","v":"早番"},{"$f":"勤務表!E4","v":"休"},{"$f":"勤務表!F4","v":"早番"},{"$f":"勤務表!G4","v":"休"},{"$f":"勤務表!H4","v":"LK2"},{"$f":"勤務表!I4","v":"CM"},{"$f":"勤務表!J4","v":"CM"},{"$f":"勤務表!K4","v":"夜勤"},{"$f":"勤務表!L4","v":"明番"},{"$f":"勤務表!M4","v":"早番"},{"$f":"勤務表!N4","v":"休"},{"$f":"勤務表!O4","v":"休"},{"$f":"勤務表!P4","v":"休"},{"$f":"勤務表!Q4","v":"有給"},{"$f":"勤務表!R4","v":"L1"},{"$f":"勤務表!S4","v":"有給"},{"$f":"勤務表!T4","v":"有給"},{"$f":"勤務表!U4","v":"遅番"},{"$f":"勤務表!V4","v":"LK2"},{"$f":"勤務表!W4","v":"CM"},{"$f":"勤務表!X4","v":"休"},{"$f":"勤務表!Y4","v":"L1"},{"$f":"勤務表!Z4","v":"休"},{"$f":"勤務表!AA4","v":"夜勤"},{"$f":"勤務表!AB4","v":"明番"},{"$f":"勤務表!AC4","v":"休"},{"$f":"勤務表!AD4","v":"遅番"},{"$f":"勤務表!AE4","v":"休"},{"$f":"勤務表!AF4","v":"LK2"},{"$f":"勤務表!AG4","v":0},{"$f":"LEFT(勤務表!B4,2)","v":"A職"}]
[]
[null,{"$f":"勤務表!B5","v":"B職員"},{"$f":"勤務表!C5","v":"夜勤"},{"$f":"勤務表!D5","v":"明番"},{"$f":"勤務表!E5","v":"休"},{"$f":"勤務表!F5","v":"LK2"},{"$f":"勤務表!G5","v":"遅番"},{"$f":"勤務表!H5","v":"夜勤"},{"$f":"勤務表!I5","v":"明番"},{"$f":"勤務表!J5","v":"休"},{"$f":"勤務表!K5","v":"L1"},{"$f":"勤務表!L5","v":"有給"},{"$f":"勤務表!M5","v":"休"},{"$f":"勤務表!N5","v":"LK2"},{"$f":"勤務表!O5","v":"夜勤"},{"$f":"勤務表!P5","v":"明番"},{"$f":"勤務表!Q5","v":"休"},{"$f":"勤務表!R5","v":"早番"},{"$f":"勤務表!S5","v":"休"},{"$f":"勤務表!T5","v":"遅番"},{"$f":"勤務表!U5","v":"夜勤"},{"$f":"勤務表!V5","v":"明番"},{"$f":"勤務表!W5","v":"休"},{"$f":"勤務表!X5","v":"休"},{"$f":"勤務表!Y5","v":"早番"},{"$f":"勤務表!Z5","v":"休"},{"$f":"勤務表!AA5","v":"遅番"},{"$f":"勤務表!AB5","v":"L1"},{"$f":"勤務表!AC5","v":"夜勤"},{"$f":"勤務表!AD5","v":"明番"},{"$f":"勤務表!AE5","v":"休"},{"$f":"勤務表!AF5","v":"早番"},{"$f":"勤務表!AG5","v":0},{"$f":"LEFT(勤務表!B5,2)","v":"B職"}]
[]
[null,{"$f":"勤務表!B6","v":"C職員"},{"$f":"勤務表!C6","v":"L1"},{"$f":"勤務表!D6","v":"夜勤"},{"$f":"勤務表!E6","v":"明番"},{"$f":"勤務表!F6","v":"休"},{"$f":"勤務表!G6","v":"B2"},{"$f":"勤務表!H6","v":"遅番"},{"$f":"勤務表!I6","v":"夜勤"},{"$f":"勤務表!J6","v":"明番"},{"$f":"勤務表!K6","v":"B2"},{"$f":"勤務表!L6","v":"L1"},{"$f":"勤務表!M6","v":"遅番"},{"$f":"勤務表!N6","v":"休"},{"$f":"勤務表!O6","v":"休"},{"$f":"勤務表!P6","v":"夜勤"},{"$f":"勤務表!Q6","v":"明番"},{"$f":"勤務表!R6","v":"休"},{"$f":"勤務表!S6","v":"L1"},{"$f":"勤務表!T6","v":"早番"},{"$f":"勤務表!U6","v":"休"},{"$f":"勤務表!V6","v":"有給"},{"$f":"勤務表!W6","v":"早番"},{"$f":"勤務表!X6","v":"休"},{"$f":"勤務表!Y6","v":"夜勤"},{"$f":"勤務表!Z6","v":"明番"},{"$f":"勤務表!AA6","v":"休"},{"$f":"勤務表!AB6","v":"休"},{"$f":"勤務表!AC6","v":"遅番"},{"$f":"勤務表!AD6","v":"夜勤"},{"$f":"勤務表!AE6","v":"明番"},{"$f":"勤務表!AF6","v":"休"},{"$f":"勤務表!AG6","v":0},{"$f":"LEFT(勤務表!B6,2)","v":"C職"}]
[]
[null,{"$f":"勤務表!B7","v":"D職員"},{"$f":"勤務表!C7","v":"早番"},{"$f":"勤務表!D7","v":"K1"},{"$f":"勤務表!E7","v":"LK2"},{"$f":"勤務表!F7","v":"休"},{"$f":"勤務表!G7","v":"L1"},{"$f":"勤務表!H7","v":"K1"},{"$f":"勤務表!I7","v":"遅番"},{"$f":"勤務表!J7","v":"休"},{"$f":"勤務表!K7","v":"休"},{"$f":"勤務表!L7","v":"LK2"},{"$f":"勤務表!M7","v":"休"},{"$f":"勤務表!N7","v":"早番"},{"$f":"勤務表!O7","v":"遅番"},{"$f":"勤務表!P7","v":"休"},{"$f":"勤務表!Q7","v":"LK2"},{"$f":"勤務表!R7","v":"K1"},{"$f":"勤務表!S7","v":"早番"},{"$f":"勤務表!T7","v":"L1"},{"$f":"勤務表!U7","v":"休"},{"$f":"勤務表!V7","v":"L1"},{"$f":"勤務表!W7","v":"休"},{"$f":"勤務表!X7","v":"LK2"},{"$f":"勤務表!Y7","v":"LK2"},{"$f":"勤務表!Z7","v":"休"},{"$f":"勤務表!AA7","v":"B2"},{"$f":"勤務表!AB7","v":"LK2"},{"$f":"勤務表!AC7","v":"LK2"},{"$f":"勤務表!AD7","v":"休"},{"$f":"勤務表!AE7","v":"遅番"},{"$f":"勤務表!AF7","v":"LK2"},{"$f":"勤務表!AG7","v":0},{"$f":"LEFT(勤務表!B7,2)","v":"D職"}]
[]
[null,{"$f":"勤務表!B8","v":"E職員"},{"$f":"勤務表!C8","v":"明番"},{"$f":"勤務表!D8","v":"休"},{"$f":"勤務表!E8","v":"遅番"},{"$f":"勤務表!F8","v":"休"},{"$f":"勤務表!G8","v":"早番"},{"$f":"勤務表!H8","v":"休"},{"$f":"勤務表!I8","v":"早番"},{"$f":"勤務表!J8","v":"夜勤"},{"$f":"勤務表!K8","v":"明番"},{"$f":"勤務表!L8","v":"LK2"},{"$f":"勤務表!M8","v":"休"},{"$f":"勤務表!N8","v":"L1"},{"$f":"勤務表!O8","v":"早番"},{"$f":"勤務表!P8","v":"遅番"},{"$f":"勤務表!Q8","v":"夜勤"},{"$f":"勤務表!R8","v":"明番"},{"$f":"勤務表!S8","v":"休"},{"$f":"勤務表!T8","v":"休"},{"$f":"勤務表!U8","v":"B2"},{"$f":"勤務表!V8","v":"夜勤"},{"$f":"勤務表!W8","v":"明番"},{"$f":"勤務表!X8","v":"休"},{"$f":"勤務表!Y8","v":"B2"},{"$f":"勤務表!Z8","v":"L1"},{"$f":"勤務表!AA8","v":"休"},{"$f":"勤務表!AB8","v":"休"},{"$f":"勤務表!AC8","v":"LK2"},{"$f":"勤務表!AD8","v":"LK2"},{"$f":"勤務表!AE8","v":"夜勤"},{"$f":"勤務表!AF8","v":"明番"},{"$f":"勤務表!AG8","v":0},{"$f":"LEFT(勤務表!B8,2)","v":"E職"}]
[]
[null,{"$f":"勤務表!B9","v":"F職員"},{"$f":"勤務表!C9","v":"休"},{"$f":"勤務表!D9","v":"休"},{"$f":"勤務表!E9","v":"L1"},{"$f":"勤務表!F9","v":"夜勤"},{"$f":"勤務表!G9","v":"明番"},{"$f":"勤務表!H9","v":"休"},{"$f":"勤務表!I9","v":"LK2"},{"$f":"勤務表!J9","v":"遅番"},{"$f":"勤務表!K9","v":"K1"},{"$f":"勤務表!L9","v":"早番"},{"$f":"勤務表!M9","v":"休"},{"$f":"勤務表!N9","v":"夜勤"},{"$f":"勤務表!O9","v":"明番"},{"$f":"勤務表!P9","v":"休"},{"$f":"勤務表!Q9","v":"遅番"},{"$f":"勤務表!R9","v":"休"},{"$f":"勤務表!S9","v":"夜勤"},{"$f":"勤務表!T9","v":"明番"},{"$f":"勤務表!U9","v":"休"},{"$f":"勤務表!V9","v":"早番"},{"$f":"勤務表!W9","v":"遅番"},{"$f":"勤務表!X9","v":"夜勤"},{"$f":"勤務表!Y9","v":"明番"},{"$f":"勤務表!Z9","v":"休"},{"$f":"勤務表!AA9","v":"L1"},{"$f":"勤務表!AB9","v":"B2"},{"$f":"勤務表!AC9","v":"K1"},{"$f":"勤務表!AD9","v":"L1"},{"$f":"勤務表!AE9","v":"早番"},{"$f":"勤務表!AF9","v":"休"},{"$f":"勤務表!AG9","v":0},{"$f":"LEFT(勤務表!B9,2)","v":"F職"}]
[]
[null,{"$f":"勤務表!B10","v":"G職員"},{"$f":"勤務表!C10","v":"有給"},{"$f":"勤務表!D10","v":"遅番"},{"$f":"勤務表!E10","v":"早番"},{"$f":"勤務表!F10","v":"遅番"},{"$f":"勤務表!G10","v":"LK2"},{"$f":"勤務表!H10","v":"休"},{"$f":"勤務表!I10","v":"L1"},{"$f":"勤務表!J10","v":"休"},{"$f":"勤務表!K10","v":"遅番"},{"$f":"勤務表!L10","v":"休"},{"$f":"勤務表!M10","v":"L1"},{"$f":"勤務表!N10","v":"LK2"},{"$f":"勤務表!O10","v":"B2"},{"$f":"勤務表!P10","v":"LK2"},{"$f":"勤務表!Q10","v":"休"},{"$f":"勤務表!R10","v":"遅番"},{"$f":"勤務表!S10","v":"休"},{"$f":"勤務表!T10","v":"B2"},{"$f":"勤務表!U10","v":"早番"},{"$f":"勤務表!V10","v":"B2"},{"$f":"勤務表!W10","v":"LK2"},{"$f":"勤務表!X10","v":"休"},{"$f":"勤務表!Y10","v":"遅番"},{"$f":"勤務表!Z10","v":"LK2"},{"$f":"勤務表!AA10","v":"休"},{"$f":"勤務表!AB10","v":"遅番"},{"$f":"勤務表!AC10","v":"休"},{"$f":"勤務表!AD10","v":"早番"},{"$f":"勤務表!AE10","v":"休"},{"$f":"勤務表!AF10","v":"L1"},{"$f":"勤務表!AG10","v":0},{"$f":"LEFT(勤務表!B10,2)","v":"G職"}]
[]
[null,{"$f":"勤務表!B11","v":0},{"$f":"勤務表!C11","v":0},{"$f":"勤務表!D11","v":0},{"$f":"勤務表!E11","v":0},{"$f":"勤務表!F11","v":0},{"$f":"勤務表!G11","v":0},{"$f":"勤務表!H11","v":0},{"$f":"勤務表!I11","v":0},{"$f":"勤務表!J11","v":0},{"$f":"勤務表!K11","v":0},{"$f":"勤務表!L11","v":0},{"$f":"勤務表!M11","v":0},{"$f":"勤務表!N11","v":0},{"$f":"勤務表!O11","v":0},{"$f":"勤務表!P11","v":0},{"$f":"勤務表!Q11","v":0},{"$f":"勤務表!R11","v":0},{"$f":"勤務表!S11","v":0},{"$f":"勤務表!T11","v":0},{"$f":"勤務表!U11","v":0},{"$f":"勤務表!V11","v":0},{"$f":"勤務表!W11","v":0},{"$f":"勤務表!X11","v":0},{"$f":"勤務表!Y11","v":0},{"$f":"勤務表!Z11","v":0},{"$f":"勤務表!AA11","v":0},{"$f":"勤務表!AB11","v":0},{"$f":"勤務表!AC11","v":0},{"$f":"勤務表!AD11","v":0},{"$f":"勤務表!AE11","v":0},{"$f":"勤務表!AF11","v":0},{"$f":"勤務表!AG11","v":0},{"$f":"LEFT(勤務表!B11,2)","v":""}]
[]
[null,{"$f":"勤務表!B12","v":0},{"$f":"勤務表!C12","v":0},{"$f":"勤務表!D12","v":0},{"$f":"勤務表!E12","v":0},{"$f":"勤務表!F12","v":0},{"$f":"勤務表!G12","v":0},{"$f":"勤務表!H12","v":0},{"$f":"勤務表!I12","v":0},{"$f":"勤務表!J12","v":0},{"$f":"勤務表!K12","v":0},{"$f":"勤務表!L12","v":0},{"$f":"勤務表!M12","v":0},{"$f":"勤務表!N12","v":0},{"$f":"勤務表!O12","v":0},{"$f":"勤務表!P12","v":0},{"$f":"勤務表!Q12","v":0},{"$f":"勤務表!R12","v":0},{"$f":"勤務表!S12","v":0},{"$f":"勤務表!T12","v":0},{"$f":"勤務表!U12","v":0},{"$f":"勤務表!V12","v":0},{"$f":"勤務表!W12","v":0},{"$f":"勤務表!X12","v":0},{"$f":"勤務表!Y12","v":0},{"$f":"勤務表!Z12","v":0},{"$f":"勤務表!AA12","v":0},{"$f":"勤務表!AB12","v":0},{"$f":"勤務表!AC12","v":0},{"$f":"勤務表!AD12","v":0},{"$f":"勤務表!AE12","v":0},{"$f":"勤務表!AF12","v":0},{"$f":"勤務表!AG12","v":0},{"$f":"LEFT(勤務表!B12,2)","v":""}]
[]
[null,{"$f":"勤務表!B13","v":0},{"$f":"勤務表!C13","v":0},{"$f":"勤務表!D13","v":0},{"$f":"勤務表!E13","v":0},{"$f":"勤務表!F13","v":0},{"$f":"勤務表!G13","v":0},{"$f":"勤務表!H13","v":0},{"$f":"勤務表!I13","v":0},{"$f":"勤務表!J13","v":0},{"$f":"勤務表!K13","v":0},{"$f":"勤務表!L13","v":0},{"$f":"勤務表!M13","v":0},{"$f":"勤務表!N13","v":0},{"$f":"勤務表!O13","v":0},{"$f":"勤務表!P13","v":0},{"$f":"勤務表!Q13","v":0},{"$f":"勤務表!R13","v":0},{"$f":"勤務表!S13","v":0},{"$f":"勤務表!T13","v":0},{"$f":"勤務表!U13","v":0},{"$f":"勤務表!V13","v":0},{"$f":"勤務表!W13","v":0},{"$f":"勤務表!X13","v":0},{"$f":"勤務表!Y13","v":0},{"$f":"勤務表!Z13","v":0},{"$f":"勤務表!AA13","v":0},{"$f":"勤務表!AB13","v":0},{"$f":"勤務表!AC13","v":0},{"$f":"勤務表!AD13","v":0},{"$f":"勤務表!AE13","v":0},{"$f":"勤務表!AF13","v":0},{"$f":"勤務表!AG13","v":0},{"$f":"LEFT(勤務表!B13,2)","v":""}]
[]
[null,{"$f":"勤務表!B14","v":0},{"$f":"勤務表!C14","v":0},{"$f":"勤務表!D14","v":0},{"$f":"勤務表!E14","v":0},{"$f":"勤務表!F14","v":0},{"$f":"勤務表!G14","v":0},{"$f":"勤務表!H14","v":0},{"$f":"勤務表!I14","v":0},{"$f":"勤務表!J14","v":0},{"$f":"勤務表!K14","v":0},{"$f":"勤務表!L14","v":0},{"$f":"勤務表!M14","v":0},{"$f":"勤務表!N14","v":0},{"$f":"勤務表!O14","v":0},{"$f":"勤務表!P14","v":0},{"$f":"勤務表!Q14","v":0},{"$f":"勤務表!R14","v":0},{"$f":"勤務表!S14","v":0},{"$f":"勤務表!T14","v":0},{"$f":"勤務表!U14","v":0},{"$f":"勤務表!V14","v":0},{"$f":"勤務表!W14","v":0},{"$f":"勤務表!X14","v":0},{"$f":"勤務表!Y14","v":0},{"$f":"勤務表!Z14","v":0},{"$f":"勤務表!AA14","v":0},{"$f":"勤務表!AB14","v":0},{"$f":"勤務表!AC14","v":0},{"$f":"勤務表!AD14","v":0},{"$f":"勤務表!AE14","v":0},{"$f":"勤務表!AF14","v":0},{"$f":"勤務表!AG14","v":0},{"$f":"LEFT(勤務表!B14,2)","v":""}]
[]
[null,{"$f":"勤務表!B15","v":0},{"$f":"勤務表!C15","v":0},{"$f":"勤務表!D15","v":0},{"$f":"勤務表!E15","v":0},{"$f":"勤務表!F15","v":0},{"$f":"勤務表!G15","v":0},{"$f":"勤務表!H15","v":0},{"$f":"勤務表!I15","v":0},{"$f":"勤務表!J15","v":0},{"$f":"勤務表!K15","v":0},{"$f":"勤務表!L15","v":0},{"$f":"勤務表!M15","v":0},{"$f":"勤務表!N15","v":0},{"$f":"勤務表!O15","v":0},{"$f":"勤務表!P15","v":0},{"$f":"勤務表!Q15","v":0},{"$f":"勤務表!R15","v":0},{"$f":"勤務表!S15","v":0},{"$f":"勤務表!T15","v":0},{"$f":"勤務表!U15","v":0},{"$f":"勤務表!V15","v":0},{"$f":"勤務表!W15","v":0},{"$f":"勤務表!X15","v":0},{"$f":"勤務表!Y15","v":0},{"$f":"勤務表!Z15","v":0},{"$f":"勤務表!AA15","v":0},{"$f":"勤務表!AB15","v":0},{"$f":"勤務表!AC15","v":0},{"$f":"勤務表!AD15","v":0},{"$f":"勤務表!AE15","v":0},{"$f":"勤務表!AF15","v":0},{"$f":"勤務表!AG15","v":0},{"$f":"LEFT(勤務表!B15,2)","v":""}]
[]
[null,{"$f":"勤務表!B16","v":0},{"$f":"勤務表!C16","v":0},{"$f":"勤務表!D16","v":0},{"$f":"勤務表!E16","v":0},{"$f":"勤務表!F16","v":0},{"$f":"勤務表!G16","v":0},{"$f":"勤務表!H16","v":0},{"$f":"勤務表!I16","v":0},{"$f":"勤務表!J16","v":0},{"$f":"勤務表!K16","v":0},{"$f":"勤務表!L16","v":0},{"$f":"勤務表!M16","v":0},{"$f":"勤務表!N16","v":0},{"$f":"勤務表!O16","v":0},{"$f":"勤務表!P16","v":0},{"$f":"勤務表!Q16","v":0},{"$f":"勤務表!R16","v":0},{"$f":"勤務表!S16","v":0},{"$f":"勤務表!T16","v":0},{"$f":"勤務表!U16","v":0},{"$f":"勤務表!V16","v":0},{"$f":"勤務表!W16","v":0},{"$f":"勤務表!X16","v":0},{"$f":"勤務表!Y16","v":0},{"$f":"勤務表!Z16","v":0},{"$f":"勤務表!AA16","v":0},{"$f":"勤務表!AB16","v":0},{"$f":"勤務表!AC16","v":0},{"$f":"勤務表!AD16","v":0},{"$f":"勤務表!AE16","v":0},{"$f":"勤務表!AF16","v":0},{"$f":"勤務表!AG16","v":0},{"$f":"LEFT(勤務表!B16,2)","v":""}]
[]
[null,{"$f":"勤務表!B17","v":0},{"$f":"勤務表!C17","v":0},{"$f":"勤務表!D17","v":0},{"$f":"勤務表!E17","v":0},{"$f":"勤務表!F17","v":0},{"$f":"勤務表!G17","v":0},{"$f":"勤務表!H17","v":0},{"$f":"勤務表!I17","v":0},{"$f":"勤務表!J17","v":0},{"$f":"勤務表!K17","v":0},{"$f":"勤務表!L17","v":0},{"$f":"勤務表!M17","v":0},{"$f":"勤務表!N17","v":0},{"$f":"勤務表!O17","v":0},{"$f":"勤務表!P17","v":0},{"$f":"勤務表!Q17","v":0},{"$f":"勤務表!R17","v":0},{"$f":"勤務表!S17","v":0},{"$f":"勤務表!T17","v":0},{"$f":"勤務表!U17","v":0},{"$f":"勤務表!V17","v":0},{"$f":"勤務表!W17","v":0},{"$f":"勤務表!X17","v":0},{"$f":"勤務表!Y17","v":0},{"$f":"勤務表!Z17","v":0},{"$f":"勤務表!AA17","v":0},{"$f":"勤務表!AB17","v":0},{"$f":"勤務表!AC17","v":0},{"$f":"勤務表!AD17","v":0},{"$f":"勤務表!AE17","v":0},{"$f":"勤務表!AF17","v":0},{"$f":"勤務表!AG17","v":0},{"$f":"LEFT(勤務表!B17,2)","v":""}]
[null,{"$f":"勤務表!B19","v":0}]
[null,{"$f":"勤務表!B18","v":0},{"$f":"勤務表!C18","v":0},{"$f":"勤務表!D18","v":0},{"$f":"勤務表!E18","v":0},{"$f":"勤務表!F18","v":0},{"$f":"勤務表!G18","v":0},{"$f":"勤務表!H18","v":0},{"$f":"勤務表!I18","v":0},{"$f":"勤務表!J18","v":0},{"$f":"勤務表!K18","v":0},{"$f":"勤務表!L18","v":0},{"$f":"勤務表!M18","v":0},{"$f":"勤務表!N18","v":0},{"$f":"勤務表!O18","v":0},{"$f":"勤務表!P18","v":0},{"$f":"勤務表!Q18","v":0},{"$f":"勤務表!R18","v":0},{"$f":"勤務表!S18","v":0},{"$f":"勤務表!T18","v":0},{"$f":"勤務表!U18","v":0},{"$f":"勤務表!V18","v":0},{"$f":"勤務表!W18","v":0},{"$f":"勤務表!X18","v":0},{"$f":"勤務表!Y18","v":0},{"$f":"勤務表!Z18","v":0},{"$f":"勤務表!AA18","v":0},{"$f":"勤務表!AB18","v":0},{"$f":"勤務表!AC18","v":0},{"$f":"勤務表!AD18","v":0},{"$f":"勤務表!AE18","v":0},{"$f":"勤務表!AF18","v":0},{"$f":"勤務表!AG18","v":0}]
[null,{"$f":"勤務表!B21","v":"L1"}]
[null,{"$f":"勤務表!B19","v":0},{"$f":"勤務表!C19","v":0},{"$f":"勤務表!D19","v":0},{"$f":"勤務表!E19","v":0},{"$f":"勤務表!F19","v":0},{"$f":"勤務表!G19","v":0},{"$f":"勤務表!H19","v":0},{"$f":"勤務表!I19","v":0},{"$f":"勤務表!J19","v":0},{"$f":"勤務表!K19","v":0},{"$f":"勤務表!L19","v":0},{"$f":"勤務表!M19","v":0},{"$f":"勤務表!N19","v":0},{"$f":"勤務表!O19","v":0},{"$f":"勤務表!P19","v":0},{"$f":"勤務表!Q19","v":0},{"$f":"勤務表!R19","v":0},{"$f":"勤務表!S19","v":0},{"$f":"勤務表!T19","v":0},{"$f":"勤務表!U19","v":0},{"$f":"勤務表!V19","v":0},{"$f":"勤務表!W19","v":0},{"$f":"勤務表!X19","v":0},{"$f":"勤務表!Y19","v":0},{"$f":"勤務表!Z19","v":0},{"$f":"勤務表!AA19","v":0},{"$f":"勤務表!AB19","v":0},{"$f":"勤務表!AC19","v":0},{"$f":"勤務表!AD19","v":0},{"$f":"勤務表!AE19","v":0},{"$f":"勤務表!AF19","v":0},{"$f":"勤務表!AG19","v":0}]
[null,{"$f":"勤務表!B23","v":"B2"},null,null,null,null,null,null,null,null,null,null,null,null,null,null,null,null,null,null,null,null,null,null,null,null,null,null,null,null,null,null,null,{"$f":"LEFT(勤務表!B19,2)","v":""}]
[null,null,{"$f":"勤務表!C28","v":3},{"$f":"勤務表!D28","v":3},{"$f":"勤務表!E28","v":4},{"$f":"勤務表!F28","v":3},{"$f":"勤務表!G28","v":5},{"$f":"勤務表!H28","v":3},{"$f":"勤務表!I28","v":5},{"$f":"勤務表!J28","v":2},{"$f":"勤務表!K28","v":4},{"$f":"勤務表!L28","v":4},{"$f":"勤務表!M28","v":3},{"$f":"勤務表!N28","v":4},{"$f":"勤務表!O28","v":3},{"$f":"勤務表!P28","v":2},{"$f":"勤務表!Q28","v":2},{"$f":"勤務表!R28","v":4},{"$f":"勤務表!S28","v":2},{"$f":"勤務表!T28","v":4},{"$f":"勤務表!U28","v":3},{"$f":"勤務表!V28","v":4},{"$f":"勤務表!W28","v":4},{"$f":"勤務表!X28","v":1},{"$f":"勤務表!Y28","v":5},{"$f":"勤務表!Z28","v":2},{"$f":"勤務表!AA28","v":3},{"$f":"勤務表!AB28","v":4},{"$f":"勤務表!AC28","v":4},{"$f":"勤務表!AD28","v":4},{"$f":"勤務表!AE28","v":2},{"$f":"勤務表!AF28","v":4},{"$f":"勤務表!AG28","v":0}]

{"sheet":"利用一覧","index":12,"n_rows":55,"n_cols":34,"rows_kept":55,"cut":false,"hidden":true,"merged":[[51,33,52,33],[51,0,52,0],[51,1,52,1],[47,0,48,0],[47,1,48,1],[49,1,50,1],[45,0,46,0],[45,1,46,1],[45,33,46,33],[49,33,50,33],[47,33,48,33],[49,0,50,0],[43,0,44,0],[43,1,44,1],[43,33,44,33],[41,0,42,0],[41,1,42,1],[41,33,42,33],[39,1,40,1],[39,33,40,33],[37,0,38,0],[37,1,38,1],[37,33,38,33],[39,0,40,0],[27,0,28,0],[27,1,28,1],[27,33,28,33],[29,0,30,0],[29,1,30,1],[29,33,30,33],[31,0,32,0],[31,1,32,1],[31,33,32,33],[35,0,36,0],[35,1,36,1],[35,33,36,33],[33,0,34,0],[33,1,34,1],[33,33,34,33],[23,0,24,0],[23,1,24,1],[23,33,24,33],[25,0,26,0],[25,1,26,1],[25,33,26,33],[19,0,20,0],[19,1,20,1],[19,33,20,33],[21,0,22,0],[21,1,22,1],[21,33,22,33],[15,0,16,0],[15,1,16,1],[15,33,16,33],[17,0,18,0],[17,1,18,1],[17,33,18,33],[11,0,12,0],[11,1,12,1],[11,33,12,33],[13,0,14,0],[13,1,14,1],[13,33,14,33],[1,1,2,1],[3,0,4,0],[3,1,4,1],[3,33,4,33],[9,0,10,0],[9,1,10,1],[9,33,10,33],[5,0,6,0],[5,1,6,1],[5,33,6,33],[7,0,8,0],[7,1,8,1],[7,33,8,33]]}
[null,null,null,null,null,null,null,{"$f":"Top!J6&\" 利用一覧\"","v":"小規模多機能型事業所 利用一覧"},null,null,null,null,null,null,null,null,null,null,{"$f":"月&\"月\"","v":"6月"}]
[null,"氏名",{"$f":"DATE(年,月,1)","v":"2013-06-01"},{"$f":"C2+1","v":"2013-06-02"},{"$f":"D2+1","v":"2013-06-03"},"2013-06-04","2013-06-05","2013-06-06","2013-06-07","2013-06-08","2013-06-09","2013-06-10","2013-06-11","2013-06-12","2013-06-13","2013-06-14","2013-06-15","2013-06-16","2013-06-17","2013-06-18","2013-06-19","2013-06-20","2013-06-21","2013-06-22","2013-06-23","2013-06-24","2013-06-25","2013-06-26","2013-06-27","2013-06-28",{"$f":"IF(MONTH(AD2+1)=月,AD2+1,\"\")","v":"2013-06-29"},{"$f":"IF(MONTH(AD2+2)=月,AD2+2,\"\")","v":"2013-06-30"},{"$f":"IF(MONTH(AD2+3)=月,AD2+3,\"\")","v":""}]
[null,null,{"$f":"C2","v":41426},{"$f":"D2","v":41427},41428,41429,41430,41431,41432,41433,41434,41435,41436,41437,41438,41439,41440,41441,41442,41443,41444,41445,41446,41447,41448,41449,41450,41451,41452,41453,41454,41455,""]
[1,{"$f":"利用表!B6","v":"利用者A"},{"$f":"利用表!D6","v":0},{"$f":"利用表!E6","v":0},{"$f":"利用表!F6","v":0},{"$f":"利用表!G6","v":0},{"$f":"利用表!H6","v":0},{"$f":"利用表!I6","v":0},{"$f":"利用表!J6","v":0},{"$f":"利用表!K6","v":0},{"$f":"利用表!L6","v":0},{"$f":"利用表!M6","v":0},{"$f":"利用表!N6","v":0},{"$f":"利用表!O6","v":0},{"$f":"利用表!P6","v":0},{"$f":"利用表!Q6","v":0},{"$f":"利用表!R6","v":0},{"$f":"利用表!S6","v":0},{"$f":"利用表!T6","v":0},{"$f":"利用表!U6","v":0},{"$f":"利用表!V6","v":0},{"$f":"利用表!W6","v":0},{"$f":"利用表!X6","v":0},{"$f":"利用表!Y6","v":0},{"$f":"利用表!Z6","v":0},{"$f":"利用表!AA6","v":0},{"$f":"利用表!AB6","v":0},{"$f":"利用表!AC6","v":0},{"$f":"利用表!AD6","v":0},{"$f":"利用表!AE6","v":0},{"$f":"利用表!AF6","v":0},{"$f":"利用表!AG6","v":0},{"$f":"利用表!AH6","v":0},{"$f":"LEFT(B4,2)","v":"利用"}]
[null,null,{"$f":"利用表!F7","v":"●"},{"$f":"利用表!G7","v":0},{"$f":"利用表!H7","v":"●"},{"$f":"利用表!G7","v":0},{"$f":"利用表!H7","v":"●"},{"$f":"利用表!I7","v":"●"},{"$f":"利用表!J7","v":"●"},{"$f":"利用表!K7","v":"●"},{"$f":"利用表!L7","v":"●"},{"$f":"利用表!M7","v":"●"},{"$f":"利用表!N7","v":"●"},{"$f":"利用表!O7","v":"●"},{"$f":"利用表!P7","v":"●"},{"$f":"利用表!Q7","v":"●"},{"$f":"利用表!R7","v":"●"},{"$f":"利用表!S7","v":"●"},{"$f":"利用表!T7","v":"●"},{"$f":"利用表!U7","v":"●"},{"$f":"利用表!V7","v":"●"},{"$f":"利用表!W7","v":"●"},{"$f":"利用表!X7","v":"●"},{"$f":"利用表!Y7","v":"●"},{"$f":"利用表!Z7","v":"●"},{"$f":"利用表!AA7","v":"●"},{"$f":"利用表!AB7","v":0},{"$f":"利用表!AC7","v":"●"},{"$f":"利用表!AD7","v":"●"},{"$f":"利用表!AE7","v":"●"},{"$f":"利用表!AF7","v":"●"},{"$f":"利用表!AG7","v":"●"},{"$f":"利用表!AH7","v":"●"}]
[2,{"$f":"利用表!B8","v":"利用者B"},{"$f":"利用表!D8","v":0},{"$f":"利用表!E8","v":"休"},{"$f":"利用表!F8","v":"休"},{"$f":"利用表!G8","v":"休"},{"$f":"利用表!H8","v":0},{"$f":"利用表!I8","v":0},{"$f":"利用表!J8","v":0},{"$f":"利用表!K8","v":0},{"$f":"利用表!L8","v":0},{"$f":"利用表!M8","v":0},{"$f":"利用表!N8","v":0},{"$f":"利用表!O8","v":0},{"$f":"利用表!P8","v":0},{"$f":"利用表!Q8","v":"休"},{"$f":"利用表!R8","v":"休"},{"$f":"利用表!S8","v":"休"},{"$f":"利用表!T8","v":0},{"$f":"利用表!U8","v":0},{"$f":"利用表!V8","v":0},{"$f":"利用表!W8","v":0},{"$f":"利用表!X8","v":0},{"$f":"利用表!Y8","v":0},{"$f":"利用表!Z8","v":0},{"$f":"利用表!AA8","v":0},{"$f":"利用表!AB8","v":0},{"$f":"利用表!AC8","v":0},{"$f":"利用表!AD8","v":0},{"$f":"利用表!AE8","v":0},{"$f":"利用表!AF8","v":0},{"$f":"利用表!AG8","v":0},{"$f":"利用表!AH8","v":0},{"$f":"LEFT(B6,2)","v":"利用"}]
[null,null,{"$f":"利用表!D9","v":"●"},{"$f":"利用表!E9","v":0},{"$f":"利用表!F9","v":0},{"$f":"利用表!G9","v":0},{"$f":"利用表!H9","v":"●"},{"$f":"利用表!I9","v":"●"},{"$f":"利用表!J9","v":"●"},{"$f":"利用表!K9","v":"●"},{"$f":"利用表!L9","v":"●"},{"$f":"利用表!M9","v":"●"},{"$f":"利用表!N9","v":"●"},{"$f":"利用表!O9","v":"●"},{"$f":"利用表!P9","v":"●"},{"$f":"利用表!Q9","v":0},{"$f":"利用表!R9","v":0},{"$f":"利用表!S9","v":0},{"$f":"利用表!T9","v":"●"},{"$f":"利用表!U9","v":"●"},{"$f":"利用表!V9","v":"●"},{"$f":"利用表!W9","v":"●"},{"$f":"利用表!X9","v":"●"},{"$f":"利用表!Y9","v":"●"},{"$f":"利用表!Z9","v":"●"},{"$f":"利用表!AA9","v":"●"},{"$f":"利用表!AB9","v":"●"},{"$f":"利用表!AC9","v":"●"},{"$f":"利用表!AD9","v":"●"},{"$f":"利用表!AE9","v":"●"},{"$f":"利用表!AF9","v":"●"},{"$f":"利用表!AG9","v":"●"},{"$f":"利用表!AH9","v":"●"}]
[3,{"$f":"利用表!B10","v":"利用者C"},{"$f":"利用表!D10","v":"訪"},{"$f":"利用表!E10","v":"訪"},{"$f":"利用表!F10","v":"訪"},{"$f":"利用表!G10","v":"訪"},{"$f":"利用表!H10","v":"訪"},{"$f":"利用表!I10","v":"訪"},{"$f":"利用表!J10","v":"訪"},{"$f":"利用表!K10","v":"訪"},{"$f":"利用表!L10","v":"訪"},{"$f":"利用表!M10","v":"訪"},{"$f":"利用表!N10","v":"訪"},{"$f":"利用表!O10","v":"訪"},{"$f":"利用表!P10","v":"訪"},{"$f":"利用表!Q10","v":"訪"},{"$f":"利用表!R10","v":"訪"},{"$f":"利用表!S10","v":"訪"},{"$f":"利用表!T10","v":"訪"},{"$f":"利用表!U10","v":"訪"},{"$f":"利用表!V10","v":"訪"},{"$f":"利用表!W10","v":"訪"},{"$f":"利用表!X10","v":"訪"},{"$f":"利用表!Y10","v":"訪"},{"$f":"利用表!Z10","v":"訪"},{"$f":"利用表!AA10","v":"訪"},{"$f":"利用表!AB10","v":"訪"},{"$f":"利用表!AC10","v":"訪"},{"$f":"利用表!AD10","v":"訪"},{"$f":"利用表!AE10","v":"訪"},{"$f":"利用表!AF10","v":"訪"},{"$f":"利用表!AG10","v":"訪"},{"$f":"利用表!AH10","v":"訪"},{"$f":"LEFT(B8,2)","v":"利用"}]
[null,null,{"$f":"利用表!D11","v":0},{"$f":"利用表!E11","v":0},{"$f":"利用表!F11","v":0},{"$f":"利用表!G11","v":0},{"$f":"利用表!H11","v":0},{"$f":"利用表!I11","v":0},{"$f":"利用表!J11","v":0},{"$f":"利用表!K11","v":0},{"$f":"利用表!L11","v":0},{"$f":"利用表!M11","v":0},{"$f":"利用表!N11","v":0},{"$f":"利用表!O11","v":0},{"$f":"利用表!P11","v":0},{"$f":"利用表!Q11","v":0},{"$f":"利用表!R11","v":0},{"$f":"利用表!S11","v":0},{"$f":"利用表!T11","v":0},{"$f":"利用表!U11","v":0},{"$f":"利用表!V11","v":0},{"$f":"利用表!W11","v":0},{"$f":"利用表!X11","v":0},{"$f":"利用表!Y11","v":0},{"$f":"利用表!Z11","v":0},{"$f":"利用表!AA11","v":0},{"$f":"利用表!AB11","v":0},{"$f":"利用表!AC11","v":0},{"$f":"利用表!AD11","v":0},{"$f":"利用表!AE11","v":0},{"$f":"利用表!AF11","v":0},{"$f":"利用表!AG11","v":0},{"$f":"利用表!AH11","v":0}]
[4,{"$f":"利用表!B12","v":"利用者D"},{"$f":"利用表!D12","v":0},{"$f":"利用表!E12","v":0},{"$f":"利用表!F12","v":"休"},{"$f":"利用表!G12","v":"休"},{"$f":"利用表!H12","v":"休"},{"$f":"利用表!I12","v":"休"},{"$f":"利用表!J12","v":0},{"$f":"利用表!K12","v":0},{"$f":"利用表!L12","v":0},{"$f":"利用表!M12","v":0},{"$f":"利用表!N12","v":"休"},{"$f":"利用表!O12","v":"休"},{"$f":"利用表!P12","v":0},{"$f":"利用表!Q12","v":"休"},{"$f":"利用表!R12","v":"休"},{"$f":"利用表!S12","v":0},{"$f":"利用表!T12","v":0},{"$f":"利用表!U12","v":"休"},{"$f":"利用表!V12","v":"休"},{"$f":"利用表!W12","v":0},{"$f":"利用表!X12","v":0},{"$f":"利用表!Y12","v":0},{"$f":"利用表!Z12","v":0},{"$f":"利用表!AA12","v":0},{"$f":"利用表!AB12","v":"休"},{"$f":"利用表!AC12","v":"休"},{"$f":"利用表!AD12","v":0},{"$f":"利用表!AE12","v":0},{"$f":"利用表!AF12","v":0},{"$f":"利用表!AG12","v":0},{"$f":"利用表!AH12","v":0},{"$f":"LEFT(B10,2)","v":"利用"}]
[null,null,{"$f":"利用表!D13","v":0},{"$f":"利用表!E13","v":0},{"$f":"利用表!F13","v":0},{"$f":"利用表!G13","v":0},{"$f":"利用表!H13","v":0},{"$f":"利用表!I13","v":0},{"$f":"利用表!J13","v":0},{"$f":"利用表!K13","v":0},{"$f":"利用表!L13","v":0},{"$f":"利用表!M13","v":0},{"$f":"利用表!N13","v":0},{"$f":"利用表!O13","v":0},{"$f":"利用表!P13","v":0},{"$f":"利用表!Q13","v":0},{"$f":"利用表!R13","v":0},{"$f":"利用表!S13","v":0},{"$f":"利用表!T13","v":0},{"$f":"利用表!U13","v":0},{"$f":"利用表!V13","v":0},{"$f":"利用表!W13","v":0},{"$f":"利用表!X13","v":0},{"$f":"利用表!Y13","v":0},{"$f":"利用表!Z13","v":0},{"$f":"利用表!AA13","v":0},{"$f":"利用表!AB13","v":0},{"$f":"利用表!AC13","v":0},{"$f":"利用表!AD13","v":0},{"$f":"利用表!AE13","v":0},{"$f":"利用表!AF13","v":0},{"$f":"利用表!AG13","v":0},{"$f":"利用表!AH13","v":0}]
[5,{"$f":"利用表!B14","v":"利用者E"},{"$f":"利用表!D14","v":"休"},{"$f":"利用表!E14","v":0},{"$f":"利用表!F14","v":"休"},{"$f":"利用表!G14","v":0},{"$f":"利用表!H14","v":0},{"$f":"利用表!I14","v":0},{"$f":"利用表!J14","v":0},{"$f":"利用表!K14","v":"休"},{"$f":"利用表!L14","v":0},{"$f":"利用表!M14","v":"休"},{"$f":"利用表!N14","v":0},{"$f":"利用表!O14","v":0},{"$f":"利用表!P14","v":0},{"$f":"利用表!Q14","v":0},{"$f":"利用表!R14","v":"休"},{"$f":"利用表!S14","v":0},{"$f":"利用表!T14","v":"休"},{"$f":"利用表!U14","v":0},{"$f":"利用表!V14","v":0},{"$f":"利用表!W14","v":0},{"$f":"利用表!X14","v":0},{"$f":"利用表!Y14","v":"休"},{"$f":"利用表!Z14","v":0},{"$f":"利用表!AA14","v":"休"},{"$f":"利用表!AB14","v":0},{"$f":"利用表!AC14","v":0},{"$f":"利用表!AD14","v":0},{"$f":"利用表!AE14","v":0},{"$f":"利用表!AF14","v":"休"},{"$f":"利用表!AG14","v":0},{"$f":"利用表!AH14","v":"休"},{"$f":"LEFT(B12,2)","v":"利用"}]
[null,null,{"$f":"利用表!D15","v":0},{"$f":"利用表!E15","v":0},{"$f":"利用表!F15","v":0},{"$f":"利用表!G15","v":"●"},{"$f":"利用表!H15","v":"●"},{"$f":"利用表!I15","v":"●"},{"$f":"利用表!J15","v":0},{"$f":"利用表!K15","v":0},{"$f":"利用表!L15","v":0},{"$f":"利用表!M15","v":0},{"$f":"利用表!N15","v":"●"},{"$f":"利用表!O15","v":"●"},{"$f":"利用表!P15","v":"●"},{"$f":"利用表!Q15","v":0},{"$f":"利用表!R15","v":0},{"$f":"利用表!S15","v":0},{"$f":"利用表!T15","v":0},{"$f":"利用表!U15","v":"●"},{"$f":"利用表!V15","v":"●"},{"$f":"利用表!W15","v":"●"},{"$f":"利用表!X15","v":0},{"$f":"利用表!Y15","v":0},{"$f":"利用表!Z15","v":0},{"$f":"利用表!AA15","v":0},{"$f":"利用表!AB15","v":"●"},{"$f":"利用表!AC15","v":"●"},{"$f":"利用表!AD15","v":"●"},{"$f":"利用表!AE15","v":0},{"$f":"利用表!AF15","v":0},{"$f":"利用表!AG15","v":0},{"$f":"利用表!AH15","v":0}]
[6,{"$f":"利用表!B16","v":"利用者F"},{"$f":"利用表!D16","v":0},{"$f":"利用表!E16","v":"訪"},{"$f":"利用表!F16","v":"休"},{"$f":"利用表!G16","v":"訪"},{"$f":"利用表!H16","v":0},{"$f":"利用表!I16","v":0},{"$f":"利用表!J16","v":"休"},{"$f":"利用表!K16","v":0},{"$f":"利用表!L16","v":"休"},{"$f":"利用表!M16","v":"訪"},{"$f":"利用表!N16","v":"休"},{"$f":"利用表!O16","v":0},{"$f":"利用表!P16","v":"休"},{"$f":"利用表!Q16","v":"休"},{"$f":"利用表!R16","v":0},{"$f":"利用表!S16","v":"休"},{"$f":"利用表!T16","v":"訪"},{"$f":"利用表!U16","v":"休"},{"$f":"利用表!V16","v":0},{"$f":"利用表!W16","v":"休"},{"$f":"利用表!X16","v":"休"},{"$f":"利用表!Y16","v":0},{"$f":"利用表!Z16","v":"休"},{"$f":"利用表!AA16","v":"訪"},{"$f":"利用表!AB16","v":"休"},{"$f":"利用表!AC16","v":0},{"$f":"利用表!AD17","v":0},{"$f":"利用表!AE16","v":"休"},{"$f":"利用表!AF16","v":0},{"$f":"利用表!AG16","v":"休"},{"$f":"利用表!AH16","v":"訪"},{"$f":"LEFT(B14,2)","v":"利用"}]
[null,null,{"$f":"利用表!D17","v":0},{"$f":"利用表!E17","v":0},{"$f":"利用表!F17","v":0},{"$f":"利用表!G17","v":0},{"$f":"利用表!H17","v":0},{"$f":"利用表!I17","v":0},{"$f":"利用表!J17","v":0},{"$f":"利用表!K17","v":0},{"$f":"利用表!L17","v":0},{"$f":"利用表!M17","v":0},{"$f":"利用表!N17","v":0},{"$f":"利用表!O17","v":0},{"$f":"利用表!P17","v":0},{"$f":"利用表!Q17","v":0},{"$f":"利用表!R17","v":0},{"$f":"利用表!S17","v":0},{"$f":"利用表!T17","v":0},{"$f":"利用表!U17","v":0},{"$f":"利用表!V17","v":0},{"$f":"利用表!W17","v":0},{"$f":"利用表!X17","v":0},{"$f":"利用表!Y17","v":0},{"$f":"利用表!Z17","v":0},{"$f":"利用表!AA17","v":0},{"$f":"利用表!AB17","v":0},{"$f":"利用表!AC17","v":0},{"$f":"利用表!AD17","v":0},{"$f":"利用表!AE17","v":0},{"$f":"利用表!AF17","v":0},{"$f":"利用表!AG17","v":0},{"$f":"利用表!AH17","v":0}]
[7,{"$f":"利用表!B18","v":"利用者G"},{"$f":"利用表!D18","v":"訪"},{"$f":"利用表!E18","v":"訪"},{"$f":"利用表!F18","v":"訪"},{"$f":"利用表!G18","v":"訪"},{"$f":"利用表!H18","v":"訪"},{"$f":"利用表!I18","v":"訪"},{"$f":"利用表!J18","v":"訪"},{"$f":"利用表!K18","v":"訪"},{"$f":"利用表!L18","v":"訪"},{"$f":"利用表!M18","v":"訪"},{"$f":"利用表!N18","v":"訪"},{"$f":"利用表!O18","v":"訪"},{"$f":"利用表!P18","v":"訪"},{"$f":"利用表!Q18","v":"訪"},{"$f":"利用表!R18","v":"訪"},{"$f":"利用表!S18","v":"訪"},{"$f":"利用表!T18","v":"訪"},{"$f":"利用表!U18","v":"訪"},{"$f":"利用表!V18","v":"訪"},{"$f":"利用表!W18","v":"訪"},{"$f":"利用表!X18","v":"訪"},{"$f":"利用表!Y18","v":"訪"},{"$f":"利用表!Z18","v":"訪"},{"$f":"利用表!AA18","v":"訪"},{"$f":"利用表!AB18","v":"訪"},{"$f":"利用表!AC18","v":"訪"},{"$f":"利用表!AD18","v":"訪"},{"$f":"利用表!AE18","v":"訪"},{"$f":"利用表!AF18","v":"訪"},{"$f":"利用表!AG18","v":"訪"},{"$f":"利用表!AH18","v":"訪"},{"$f":"LEFT(B16,2)","v":"利用"}]
[null,null,{"$f":"利用表!D19","v":"●"},{"$f":"利用表!E19","v":"●"},{"$f":"利用表!F19","v":"●"},{"$f":"利用表!G19","v":"●"},{"$f":"利用表!H19","v":"●"},{"$f":"利用表!I19","v":"●"},{"$f":"利用表!J19","v":"●"},{"$f":"利用表!K19","v":"●"},{"$f":"利用表!L19","v":"●"},{"$f":"利用表!M19","v":"●"},{"$f":"利用表!N19","v":"●"},{"$f":"利用表!O19","v":"●"},{"$f":"利用表!P19","v":"●"},{"$f":"利用表!Q19","v":"●"},{"$f":"利用表!R19","v":"●"},{"$f":"利用表!S19","v":"●"},{"$f":"利用表!T19","v":"●"},{"$f":"利用表!U19","v":"●"},{"$f":"利用表!V19","v":"●"},{"$f":"利用表!W19","v":"●"},{"$f":"利用表!X19","v":"●"},{"$f":"利用表!Y19","v":"●"},{"$f":"利用表!Z19","v":"●"},{"$f":"利用表!AA19","v":"●"},{"$f":"利用表!AB19","v":"●"},{"$f":"利用表!AC19","v":"●"},{"$f":"利用表!AD19","v":"●"},{"$f":"利用表!AE19","v":"●"},{"$f":"利用表!AF19","v":"●"},{"$f":"利用表!AG19","v":"●"},{"$f":"利用表!AH19","v":"●"}]
[8,{"$f":"利用表!B20","v":"利用者H"},{"$f":"利用表!D20","v":0},{"$f":"利用表!E20","v":0},{"$f":"利用表!F20","v":0},{"$f":"利用表!G20","v":0},{"$f":"利用表!H20","v":0},{"$f":"利用表!I20","v":0},{"$f":"利用表!J20","v":0},{"$f":"利用表!K20","v":0},{"$f":"利用表!L20","v":0},{"$f":"利用表!M20","v":0},{"$f":"利用表!N20","v":0},{"$f":"利用表!O20","v":0},{"$f":"利用表!P20","v":0},{"$f":"利用表!Q20","v":0},{"$f":"利用表!R20","v":0},{"$f":"利用表!S20","v":0},{"$f":"利用表!T20","v":0},{"$f":"利用表!U20","v":0},{"$f":"利用表!V20","v":0},{"$f":"利用表!W20","v":0},{"$f":"利用表!X20","v":0},{"$f":"利用表!Y20","v":0},{"$f":"利用表!Z20","v":0},{"$f":"利用表!AA20","v":0},{"$f":"利用表!AB20","v":0},{"$f":"利用表!AC20","v":0},{"$f":"利用表!AD20","v":0},{"$f":"利用表!AE20","v":0},{"$f":"利用表!AF20","v":0},{"$f":"利用表!AG20","v":0},{"$f":"利用表!AH20","v":0},{"$f":"LEFT(B18,2)","v":"利用"}]
[null,null,{"$f":"利用表!D21","v":"●"},{"$f":"利用表!E21","v":"●"},{"$f":"利用表!F21","v":"●"},{"$f":"利用表!G21","v":"●"},{"$f":"利用表!H21","v":"●"},{"$f":"利用表!I21","v":"●"},{"$f":"利用表!J21","v":"●"},{"$f":"利用表!K21","v":"●"},{"$f":"利用表!L21","v":"●"},{"$f":"利用表!M21","v":"●"},{"$f":"利用表!N21","v":"●"},{"$f":"利用表!O21","v":"●"},{"$f":"利用表!P21","v":"●"},{"$f":"利用表!Q21","v":"●"},{"$f":"利用表!R21","v":"●"},{"$f":"利用表!S21","v":"●"},{"$f":"利用表!T21","v":"●"},{"$f":"利用表!U21","v":"●"},{"$f":"利用表!V21","v":"●"},{"$f":"利用表!W21","v":"●"},{"$f":"利用表!X21","v":"●"},{"$f":"利用表!Y21","v":"●"},{"$f":"利用表!Z21","v":"●"},{"$f":"利用表!AA21","v":"●"},{"$f":"利用表!AB21","v":"●"},{"$f":"利用表!AC21","v":"●"},{"$f":"利用表!AD21","v":"●"},{"$f":"利用表!AE21","v":"●"},{"$f":"利用表!AF21","v":"●"},{"$f":"利用表!AG21","v":"●"},{"$f":"利用表!AH21","v":"●"}]
[9,{"$f":"利用表!B22","v":"利用者I"},{"$f":"利用表!D22","v":0},{"$f":"利用表!E22","v":0},{"$f":"利用表!F22","v":0},{"$f":"利用表!G22","v":"休"},{"$f":"利用表!H22","v":0},{"$f":"利用表!I22","v":0},{"$f":"利用表!J22","v":0},{"$f":"利用表!K22","v":"休"},{"$f":"利用表!L22","v":0},{"$f":"利用表!M22","v":0},{"$f":"利用表!N22","v":"休"},{"$f":"利用表!O22","v":0},{"$f":"利用表!P22","v":0},{"$f":"利用表!Q22","v":"休"},{"$f":"利用表!R22","v":"休"},{"$f":"利用表!S22","v":0},{"$f":"利用表!T22","v":0},{"$f":"利用表!U22","v":0},{"$f":"利用表!V22","v":0},{"$f":"利用表!W22","v":"休"},{"$f":"利用表!X22","v":"休"},{"$f":"利用表!Y22","v":0},{"$f":"利用表!Z22","v":0},{"$f":"利用表!AA22","v":0},{"$f":"利用表!AB22","v":"休"},{"$f":"利用表!AC22","v":0},{"$f":"利用表!AD22","v":0},{"$f":"利用表!AE22","v":0},{"$f":"利用表!AF22","v":0},{"$f":"利用表!AG22","v":0},{"$f":"利用表!AH22","v":0},{"$f":"LEFT(B20,2)","v":"利用"}]
[null,null,{"$f":"利用表!D23","v":0},{"$f":"利用表!E23","v":0},{"$f":"利用表!F23","v":0},{"$f":"利用表!G23","v":0},{"$f":"利用表!H23","v":0},{"$f":"利用表!I23","v":0},{"$f":"利用表!J23","v":0},{"$f":"利用表!K23","v":0},{"$f":"利用表!L23","v":0},{"$f":"利用表!M23","v":0},{"$f":"利用表!N23","v":0},{"$f":"利用表!O23","v":0},{"$f":"利用表!P23","v":0},{"$f":"利用表!Q23","v":0},{"$f":"利用表!R23","v":0},{"$f":"利用表!S23","v":0},{"$f":"利用表!T23","v":0},{"$f":"利用表!U23","v":0},{"$f":"利用表!V23","v":0},{"$f":"利用表!W23","v":0},{"$f":"利用表!X23","v":0},{"$f":"利用表!Y23","v":0},{"$f":"利用表!Z23","v":0},{"$f":"利用表!AA23","v":0},{"$f":"利用表!AB23","v":0},{"$f":"利用表!AC23","v":0},{"$f":"利用表!AD23","v":0},{"$f":"利用表!AE23","v":0},{"$f":"利用表!AF23","v":0},{"$f":"利用表!AG23","v":0},{"$f":"利用表!AH23","v":0}]
[10,{"$f":"利用表!B24","v":"利用者J"},{"$f":"利用表!D24","v":"訪"},{"$f":"利用表!E24","v":"訪"},{"$f":"利用表!F24","v":"訪"},{"$f":"利用表!G24","v":"訪"},{"$f":"利用表!H24","v":"訪"},{"$f":"利用表!I24","v":"訪"},{"$f":"利用表!J24","v":"訪"},{"$f":"利用表!K24","v":"訪"},{"$f":"利用表!L24","v":"訪"},{"$f":"利用表!M24","v":"訪"},{"$f":"利用表!N24","v":"訪"},{"$f":"利用表!O24","v":"訪"},{"$f":"利用表!P24","v":"訪"},{"$f":"利用表!Q24","v":"訪"},{"$f":"利用表!R24","v":"訪"},{"$f":"利用表!S24","v":"訪"},{"$f":"利用表!T24","v":"訪"},{"$f":"利用表!U24","v":"訪"},{"$f":"利用表!V24","v":"訪"},{"$f":"利用表!W24","v":"訪"},{"$f":"利用表!X24","v":"訪"},{"$f":"利用表!Y24","v":"訪"},{"$f":"利用表!Z24","v":"訪"},{"$f":"利用表!AA24","v":"訪"},{"$f":"利用表!AB24","v":"訪"},{"$f":"利用表!AC24","v":"訪"},{"$f":"利用表!AD24","v":"訪"},{"$f":"利用表!AE24","v":"訪"},{"$f":"利用表!AF24","v":"訪"},{"$f":"利用表!AG24","v":"訪"},{"$f":"利用表!AH24","v":"訪"},{"$f":"LEFT(B22,2)","v":"利用"}]
[null,null,{"$f":"利用表!D25","v":0},{"$f":"利用表!E25","v":0},{"$f":"利用表!F25","v":0},{"$f":"利用表!G25","v":0},{"$f":"利用表!H25","v":0},{"$f":"利用表!I25","v":0},{"$f":"利用表!J25","v":0},{"$f":"利用表!K25","v":0},{"$f":"利用表!L25","v":0},{"$f":"利用表!M25","v":0},{"$f":"利用表!N25","v":0},{"$f":"利用表!O25","v":0},{"$f":"利用表!P25","v":0},{"$f":"利用表!Q25","v":0},{"$f":"利用表!R25","v":0},{"$f":"利用表!S25","v":0},{"$f":"利用表!T25","v":0},{"$f":"利用表!U25","v":0},{"$f":"利用表!V25","v":0},{"$f":"利用表!W25","v":0},{"$f":"利用表!X25","v":0},{"$f":"利用表!Y25","v":0},{"$f":"利用表!Z25","v":0},{"$f":"利用表!AA25","v":0},{"$f":"利用表!AB25","v":0},{"$f":"利用表!AC25","v":0},{"$f":"利用表!AD25","v":0},{"$f":"利用表!AE25","v":0},{"$f":"利用表!AF25","v":0},{"$f":"利用表!AG25","v":0},{"$f":"利用表!AH25","v":0}]
[11,{"$f":"利用表!B26","v":""},{"$f":"利用表!D26","v":0},{"$f":"利用表!E26","v":0},{"$f":"利用表!F26","v":0},{"$f":"利用表!G26","v":0},{"$f":"利用表!H26","v":0},{"$f":"利用表!I26","v":0},{"$f":"利用表!J26","v":0},{"$f":"利用表!K26","v":0},{"$f":"利用表!L26","v":0},{"$f":"利用表!M26","v":0},{"$f":"利用表!N26","v":0},{"$f":"利用表!O26","v":0},{"$f":"利用表!P26","v":0},{"$f":"利用表!Q26","v":0},{"$f":"利用表!R26","v":0},{"$f":"利用表!S26","v":0},{"$f":"利用表!T26","v":0},{"$f":"利用表!U26","v":0},{"$f":"利用表!V26","v":0},{"$f":"利用表!W26","v":0},{"$f":"利用表!X26","v":0},{"$f":"利用表!Y26","v":0},{"$f":"利用表!Z26","v":0},{"$f":"利用表!AA26","v":0},{"$f":"利用表!AB26","v":0},{"$f":"利用表!AC26","v":0},{"$f":"利用表!AD26","v":0},{"$f":"利用表!AE26","v":0},{"$f":"利用表!AF26","v":0},{"$f":"利用表!AG26","v":0},{"$f":"利用表!AH26","v":0},{"$f":"LEFT(B24,2)","v":""}]
[null,null,{"$f":"利用表!D27","v":0},{"$f":"利用表!E27","v":0},{"$f":"利用表!F27","v":0},{"$f":"利用表!G27","v":0},{"$f":"利用表!H27","v":0},{"$f":"利用表!I27","v":0},{"$f":"利用表!J27","v":0},{"$f":"利用表!K27","v":0},{"$f":"利用表!L27","v":0},{"$f":"利用表!M27","v":0},{"$f":"利用表!N27","v":0},{"$f":"利用表!O27","v":0},{"$f":"利用表!P27","v":0},{"$f":"利用表!Q27","v":0},{"$f":"利用表!R27","v":0},{"$f":"利用表!S27","v":0},{"$f":"利用表!T27","v":0},{"$f":"利用表!U27","v":0},{"$f":"利用表!V27","v":0},{"$f":"利用表!W27","v":0},{"$f":"利用表!X27","v":0},{"$f":"利用表!Y27","v":0},{"$f":"利用表!Z27","v":0},{"$f":"利用表!AA27","v":0},{"$f":"利用表!AB27","v":0},{"$f":"利用表!AC27","v":0},{"$f":"利用表!AD27","v":0},{"$f":"利用表!AE27","v":0},{"$f":"利用表!AF27","v":0},{"$f":"利用表!AG27","v":0},{"$f":"利用表!AH27","v":0}]
[12,{"$f":"利用表!B28","v":""},{"$f":"利用表!D28","v":0},{"$f":"利用表!E28","v":0},{"$f":"利用表!F28","v":0},{"$f":"利用表!G28","v":0},{"$f":"利用表!H28","v":0},{"$f":"利用表!I28","v":0},{"$f":"利用表!J28","v":0},{"$f":"利用表!K28","v":0},{"$f":"利用表!L28","v":0},{"$f":"利用表!M28","v":0},{"$f":"利用表!N28","v":0},{"$f":"利用表!O28","v":0},{"$f":"利用表!P28","v":0},{"$f":"利用表!Q28","v":0},{"$f":"利用表!R28","v":0},{"$f":"利用表!S28","v":0},{"$f":"利用表!T28","v":0},{"$f":"利用表!U28","v":0},{"$f":"利用表!V28","v":0},{"$f":"利用表!W28","v":0},{"$f":"利用表!X28","v":0},{"$f":"利用表!Y28","v":0},{"$f":"利用表!Z28","v":0},{"$f":"利用表!AA28","v":0},{"$f":"利用表!AB28","v":0},{"$f":"利用表!AC28","v":0},{"$f":"利用表!AD28","v":0},{"$f":"利用表!AE28","v":0},{"$f":"利用表!AF28","v":0},{"$f":"利用表!AG28","v":0},{"$f":"利用表!AH28","v":0},{"$f":"LEFT(B26,2)","v":""}]
[null,null,{"$f":"利用表!D29","v":0},{"$f":"利用表!E29","v":0},{"$f":"利用表!F29","v":0},{"$f":"利用表!G29","v":0},{"$f":"利用表!H29","v":0},{"$f":"利用表!I29","v":0},{"$f":"利用表!J29","v":0},{"$f":"利用表!K29","v":0},{"$f":"利用表!L29","v":0},{"$f":"利用表!M29","v":0},{"$f":"利用表!N29","v":0},{"$f":"利用表!O29","v":0},{"$f":"利用表!P29","v":0},{"$f":"利用表!Q29","v":0},{"$f":"利用表!R29","v":0},{"$f":"利用表!S29","v":0},{"$f":"利用表!T29","v":0},{"$f":"利用表!U29","v":0},{"$f":"利用表!V29","v":0},{"$f":"利用表!W29","v":0},{"$f":"利用表!X29","v":0},{"$f":"利用表!Y29","v":0},{"$f":"利用表!Z29","v":0},{"$f":"利用表!AA29","v":0},{"$f":"利用表!AB29","v":0},{"$f":"利用表!AC29","v":0},{"$f":"利用表!AD29","v":0},{"$f":"利用表!AE29","v":0},{"$f":"利用表!AF29","v":0},{"$f":"利用表!AG29","v":0},{"$f":"利用表!AH29","v":0}]
[13,{"$f":"利用表!B30","v":""},{"$f":"利用表!D30","v":0},{"$f":"利用表!E30","v":0},{"$f":"利用表!F30","v":0},{"$f":"利用表!G30","v":0},{"$f":"利用表!H30","v":0},{"$f":"利用表!I30","v":0},{"$f":"利用表!J30","v":0},{"$f":"利用表!K30","v":0},{"$f":"利用表!L30","v":0},{"$f":"利用表!M30","v":0},{"$f":"利用表!N30","v":0},{"$f":"利用表!O30","v":0},{"$f":"利用表!P30","v":0},{"$f":"利用表!Q30","v":0},{"$f":"利用表!R30","v":0},{"$f":"利用表!S30","v":0},{"$f":"利用表!T30","v":0},{"$f":"利用表!U30","v":0},{"$f":"利用表!V30","v":0},{"$f":"利用表!W30","v":0},{"$f":"利用表!X30","v":0},{"$f":"利用表!Y30","v":0},{"$f":"利用表!Z30","v":0},{"$f":"利用表!AA30","v":0},{"$f":"利用表!AB30","v":0},{"$f":"利用表!AC30","v":0},{"$f":"利用表!AD30","v":0},{"$f":"利用表!AE30","v":0},{"$f":"利用表!AF30","v":0},{"$f":"利用表!AG30","v":0},{"$f":"利用表!AH30","v":0},{"$f":"LEFT(B28,2)","v":""}]
[null,null,{"$f":"利用表!D31","v":0},{"$f":"利用表!E31","v":0},{"$f":"利用表!F31","v":0},{"$f":"利用表!G31","v":0},{"$f":"利用表!H31","v":0},{"$f":"利用表!I31","v":0},{"$f":"利用表!J31","v":0},{"$f":"利用表!K31","v":0},{"$f":"利用表!L31","v":0},{"$f":"利用表!M31","v":0},{"$f":"利用表!N31","v":0},{"$f":"利用表!O31","v":0},{"$f":"利用表!P31","v":0},{"$f":"利用表!Q31","v":0},{"$f":"利用表!R31","v":0},{"$f":"利用表!S31","v":0},{"$f":"利用表!T31","v":0},{"$f":"利用表!U31","v":0},{"$f":"利用表!V31","v":0},{"$f":"利用表!W31","v":0},{"$f":"利用表!X31","v":0},{"$f":"利用表!Y31","v":0},{"$f":"利用表!Z31","v":0},{"$f":"利用表!AA31","v":0},{"$f":"利用表!AB31","v":0},{"$f":"利用表!AC31","v":0},{"$f":"利用表!AD31","v":0},{"$f":"利用表!AE31","v":0},{"$f":"利用表!AF31","v":0},{"$f":"利用表!AG31","v":0},{"$f":"利用表!AH31","v":0}]
[14,{"$f":"利用表!B32","v":""},{"$f":"利用表!D32","v":0},{"$f":"利用表!E32","v":0},{"$f":"利用表!F32","v":0},{"$f":"利用表!G32","v":0},{"$f":"利用表!H32","v":0},{"$f":"利用表!I32","v":0},{"$f":"利用表!J32","v":0},{"$f":"利用表!K32","v":0},{"$f":"利用表!L32","v":0},{"$f":"利用表!M32","v":0},{"$f":"利用表!N32","v":0},{"$f":"利用表!O32","v":0},{"$f":"利用表!P32","v":0},{"$f":"利用表!Q32","v":0},{"$f":"利用表!R32","v":0},{"$f":"利用表!S32","v":0},{"$f":"利用表!T32","v":0},{"$f":"利用表!U32","v":0},{"$f":"利用表!V32","v":0},{"$f":"利用表!W32","v":0},{"$f":"利用表!X32","v":0},{"$f":"利用表!Y32","v":0},{"$f":"利用表!Z32","v":0},{"$f":"利用表!AA32","v":0},{"$f":"利用表!AB32","v":0},{"$f":"利用表!AC32","v":0},{"$f":"利用表!AD32","v":0},{"$f":"利用表!AE32","v":0},{"$f":"利用表!AF32","v":0},{"$f":"利用表!AG32","v":0},{"$f":"利用表!AH32","v":0},{"$f":"LEFT(B30,2)","v":""}]
[null,null,{"$f":"利用表!D33","v":0},{"$f":"利用表!E33","v":0},{"$f":"利用表!F33","v":0},{"$f":"利用表!G33","v":0},{"$f":"利用表!H33","v":0},{"$f":"利用表!I33","v":0},{"$f":"利用表!J33","v":0},{"$f":"利用表!K33","v":0},{"$f":"利用表!L33","v":0},{"$f":"利用表!M33","v":0},{"$f":"利用表!N33","v":0},{"$f":"利用表!O33","v":0},{"$f":"利用表!P33","v":0},{"$f":"利用表!Q33","v":0},{"$f":"利用表!R33","v":0},{"$f":"利用表!S33","v":0},{"$f":"利用表!T33","v":0},{"$f":"利用表!U33","v":0},{"$f":"利用表!V33","v":0},{"$f":"利用表!W33","v":0},{"$f":"利用表!X33","v":0},{"$f":"利用表!Y33","v":0},{"$f":"利用表!Z33","v":0},{"$f":"利用表!AA33","v":0},{"$f":"利用表!AB33","v":0},{"$f":"利用表!AC33","v":0},{"$f":"利用表!AD33","v":0},{"$f":"利用表!AE33","v":0},{"$f":"利用表!AF33","v":0},{"$f":"利用表!AG33","v":0},{"$f":"利用表!AH33","v":0}]
[15,{"$f":"利用表!B34","v":""},{"$f":"利用表!D34","v":0},{"$f":"利用表!E34","v":0},{"$f":"利用表!F34","v":0},{"$f":"利用表!G34","v":0},{"$f":"利用表!H34","v":0},{"$f":"利用表!I34","v":0},{"$f":"利用表!J34","v":0},{"$f":"利用表!K34","v":0},{"$f":"利用表!L34","v":0},{"$f":"利用表!M34","v":0},{"$f":"利用表!N34","v":0},{"$f":"利用表!O34","v":0},{"$f":"利用表!P34","v":0},{"$f":"利用表!Q34","v":0},{"$f":"利用表!R34","v":0},{"$f":"利用表!S34","v":0},{"$f":"利用表!T34","v":0},{"$f":"利用表!U34","v":0},{"$f":"利用表!V34","v":0},{"$f":"利用表!W34","v":0},{"$f":"利用表!X34","v":0},{"$f":"利用表!Y34","v":0},{"$f":"利用表!Z34","v":0},{"$f":"利用表!AA34","v":0},{"$f":"利用表!AB34","v":0},{"$f":"利用表!AC34","v":0},{"$f":"利用表!AD34","v":0},{"$f":"利用表!AE34","v":0},{"$f":"利用表!AF34","v":0},{"$f":"利用表!AG34","v":0},{"$f":"利用表!AH34","v":0},{"$f":"LEFT(B32,2)","v":""}]
[null,null,{"$f":"利用表!D35","v":0},{"$f":"利用表!E35","v":0},{"$f":"利用表!F35","v":0},{"$f":"利用表!G35","v":0},{"$f":"利用表!H35","v":0},{"$f":"利用表!I35","v":0},{"$f":"利用表!J35","v":0},{"$f":"利用表!K35","v":0},{"$f":"利用表!L35","v":0},{"$f":"利用表!M35","v":0},{"$f":"利用表!N35","v":0},{"$f":"利用表!O35","v":0},{"$f":"利用表!P35","v":0},{"$f":"利用表!Q35","v":0},{"$f":"利用表!R35","v":0},{"$f":"利用表!S35","v":0},{"$f":"利用表!T35","v":0},{"$f":"利用表!U35","v":0},{"$f":"利用表!V35","v":0},{"$f":"利用表!W35","v":0},{"$f":"利用表!X35","v":0},{"$f":"利用表!Y35","v":0},{"$f":"利用表!Z35","v":0},{"$f":"利用表!AA35","v":0},{"$f":"利用表!AB35","v":0},{"$f":"利用表!AC35","v":0},{"$f":"利用表!AD35","v":0},{"$f":"利用表!AE35","v":0},{"$f":"利用表!AF35","v":0},{"$f":"利用表!AG35","v":0},{"$f":"利用表!AH35","v":0}]
[22,{"$f":"利用表!B36","v":""},{"$f":"利用表!D36","v":0},{"$f":"利用表!E36","v":0},{"$f":"利用表!F36","v":0},{"$f":"利用表!G36","v":0},{"$f":"利用表!H36","v":0},{"$f":"利用表!I36","v":0},{"$f":"利用表!J36","v":0},{"$f":"利用表!K36","v":0},{"$f":"利用表!L36","v":0},{"$f":"利用表!M36","v":0},{"$f":"利用表!N36","v":0},{"$f":"利用表!O36","v":0},{"$f":"利用表!P36","v":0},{"$f":"利用表!Q36","v":0},{"$f":"利用表!R36","v":0},{"$f":"利用表!S36","v":0},{"$f":"利用表!T36","v":0},{"$f":"利用表!U36","v":0},{"$f":"利用表!V36","v":0},{"$f":"利用表!W36","v":0},{"$f":"利用表!X36","v":0},{"$f":"利用表!Y36","v":0},{"$f":"利用表!Z36","v":0},{"$f":"利用表!AA36","v":0},{"$f":"利用表!AB36","v":0},{"$f":"利用表!AC36","v":0},{"$f":"利用表!AD36","v":0},{"$f":"利用表!AE36","v":0},{"$f":"利用表!AF36","v":0},{"$f":"利用表!AG36","v":0},{"$f":"利用表!AH36","v":0},{"$f":"LEFT(B34,2)","v":""}]
[null,null,{"$f":"利用表!D37","v":0},{"$f":"利用表!E37","v":0},{"$f":"利用表!F37","v":0},{"$f":"利用表!G37","v":0},{"$f":"利用表!H37","v":0},{"$f":"利用表!I37","v":0},{"$f":"利用表!J37","v":0},{"$f":"利用表!K37","v":0},{"$f":"利用表!L37","v":0},{"$f":"利用表!M37","v":0},{"$f":"利用表!N37","v":0},{"$f":"利用表!O37","v":0},{"$f":"利用表!P37","v":0},{"$f":"利用表!Q37","v":0},{"$f":"利用表!R37","v":0},{"$f":"利用表!S37","v":0},{"$f":"利用表!T37","v":0},{"$f":"利用表!U37","v":0},{"$f":"利用表!V37","v":0},{"$f":"利用表!W37","v":0},{"$f":"利用表!X37","v":0},{"$f":"利用表!Y37","v":0},{"$f":"利用表!Z37","v":0},{"$f":"利用表!AA37","v":0},{"$f":"利用表!AB37","v":0},{"$f":"利用表!AC37","v":0},{"$f":"利用表!AD37","v":0},{"$f":"利用表!AE37","v":0},{"$f":"利用表!AF37","v":0},{"$f":"利用表!AG37","v":0},{"$f":"利用表!AH37","v":0}]
[16,{"$f":"利用表!B38","v":""},{"$f":"利用表!D38","v":0},{"$f":"利用表!E38","v":0},{"$f":"利用表!F38","v":0},{"$f":"利用表!G38","v":0},{"$f":"利用表!H38","v":0},{"$f":"利用表!I38","v":0},{"$f":"利用表!J38","v":0},{"$f":"利用表!K38","v":0},{"$f":"利用表!L38","v":0},{"$f":"利用表!M38","v":0},{"$f":"利用表!N38","v":0},{"$f":"利用表!O38","v":0},{"$f":"利用表!P38","v":0},{"$f":"利用表!Q38","v":0},{"$f":"利用表!R38","v":0},{"$f":"利用表!S38","v":0},{"$f":"利用表!T38","v":0},{"$f":"利用表!U38","v":0},{"$f":"利用表!V38","v":0},{"$f":"利用表!W38","v":0},{"$f":"利用表!X38","v":0},{"$f":"利用表!Y38","v":0},{"$f":"利用表!Z38","v":0},{"$f":"利用表!AA38","v":0},{"$f":"利用表!AB38","v":0},{"$f":"利用表!AC38","v":0},{"$f":"利用表!AD38","v":0},{"$f":"利用表!AE38","v":0},{"$f":"利用表!AF38","v":0},{"$f":"利用表!AG38","v":0},{"$f":"利用表!AH38","v":0},{"$f":"LEFT(B36,2)","v":""}]
[null,null,{"$f":"利用表!D39","v":0},{"$f":"利用表!E39","v":0},{"$f":"利用表!F39","v":0},{"$f":"利用表!G39","v":0},{"$f":"利用表!H39","v":0},{"$f":"利用表!I39","v":0},{"$f":"利用表!J39","v":0},{"$f":"利用表!K39","v":0},{"$f":"利用表!L39","v":0},{"$f":"利用表!M39","v":0},{"$f":"利用表!N39","v":0},{"$f":"利用表!O39","v":0},{"$f":"利用表!P39","v":0},{"$f":"利用表!Q39","v":0},{"$f":"利用表!R39","v":0},{"$f":"利用表!S39","v":0},{"$f":"利用表!T39","v":0},{"$f":"利用表!U39","v":0},{"$f":"利用表!V39","v":0},{"$f":"利用表!W39","v":0},{"$f":"利用表!X39","v":0},{"$f":"利用表!Y39","v":0},{"$f":"利用表!Z39","v":0},{"$f":"利用表!AA39","v":0},{"$f":"利用表!AB39","v":0},{"$f":"利用表!AC39","v":0},{"$f":"利用表!AD39","v":0},{"$f":"利用表!AE39","v":0},{"$f":"利用表!AF39","v":0},{"$f":"利用表!AG39","v":0},{"$f":"利用表!AH39","v":0}]
[17,{"$f":"利用表!B40","v":""},{"$f":"利用表!D40","v":0},{"$f":"利用表!E40","v":0},{"$f":"利用表!F40","v":0},{"$f":"利用表!G40","v":0},{"$f":"利用表!H40","v":0},{"$f":"利用表!I40","v":0},{"$f":"利用表!J40","v":0},{"$f":"利用表!K40","v":0},{"$f":"利用表!L40","v":0},{"$f":"利用表!M40","v":0},{"$f":"利用表!N40","v":0},{"$f":"利用表!O40","v":0},{"$f":"利用表!P40","v":0},{"$f":"利用表!Q40","v":0},{"$f":"利用表!R40","v":0},{"$f":"利用表!S40","v":0},{"$f":"利用表!T40","v":0},{"$f":"利用表!U40","v":0},{"$f":"利用表!V40","v":0},{"$f":"利用表!W40","v":0},{"$f":"利用表!X40","v":0},{"$f":"利用表!Y40","v":0},{"$f":"利用表!Z40","v":0},{"$f":"利用表!AA40","v":0},{"$f":"利用表!AB40","v":0},{"$f":"利用表!AC40","v":0},{"$f":"利用表!AD40","v":0},{"$f":"利用表!AE40","v":0},{"$f":"利用表!AF40","v":0},{"$f":"利用表!AG40","v":0},{"$f":"利用表!AH40","v":0},{"$f":"LEFT(B38,2)","v":""}]
[null,null,{"$f":"利用表!D41","v":0},{"$f":"利用表!E41","v":0},{"$f":"利用表!F41","v":0},{"$f":"利用表!G41","v":0},{"$f":"利用表!H41","v":0},{"$f":"利用表!I41","v":0},{"$f":"利用表!J41","v":0},{"$f":"利用表!K41","v":0},{"$f":"利用表!L41","v":0},{"$f":"利用表!M41","v":0},{"$f":"利用表!N41","v":0},{"$f":"利用表!O41","v":0},{"$f":"利用表!P41","v":0},{"$f":"利用表!Q41","v":0},{"$f":"利用表!R41","v":0},{"$f":"利用表!S41","v":0},{"$f":"利用表!T41","v":0},{"$f":"利用表!U41","v":0},{"$f":"利用表!V41","v":0},{"$f":"利用表!W41","v":0},{"$f":"利用表!X41","v":0},{"$f":"利用表!Y41","v":0},{"$f":"利用表!Z41","v":0},{"$f":"利用表!AA41","v":0},{"$f":"利用表!AB41","v":0},{"$f":"利用表!AC41","v":0},{"$f":"利用表!AD41","v":0},{"$f":"利用表!AE41","v":0},{"$f":"利用表!AF41","v":0},{"$f":"利用表!AG41","v":0},{"$f":"利用表!AH41","v":0}]
[18,{"$f":"利用表!B42","v":""},{"$f":"利用表!D42","v":0},{"$f":"利用表!E42","v":0},{"$f":"利用表!F42","v":0},{"$f":"利用表!G42","v":0},{"$f":"利用表!H42","v":0},{"$f":"利用表!I42","v":0},{"$f":"利用表!J42","v":0},{"$f":"利用表!K42","v":0},{"$f":"利用表!L42","v":0},{"$f":"利用表!M42","v":0},{"$f":"利用表!N42","v":0},{"$f":"利用表!O42","v":0},{"$f":"利用表!P42","v":0},{"$f":"利用表!Q42","v":0},{"$f":"利用表!R42","v":0},{"$f":"利用表!S42","v":0},{"$f":"利用表!T42","v":0},{"$f":"利用表!U42","v":0},{"$f":"利用表!V42","v":0},{"$f":"利用表!W42","v":0},{"$f":"利用表!X42","v":0},{"$f":"利用表!Y42","v":0},{"$f":"利用表!Z42","v":0},{"$f":"利用表!AA42","v":0},{"$f":"利用表!AB42","v":0},{"$f":"利用表!AC42","v":0},{"$f":"利用表!AD42","v":0},{"$f":"利用表!AE42","v":0},{"$f":"利用表!AF42","v":0},{"$f":"利用表!AG42","v":0},{"$f":"利用表!AH42","v":0},{"$f":"LEFT(B40,2)","v":""}]
[null,null,{"$f":"利用表!D43","v":0},{"$f":"利用表!E43","v":0},{"$f":"利用表!F43","v":0},{"$f":"利用表!G43","v":0},{"$f":"利用表!H43","v":0},{"$f":"利用表!I43","v":0},{"$f":"利用表!J43","v":0},{"$f":"利用表!K43","v":0},{"$f":"利用表!L43","v":0},{"$f":"利用表!M43","v":0},{"$f":"利用表!N43","v":0},{"$f":"利用表!O43","v":0},{"$f":"利用表!P43","v":0},{"$f":"利用表!Q43","v":0},{"$f":"利用表!R43","v":0},{"$f":"利用表!S43","v":0},{"$f":"利用表!T43","v":0},{"$f":"利用表!U43","v":0},{"$f":"利用表!V43","v":0},{"$f":"利用表!W43","v":0},{"$f":"利用表!X43","v":0},{"$f":"利用表!Y43","v":0},{"$f":"利用表!Z43","v":0},{"$f":"利用表!AA43","v":0},{"$f":"利用表!AB43","v":0},{"$f":"利用表!AC43","v":0},{"$f":"利用表!AD43","v":0},{"$f":"利用表!AE43","v":0},{"$f":"利用表!AF43","v":0},{"$f":"利用表!AG43","v":0},{"$f":"利用表!AH43","v":0}]
[19,{"$f":"利用表!B44","v":""},{"$f":"利用表!D44","v":0},{"$f":"利用表!E44","v":0},{"$f":"利用表!F44","v":0},{"$f":"利用表!G44","v":0},{"$f":"利用表!H44","v":0},{"$f":"利用表!I44","v":0},{"$f":"利用表!J44","v":0},{"$f":"利用表!K44","v":0},{"$f":"利用表!L44","v":0},{"$f":"利用表!M44","v":0},{"$f":"利用表!N44","v":0},{"$f":"利用表!O44","v":0},{"$f":"利用表!P44","v":0},{"$f":"利用表!Q44","v":0},{"$f":"利用表!R44","v":0},{"$f":"利用表!S44","v":0},{"$f":"利用表!T44","v":0},{"$f":"利用表!U44","v":0},{"$f":"利用表!V44","v":0},{"$f":"利用表!W44","v":0},{"$f":"利用表!X44","v":0},{"$f":"利用表!Y44","v":0},{"$f":"利用表!Z44","v":0},{"$f":"利用表!AA44","v":0},{"$f":"利用表!AB44","v":0},{"$f":"利用表!AC44","v":0},{"$f":"利用表!AD44","v":0},{"$f":"利用表!AE44","v":0},{"$f":"利用表!AF44","v":0},{"$f":"利用表!AG44","v":0},{"$f":"利用表!AH44","v":0},{"$f":"LEFT(B42,2)","v":""}]
[null,null,{"$f":"利用表!D45","v":0},{"$f":"利用表!E45","v":0},{"$f":"利用表!F45","v":0},{"$f":"利用表!G45","v":0},{"$f":"利用表!H45","v":0},{"$f":"利用表!I45","v":0},{"$f":"利用表!J45","v":0},{"$f":"利用表!K45","v":0},{"$f":"利用表!L45","v":0},{"$f":"利用表!M45","v":0},{"$f":"利用表!N45","v":0},{"$f":"利用表!O45","v":0},{"$f":"利用表!P45","v":0},{"$f":"利用表!Q45","v":0},{"$f":"利用表!R45","v":0},{"$f":"利用表!S45","v":0},{"$f":"利用表!T45","v":0},{"$f":"利用表!U45","v":0},{"$f":"利用表!V45","v":0},{"$f":"利用表!W45","v":0},{"$f":"利用表!X45","v":0},{"$f":"利用表!Y45","v":0},{"$f":"利用表!Z45","v":0},{"$f":"利用表!AA45","v":0},{"$f":"利用表!AB45","v":0},{"$f":"利用表!AC45","v":0},{"$f":"利用表!AD45","v":0},{"$f":"利用表!AE45","v":0},{"$f":"利用表!AF45","v":0},{"$f":"利用表!AG45","v":0},{"$f":"利用表!AH45","v":0}]
[20,{"$f":"利用表!B46","v":""},{"$f":"利用表!D46","v":0},{"$f":"利用表!E46","v":0},{"$f":"利用表!F46","v":0},{"$f":"利用表!G46","v":0},{"$f":"利用表!H46","v":0},{"$f":"利用表!I46","v":0},{"$f":"利用表!J46","v":0},{"$f":"利用表!K46","v":0},{"$f":"利用表!L46","v":0},{"$f":"利用表!M46","v":0},{"$f":"利用表!N46","v":0},{"$f":"利用表!O46","v":0},{"$f":"利用表!P46","v":0},{"$f":"利用表!Q46","v":0},{"$f":"利用表!R46","v":0},{"$f":"利用表!S46","v":0},{"$f":"利用表!T46","v":0},{"$f":"利用表!U46","v":0},{"$f":"利用表!V46","v":0},{"$f":"利用表!W46","v":0},{"$f":"利用表!X46","v":0},{"$f":"利用表!Y46","v":0},{"$f":"利用表!Z46","v":0},{"$f":"利用表!AA46","v":0},{"$f":"利用表!AB46","v":0},{"$f":"利用表!AC46","v":0},{"$f":"利用表!AD46","v":0},{"$f":"利用表!AE46","v":0},{"$f":"利用表!AF46","v":0},{"$f":"利用表!AG46","v":0},{"$f":"利用表!AH46","v":0},{"$f":"LEFT(B44,2)","v":""}]
[null,null,{"$f":"利用表!D47","v":0},{"$f":"利用表!E47","v":0},{"$f":"利用表!F47","v":0},{"$f":"利用表!G47","v":0},{"$f":"利用表!H47","v":0},{"$f":"利用表!I47","v":0},{"$f":"利用表!J47","v":0},{"$f":"利用表!K47","v":0},{"$f":"利用表!L47","v":0},{"$f":"利用表!M47","v":0},{"$f":"利用表!N47","v":0},{"$f":"利用表!O47","v":0},{"$f":"利用表!P47","v":0},{"$f":"利用表!Q47","v":0},{"$f":"利用表!R47","v":0},{"$f":"利用表!S47","v":0},{"$f":"利用表!T47","v":0},{"$f":"利用表!U47","v":0},{"$f":"利用表!V47","v":0},{"$f":"利用表!W47","v":0},{"$f":"利用表!X47","v":0},{"$f":"利用表!Y47","v":0},{"$f":"利用表!Z47","v":0},{"$f":"利用表!AA47","v":0},{"$f":"利用表!AB47","v":0},{"$f":"利用表!AC47","v":0},{"$f":"利用表!AD47","v":0},{"$f":"利用表!AE47","v":0},{"$f":"利用表!AF47","v":0},{"$f":"利用表!AG47","v":0},{"$f":"利用表!AH47","v":0}]
[21,{"$f":"利用表!B48","v":""},{"$f":"利用表!D48","v":0},{"$f":"利用表!E48","v":0},{"$f":"利用表!F48","v":0},{"$f":"利用表!G48","v":0},{"$f":"利用表!H48","v":0},{"$f":"利用表!I48","v":0},{"$f":"利用表!J48","v":0},{"$f":"利用表!K48","v":0},{"$f":"利用表!L48","v":0},{"$f":"利用表!M48","v":0},{"$f":"利用表!N48","v":0},{"$f":"利用表!O48","v":0},{"$f":"利用表!P48","v":0},{"$f":"利用表!Q48","v":0},{"$f":"利用表!R48","v":0},{"$f":"利用表!S48","v":0},{"$f":"利用表!T48","v":0},{"$f":"利用表!U48","v":0},{"$f":"利用表!V48","v":0},{"$f":"利用表!W48","v":0},{"$f":"利用表!X48","v":0},{"$f":"利用表!Y48","v":0},{"$f":"利用表!Z48","v":0},{"$f":"利用表!AA48","v":0},{"$f":"利用表!AB48","v":0},{"$f":"利用表!AC48","v":0},{"$f":"利用表!AD48","v":0},{"$f":"利用表!AE48","v":0},{"$f":"利用表!AF48","v":0},{"$f":"利用表!AG48","v":0},{"$f":"利用表!AH48","v":0},{"$f":"LEFT(B46,2)","v":""}]
[null,null,{"$f":"利用表!D49","v":0},{"$f":"利用表!E49","v":0},{"$f":"利用表!F49","v":0},{"$f":"利用表!G49","v":0},{"$f":"利用表!H49","v":0},{"$f":"利用表!I49","v":0},{"$f":"利用表!J49","v":0},{"$f":"利用表!K49","v":0},{"$f":"利用表!L49","v":0},{"$f":"利用表!M49","v":0},{"$f":"利用表!N49","v":0},{"$f":"利用表!O49","v":0},{"$f":"利用表!P49","v":0},{"$f":"利用表!Q49","v":0},{"$f":"利用表!R49","v":0},{"$f":"利用表!S49","v":0},{"$f":"利用表!T49","v":0},{"$f":"利用表!U49","v":0},{"$f":"利用表!V49","v":0},{"$f":"利用表!W49","v":0},{"$f":"利用表!X49","v":0},{"$f":"利用表!Y49","v":0},{"$f":"利用表!Z49","v":0},{"$f":"利用表!AA49","v":0},{"$f":"利用表!AB49","v":0},{"$f":"利用表!AC49","v":0},{"$f":"利用表!AD49","v":0},{"$f":"利用表!AE49","v":0},{"$f":"利用表!AF49","v":0},{"$f":"利用表!AG49","v":0},{"$f":"利用表!AH49","v":0}]
[23,{"$f":"利用表!B50","v":""},{"$f":"利用表!D50","v":0},{"$f":"利用表!E50","v":0},{"$f":"利用表!F50","v":0},{"$f":"利用表!G50","v":0},{"$f":"利用表!H50","v":0},{"$f":"利用表!I50","v":0},{"$f":"利用表!J50","v":0},{"$f":"利用表!K50","v":0},{"$f":"利用表!L50","v":0},{"$f":"利用表!M50","v":0},{"$f":"利用表!N50","v":0},{"$f":"利用表!O50","v":0},{"$f":"利用表!P50","v":0},{"$f":"利用表!Q50","v":0},{"$f":"利用表!R50","v":0},{"$f":"利用表!S50","v":0},{"$f":"利用表!T50","v":0},{"$f":"利用表!U50","v":0},{"$f":"利用表!V50","v":0},{"$f":"利用表!W50","v":0},{"$f":"利用表!X50","v":0},{"$f":"利用表!Y50","v":0},{"$f":"利用表!Z50","v":0},{"$f":"利用表!AA50","v":0},{"$f":"利用表!AB50","v":0},{"$f":"利用表!AC50","v":0},{"$f":"利用表!AD50","v":0},{"$f":"利用表!AE50","v":0},{"$f":"利用表!AF50","v":0},{"$f":"利用表!AG50","v":0},{"$f":"利用表!AH50","v":0},""]
[null,null,{"$f":"利用表!D51","v":0},{"$f":"利用表!E51","v":0},{"$f":"利用表!F51","v":0},{"$f":"利用表!G51","v":0},{"$f":"利用表!H51","v":0},{"$f":"利用表!I51","v":0},{"$f":"利用表!J51","v":0},{"$f":"利用表!K51","v":0},{"$f":"利用表!L51","v":0},{"$f":"利用表!M51","v":0},{"$f":"利用表!N51","v":0},{"$f":"利用表!O51","v":0},{"$f":"利用表!P51","v":0},{"$f":"利用表!Q51","v":0},{"$f":"利用表!R51","v":0},{"$f":"利用表!S51","v":0},{"$f":"利用表!T51","v":0},{"$f":"利用表!U51","v":0},{"$f":"利用表!V51","v":0},{"$f":"利用表!W51","v":0},{"$f":"利用表!X51","v":0},{"$f":"利用表!Y51","v":0},{"$f":"利用表!Z51","v":0},{"$f":"利用表!AA51","v":0},{"$f":"利用表!AB51","v":0},{"$f":"利用表!AC51","v":0},{"$f":"利用表!AD51","v":0},{"$f":"利用表!AE51","v":0},{"$f":"利用表!AF51","v":0},{"$f":"利用表!AG51","v":0},{"$f":"利用表!AH51","v":0}]
[24,{"$f":"利用表!B52","v":""},{"$f":"利用表!D52","v":0},{"$f":"利用表!E52","v":0},{"$f":"利用表!F52","v":0},{"$f":"利用表!G52","v":0},{"$f":"利用表!H52","v":0},{"$f":"利用表!I52","v":0},{"$f":"利用表!J52","v":0},{"$f":"利用表!K52","v":0},{"$f":"利用表!L52","v":0},{"$f":"利用表!M52","v":0},{"$f":"利用表!N52","v":0},{"$f":"利用表!O52","v":0},{"$f":"利用表!P52","v":0},{"$f":"利用表!Q52","v":0},{"$f":"利用表!R52","v":0},{"$f":"利用表!S52","v":0},{"$f":"利用表!T52","v":0},{"$f":"利用表!U52","v":0},{"$f":"利用表!V52","v":0},{"$f":"利用表!W52","v":0},{"$f":"利用表!X52","v":0},{"$f":"利用表!Y52","v":0},{"$f":"利用表!Z52","v":0},{"$f":"利用表!AA52","v":0},{"$f":"利用表!AB52","v":0},{"$f":"利用表!AC52","v":0},{"$f":"利用表!AD52","v":0},{"$f":"利用表!AE52","v":0},{"$f":"利用表!AF52","v":0},{"$f":"利用表!AG52","v":0},{"$f":"利用表!AH52","v":0},""]
[null,null,{"$f":"利用表!D53","v":0},{"$f":"利用表!E53","v":0},{"$f":"利用表!F53","v":0},{"$f":"利用表!G53","v":0},{"$f":"利用表!H53","v":0},{"$f":"利用表!I53","v":0},{"$f":"利用表!J53","v":0},{"$f":"利用表!K53","v":0},{"$f":"利用表!L53","v":0},{"$f":"利用表!M53","v":0},{"$f":"利用表!N53","v":0},{"$f":"利用表!O53","v":0},{"$f":"利用表!P53","v":0},{"$f":"利用表!Q53","v":0},{"$f":"利用表!R53","v":0},{"$f":"利用表!S53","v":0},{"$f":"利用表!T53","v":0},{"$f":"利用表!U53","v":0},{"$f":"利用表!V53","v":0},{"$f":"利用表!W53","v":0},{"$f":"利用表!X53","v":0},{"$f":"利用表!Y53","v":0},{"$f":"利用表!Z53","v":0},{"$f":"利用表!AA53","v":0},{"$f":"利用表!AB53","v":0},{"$f":"利用表!AC53","v":0},{"$f":"利用表!AD53","v":0},{"$f":"利用表!AE53","v":0},{"$f":"利用表!AF53","v":0},{"$f":"利用表!AG53","v":0},{"$f":"利用表!AH53","v":0}]
[25,{"$f":"利用表!B54","v":""},{"$f":"利用表!D54","v":0},{"$f":"利用表!E54","v":0},{"$f":"利用表!F54","v":0},{"$f":"利用表!G54","v":0},{"$f":"利用表!H54","v":0},{"$f":"利用表!I54","v":0},{"$f":"利用表!J54","v":0},{"$f":"利用表!K54","v":0},{"$f":"利用表!L54","v":0},{"$f":"利用表!M54","v":0},{"$f":"利用表!N54","v":0},{"$f":"利用表!O54","v":0},{"$f":"利用表!P54","v":0},{"$f":"利用表!Q54","v":0},{"$f":"利用表!R54","v":0},{"$f":"利用表!S54","v":0},{"$f":"利用表!T54","v":0},{"$f":"利用表!U54","v":0},{"$f":"利用表!V54","v":0},{"$f":"利用表!W54","v":0},{"$f":"利用表!X54","v":0},{"$f":"利用表!Y54","v":0},{"$f":"利用表!Z54","v":0},{"$f":"利用表!AA54","v":0},{"$f":"利用表!AB54","v":0},{"$f":"利用表!AC54","v":0},{"$f":"利用表!AD54","v":0},{"$f":"利用表!AE54","v":0},{"$f":"利用表!AF54","v":0},{"$f":"利用表!AG54","v":0},{"$f":"利用表!AH54","v":0},""]
[null,null,{"$f":"利用表!D55","v":0},{"$f":"利用表!E55","v":0},{"$f":"利用表!F55","v":0},{"$f":"利用表!G55","v":0},{"$f":"利用表!H55","v":0},{"$f":"利用表!I55","v":0},{"$f":"利用表!J55","v":0},{"$f":"利用表!K55","v":0},{"$f":"利用表!L55","v":0},{"$f":"利用表!M55","v":0},{"$f":"利用表!N55","v":0},{"$f":"利用表!O55","v":0},{"$f":"利用表!P55","v":0},{"$f":"利用表!Q55","v":0},{"$f":"利用表!R55","v":0},{"$f":"利用表!S55","v":0},{"$f":"利用表!T55","v":0},{"$f":"利用表!U55","v":0},{"$f":"利用表!V55","v":0},{"$f":"利用表!W55","v":0},{"$f":"利用表!X55","v":0},{"$f":"利用表!Y55","v":0},{"$f":"利用表!Z55","v":0},{"$f":"利用表!AA55","v":0},{"$f":"利用表!AB55","v":0},{"$f":"利用表!AC55","v":0},{"$f":"利用表!AD55","v":0},{"$f":"利用表!AE55","v":0},{"$f":"利用表!AF55","v":0},{"$f":"利用表!AG55","v":0},{"$f":"利用表!AH55","v":0}]
[null,"通所",{"$f":"利用表!D1","v":6},{"$f":"利用表!E1","v":5},{"$f":"利用表!F1","v":3},{"$f":"利用表!G1","v":3},{"$f":"利用表!H1","v":6},{"$f":"利用表!I1","v":6},{"$f":"利用表!J1","v":6},{"$f":"利用表!K1","v":5},{"$f":"利用表!L1","v":6},{"$f":"利用表!M1","v":5},{"$f":"利用表!N1","v":4},{"$f":"利用表!O1","v":6},{"$f":"利用表!P1","v":6},{"$f":"利用表!Q1","v":3},{"$f":"利用表!R1","v":3},{"$f":"利用表!S1","v":5},{"$f":"利用表!T1","v":5},{"$f":"利用表!U1","v":5},{"$f":"利用表!V1","v":6},{"$f":"利用表!W1","v":5},{"$f":"利用表!X1","v":5},{"$f":"利用表!Y1","v":6},{"$f":"利用表!Z1","v":6},{"$f":"利用表!AA1","v":5},{"$f":"利用表!AB1","v":4},{"$f":"利用表!AC1","v":6},{"$f":"利用表!AD1","v":6},{"$f":"利用表!AE1","v":6},{"$f":"利用表!AF1","v":6},{"$f":"利用表!AG1","v":6},{"$f":"利用表!AH1","v":""}]
[null,"宿泊",{"$f":"利用表!D2","v":4},{"$f":"利用表!E2","v":3},{"$f":"利用表!F2","v":3},{"$f":"利用表!G2","v":3},{"$f":"利用表!H2","v":5},{"$f":"利用表!I2","v":5},{"$f":"利用表!J2","v":4},{"$f":"利用表!K2","v":4},{"$f":"利用表!L2","v":4},{"$f":"利用表!M2","v":4},{"$f":"利用表!N2","v":5},{"$f":"利用表!O2","v":5},{"$f":"利用表!P2","v":5},{"$f":"利用表!Q2","v":3},{"$f":"利用表!R2","v":3},{"$f":"利用表!S2","v":3},{"$f":"利用表!T2","v":4},{"$f":"利用表!U2","v":5},{"$f":"利用表!V2","v":5},{"$f":"利用表!W2","v":5},{"$f":"利用表!X2","v":4},{"$f":"利用表!Y2","v":4},{"$f":"利用表!Z2","v":4},{"$f":"利用表!AA2","v":4},{"$f":"利用表!AB2","v":4},{"$f":"利用表!AC2","v":5},{"$f":"利用表!AD2","v":5},{"$f":"利用表!AE2","v":4},{"$f":"利用表!AF2","v":4},{"$f":"利用表!AG2","v":4},{"$f":"利用表!AH2","v":4}]

{"sheet":"職員","index":13,"n_rows":37,"n_cols":18,"rows_kept":37,"cut":false,"hidden":true,"merged":[[1,1,2,1],[19,1,20,1]]}
[null,null,null,null,null,null,{"$f":"Top!J6&\"  \"&月&\"月 勤務表\"","v":"小規模多機能型事業所  6月 勤務表"}]
[null,"氏名",{"$f":"DATE(年,月,1)","v":"2013-06-01"},{"$f":"C2+1","v":"2013-06-02"},"2013-06-03","2013-06-04","2013-06-05","2013-06-06","2013-06-07","2013-06-08","2013-06-09","2013-06-10","2013-06-11","2013-06-12","2013-06-13","2013-06-14","2013-06-15","2013-06-16"]
[null,null,{"$f":"C2","v":41426},41427,41428,41429,41430,41431,41432,41433,41434,41435,41436,41437,41438,41439,41440,41441]
[null,{"$f":"勤務表!B4","v":"A職員"},{"$f":"勤務表!C4","v":"LK2"},{"$f":"勤務表!D4","v":"早番"},{"$f":"勤務表!E4","v":"休"},{"$f":"勤務表!F4","v":"早番"},{"$f":"勤務表!G4","v":"休"},{"$f":"勤務表!H4","v":"LK2"},{"$f":"勤務表!I4","v":"CM"},{"$f":"勤務表!J4","v":"CM"},{"$f":"勤務表!K4","v":"夜勤"},{"$f":"勤務表!L4","v":"明番"},{"$f":"勤務表!M4","v":"早番"},{"$f":"勤務表!N4","v":"休"},{"$f":"勤務表!O4","v":"休"},{"$f":"勤務表!P4","v":"休"},{"$f":"勤務表!Q4","v":"有給"},{"$f":"勤務表!R4","v":"L1"}]
[null,{"$f":"勤務表!B5","v":"B職員"},{"$f":"勤務表!C5","v":"夜勤"},{"$f":"勤務表!D5","v":"明番"},{"$f":"勤務表!E5","v":"休"},{"$f":"勤務表!F5","v":"LK2"},{"$f":"勤務表!G5","v":"遅番"},{"$f":"勤務表!H5","v":"夜勤"},{"$f":"勤務表!I5","v":"明番"},{"$f":"勤務表!J5","v":"休"},{"$f":"勤務表!K5","v":"L1"},{"$f":"勤務表!L5","v":"有給"},{"$f":"勤務表!M5","v":"休"},{"$f":"勤務表!N5","v":"LK2"},{"$f":"勤務表!O5","v":"夜勤"},{"$f":"勤務表!P5","v":"明番"},{"$f":"勤務表!Q5","v":"休"},{"$f":"勤務表!R5","v":"早番"}]
[null,{"$f":"勤務表!B6","v":"C職員"},{"$f":"勤務表!C6","v":"L1"},{"$f":"勤務表!D6","v":"夜勤"},{"$f":"勤務表!E6","v":"明番"},{"$f":"勤務表!F6","v":"休"},{"$f":"勤務表!G6","v":"B2"},{"$f":"勤務表!H6","v":"遅番"},{"$f":"勤務表!I6","v":"夜勤"},{"$f":"勤務表!J6","v":"明番"},{"$f":"勤務表!K6","v":"B2"},{"$f":"勤務表!L6","v":"L1"},{"$f":"勤務表!M6","v":"遅番"},{"$f":"勤務表!N6","v":"休"},{"$f":"勤務表!O6","v":"休"},{"$f":"勤務表!P6","v":"夜勤"},{"$f":"勤務表!Q6","v":"明番"},{"$f":"勤務表!R6","v":"休"}]
[null,{"$f":"勤務表!B7","v":"D職員"},{"$f":"勤務表!C7","v":"早番"},{"$f":"勤務表!D7","v":"K1"},{"$f":"勤務表!E7","v":"LK2"},{"$f":"勤務表!F7","v":"休"},{"$f":"勤務表!G7","v":"L1"},{"$f":"勤務表!H7","v":"K1"},{"$f":"勤務表!I7","v":"遅番"},{"$f":"勤務表!J7","v":"休"},{"$f":"勤務表!K7","v":"休"},{"$f":"勤務表!L7","v":"LK2"},{"$f":"勤務表!M7","v":"休"},{"$f":"勤務表!N7","v":"早番"},{"$f":"勤務表!O7","v":"遅番"},{"$f":"勤務表!P7","v":"休"},{"$f":"勤務表!Q7","v":"LK2"},{"$f":"勤務表!R7","v":"K1"}]
[null,{"$f":"勤務表!B8","v":"E職員"},{"$f":"勤務表!C8","v":"明番"},{"$f":"勤務表!D8","v":"休"},{"$f":"勤務表!E8","v":"遅番"},{"$f":"勤務表!F8","v":"休"},{"$f":"勤務表!G8","v":"早番"},{"$f":"勤務表!H8","v":"休"},{"$f":"勤務表!I8","v":"早番"},{"$f":"勤務表!J8","v":"夜勤"},{"$f":"勤務表!K8","v":"明番"},{"$f":"勤務表!L8","v":"LK2"},{"$f":"勤務表!M8","v":"休"},{"$f":"勤務表!N8","v":"L1"},{"$f":"勤務表!O8","v":"早番"},{"$f":"勤務表!P8","v":"遅番"},{"$f":"勤務表!Q8","v":"夜勤"},{"$f":"勤務表!R8","v":"明番"}]
[null,{"$f":"勤務表!B9","v":"F職員"},{"$f":"勤務表!C9","v":"休"},{"$f":"勤務表!D9","v":"休"},{"$f":"勤務表!E9","v":"L1"},{"$f":"勤務表!F9","v":"夜勤"},{"$f":"勤務表!G9","v":"明番"},{"$f":"勤務表!H9","v":"休"},{"$f":"勤務表!I9","v":"LK2"},{"$f":"勤務表!J9","v":"遅番"},{"$f":"勤務表!K9","v":"K1"},{"$f":"勤務表!L9","v":"早番"},{"$f":"勤務表!M9","v":"休"},{"$f":"勤務表!N9","v":"夜勤"},{"$f":"勤務表!O9","v":"明番"},{"$f":"勤務表!P9","v":"休"},{"$f":"勤務表!Q9","v":"遅番"},{"$f":"勤務表!R9","v":"休"}]
[null,{"$f":"勤務表!B10","v":"G職員"},{"$f":"勤務表!C873","v":0},{"$f":"勤務表!D873","v":0},{"$f":"勤務表!E873","v":0},{"$f":"勤務表!F873","v":0},{"$f":"勤務表!G873","v":0},{"$f":"勤務表!H873","v":0},{"$f":"勤務表!I873","v":0},{"$f":"勤務表!J873","v":0},{"$f":"勤務表!K873","v":0},{"$f":"勤務表!L873","v":0},{"$f":"勤務表!M873","v":0},{"$f":"勤務表!N873","v":0},{"$f":"勤務表!O873","v":0},{"$f":"勤務表!P873","v":0},{"$f":"勤務表!Q873","v":0},{"$f":"勤務表!R873","v":0}]
[null,{"$f":"勤務表!B11","v":0},{"$f":"勤務表!C11","v":0},{"$f":"勤務表!D11","v":0},{"$f":"勤務表!E11","v":0},{"$f":"勤務表!F11","v":0},{"$f":"勤務表!G11","v":0},{"$f":"勤務表!H11","v":0},{"$f":"勤務表!I11","v":0},{"$f":"勤務表!J11","v":0},{"$f":"勤務表!K11","v":0},{"$f":"勤務表!L11","v":0},{"$f":"勤務表!M11","v":0},{"$f":"勤務表!N11","v":0},{"$f":"勤務表!O11","v":0},{"$f":"勤務表!P11","v":0},{"$f":"勤務表!Q11","v":0},{"$f":"勤務表!R11","v":0}]
[null,{"$f":"勤務表!B12","v":0},{"$f":"勤務表!C12","v":0},{"$f":"勤務表!D12","v":0},{"$f":"勤務表!E12","v":0},{"$f":"勤務表!F12","v":0},{"$f":"勤務表!G12","v":0},{"$f":"勤務表!H12","v":0},{"$f":"勤務表!I12","v":0},{"$f":"勤務表!J12","v":0},{"$f":"勤務表!K12","v":0},{"$f":"勤務表!L12","v":0},{"$f":"勤務表!M12","v":0},{"$f":"勤務表!N12","v":0},{"$f":"勤務表!O12","v":0},{"$f":"勤務表!P12","v":0},{"$f":"勤務表!Q12","v":0},{"$f":"勤務表!R12","v":0}]
[null,{"$f":"勤務表!B13","v":0},{"$f":"勤務表!C13","v":0},{"$f":"勤務表!D13","v":0},{"$f":"勤務表!E13","v":0},{"$f":"勤務表!F13","v":0},{"$f":"勤務表!G13","v":0},{"$f":"勤務表!H13","v":0},{"$f":"勤務表!I13","v":0},{"$f":"勤務表!J13","v":0},{"$f":"勤務表!K13","v":0},{"$f":"勤務表!L13","v":0},{"$f":"勤務表!M13","v":0},{"$f":"勤務表!N13","v":0},{"$f":"勤務表!O13","v":0},{"$f":"勤務表!P13","v":0},{"$f":"勤務表!Q13","v":0},{"$f":"勤務表!R13","v":0}]
[null,{"$f":"勤務表!B14","v":0},{"$f":"勤務表!C14","v":0},{"$f":"勤務表!D14","v":0},{"$f":"勤務表!E14","v":0},{"$f":"勤務表!F14","v":0},{"$f":"勤務表!G14","v":0},{"$f":"勤務表!H14","v":0},{"$f":"勤務表!I14","v":0},{"$f":"勤務表!J14","v":0},{"$f":"勤務表!K14","v":0},{"$f":"勤務表!L14","v":0},{"$f":"勤務表!M14","v":0},{"$f":"勤務表!N14","v":0},{"$f":"勤務表!O14","v":0},{"$f":"勤務表!P14","v":0},{"$f":"勤務表!Q14","v":0},{"$f":"勤務表!R14","v":0}]
[null,{"$f":"勤務表!B15","v":0},{"$f":"勤務表!C15","v":0},{"$f":"勤務表!D15","v":0},{"$f":"勤務表!E15","v":0},{"$f":"勤務表!F15","v":0},{"$f":"勤務表!G15","v":0},{"$f":"勤務表!H15","v":0},{"$f":"勤務表!I15","v":0},{"$f":"勤務表!J15","v":0},{"$f":"勤務表!K15","v":0},{"$f":"勤務表!L15","v":0},{"$f":"勤務表!M15","v":0},{"$f":"勤務表!N15","v":0},{"$f":"勤務表!O15","v":0},{"$f":"勤務表!P15","v":0},{"$f":"勤務表!Q15","v":0},{"$f":"勤務表!R15","v":0}]
[null,{"$f":"勤務表!B16","v":0},{"$f":"勤務表!C16","v":0},{"$f":"勤務表!D16","v":0},{"$f":"勤務表!E16","v":0},{"$f":"勤務表!F16","v":0},{"$f":"勤務表!G16","v":0},{"$f":"勤務表!H16","v":0},{"$f":"勤務表!I16","v":0},{"$f":"勤務表!J16","v":0},{"$f":"勤務表!K16","v":0},{"$f":"勤務表!L16","v":0},{"$f":"勤務表!M16","v":0},{"$f":"勤務表!N16","v":0},{"$f":"勤務表!O16","v":0},{"$f":"勤務表!P16","v":0},{"$f":"勤務表!Q16","v":0},{"$f":"勤務表!R16","v":0}]
[null,{"$f":"勤務表!B17","v":0},{"$f":"勤務表!C17","v":0},{"$f":"勤務表!D17","v":0},{"$f":"勤務表!E17","v":0},{"$f":"勤務表!F17","v":0},{"$f":"勤務表!G17","v":0},{"$f":"勤務表!H17","v":0},{"$f":"勤務表!I17","v":0},{"$f":"勤務表!J17","v":0},{"$f":"勤務表!K17","v":0},{"$f":"勤務表!L17","v":0},{"$f":"勤務表!M17","v":0},{"$f":"勤務表!N17","v":0},{"$f":"勤務表!O17","v":0},{"$f":"勤務表!P17","v":0},{"$f":"勤務表!Q17","v":0},{"$f":"勤務表!R17","v":0}]
[null,{"$f":"勤務表!B19","v":0},{"$f":"勤務表!C18","v":0},{"$f":"勤務表!D18","v":0},{"$f":"勤務表!E18","v":0},{"$f":"勤務表!F18","v":0},{"$f":"勤務表!G18","v":0},{"$f":"勤務表!H18","v":0},{"$f":"勤務表!I18","v":0},{"$f":"勤務表!J18","v":0},{"$f":"勤務表!K18","v":0},{"$f":"勤務表!L18","v":0},{"$f":"勤務表!M18","v":0},{"$f":"勤務表!N18","v":0},{"$f":"勤務表!O18","v":0},{"$f":"勤務表!P18","v":0},{"$f":"勤務表!Q18","v":0},{"$f":"勤務表!R18","v":0}]
[]
[null,"氏名",{"$f":"R2+1","v":"2013-06-17"},{"$f":"C20+1","v":"2013-06-18"},{"$f":"D20+1","v":"2013-06-19"},"2013-06-20","2013-06-21","2013-06-22","2013-06-23","2013-06-24","2013-06-25","2013-06-26","2013-06-27","2013-06-28",{"$f":"IF(MONTH(N20+1)=月,N20+1,\"\")","v":"2013-06-29"},{"$f":"IF(MONTH(N20+2)=月,N20+2,\"\")","v":"2013-06-30"},{"$f":"IF(MONTH(N20+3)=月,N20+3,\"\")","v":""}]
[null,null,{"$f":"C20","v":41442},41443,41444,41445,41446,41447,41448,41449,41450,41451,41452,41453,41454,41455,""]
[null,{"$f":"勤務表!B4","v":"A職員"},{"$f":"勤務表!S4","v":"有給"},{"$f":"勤務表!T4","v":"有給"},{"$f":"勤務表!U4","v":"遅番"},{"$f":"勤務表!V4","v":"LK2"},{"$f":"勤務表!W4","v":"CM"},{"$f":"勤務表!X4","v":"休"},{"$f":"勤務表!Y4","v":"L1"},{"$f":"勤務表!Z4","v":"休"},{"$f":"勤務表!AA4","v":"夜勤"},{"$f":"勤務表!AB4","v":"明番"},{"$f":"勤務表!AC4","v":"休"},{"$f":"勤務表!AD4","v":"遅番"},{"$f":"勤務表!AE4","v":"休"},{"$f":"勤務表!AF4","v":"LK2"},{"$f":"勤務表!AG4","v":0}]
[null,{"$f":"勤務表!B5","v":"B職員"},{"$f":"勤務表!S5","v":"休"},{"$f":"勤務表!T5","v":"遅番"},{"$f":"勤務表!U5","v":"夜勤"},{"$f":"勤務表!V5","v":"明番"},{"$f":"勤務表!W5","v":"休"},{"$f":"勤務表!X5","v":"休"},{"$f":"勤務表!Y5","v":"早番"},{"$f":"勤務表!Z5","v":"休"},{"$f":"勤務表!AA5","v":"遅番"},{"$f":"勤務表!AB5","v":"L1"},{"$f":"勤務表!AC5","v":"夜勤"},{"$f":"勤務表!AD5","v":"明番"},{"$f":"勤務表!AE5","v":"休"},{"$f":"勤務表!AF5","v":"早番"},{"$f":"勤務表!AG5","v":0}]
[null,{"$f":"勤務表!B6","v":"C職員"},{"$f":"勤務表!S6","v":"L1"},{"$f":"勤務表!T6","v":"早番"},{"$f":"勤務表!U6","v":"休"},{"$f":"勤務表!V6","v":"有給"},{"$f":"勤務表!W6","v":"早番"},{"$f":"勤務表!X6","v":"休"},{"$f":"勤務表!Y6","v":"夜勤"},{"$f":"勤務表!Z6","v":"明番"},{"$f":"勤務表!AA6","v":"休"},{"$f":"勤務表!AB6","v":"休"},{"$f":"勤務表!AC6","v":"遅番"},{"$f":"勤務表!AD6","v":"夜勤"},{"$f":"勤務表!AE6","v":"明番"},{"$f":"勤務表!AF6","v":"休"},{"$f":"勤務表!AG6","v":0}]
[null,{"$f":"勤務表!B7","v":"D職員"},{"$f":"勤務表!S7","v":"早番"},{"$f":"勤務表!T7","v":"L1"},{"$f":"勤務表!U7","v":"休"},{"$f":"勤務表!V7","v":"L1"},{"$f":"勤務表!W7","v":"休"},{"$f":"勤務表!X7","v":"LK2"},{"$f":"勤務表!Y7","v":"LK2"},{"$f":"勤務表!Z7","v":"休"},{"$f":"勤務表!AA7","v":"B2"},{"$f":"勤務表!AB7","v":"LK2"},{"$f":"勤務表!AC7","v":"LK2"},{"$f":"勤務表!AD7","v":"休"},{"$f":"勤務表!AE7","v":"遅番"},{"$f":"勤務表!AF7","v":"LK2"},{"$f":"勤務表!AG7","v":0}]
[null,{"$f":"勤務表!B8","v":"E職員"},{"$f":"勤務表!S8","v":"休"},{"$f":"勤務表!T8","v":"休"},{"$f":"勤務表!U8","v":"B2"},{"$f":"勤務表!V8","v":"夜勤"},{"$f":"勤務表!W8","v":"明番"},{"$f":"勤務表!X8","v":"休"},{"$f":"勤務表!Y8","v":"B2"},{"$f":"勤務表!Z8","v":"L1"},{"$f":"勤務表!AA8","v":"休"},{"$f":"勤務表!AB8","v":"休"},{"$f":"勤務表!AC8","v":"LK2"},{"$f":"勤務表!AD8","v":"LK2"},{"$f":"勤務表!AE8","v":"夜勤"},{"$f":"勤務表!AF8","v":"明番"},{"$f":"勤務表!AG8","v":0}]
[null,{"$f":"勤務表!B9","v":"F職員"},{"$f":"勤務表!S9","v":"夜勤"},{"$f":"勤務表!T9","v":"明番"},{"$f":"勤務表!U9","v":"休"},{"$f":"勤務表!V9","v":"早番"},{"$f":"勤務表!W9","v":"遅番"},{"$f":"勤務表!X9","v":"夜勤"},{"$f":"勤務表!Y9","v":"明番"},{"$f":"勤務表!Z9","v":"休"},{"$f":"勤務表!AA9","v":"L1"},{"$f":"勤務表!AB9","v":"B2"},{"$f":"勤務表!AC9","v":"K1"},{"$f":"勤務表!AD9","v":"L1"},{"$f":"勤務表!AE9","v":"早番"},{"$f":"勤務表!AF9","v":"休"},{"$f":"勤務表!AG9","v":0}]
[null,{"$f":"勤務表!B10","v":"G職員"},{"$f":"勤務表!S10","v":"休"},{"$f":"勤務表!T10","v":"B2"},{"$f":"勤務表!U10","v":"早番"},{"$f":"勤務表!V10","v":"B2"},{"$f":"勤務表!W10","v":"LK2"},{"$f":"勤務表!X10","v":"休"},{"$f":"勤務表!Y10","v":"遅番"},{"$f":"勤務表!Z10","v":"LK2"},{"$f":"勤務表!AA10","v":"休"},{"$f":"勤務表!AB10","v":"遅番"},{"$f":"勤務表!AC10","v":"休"},{"$f":"勤務表!AD10","v":"早番"},{"$f":"勤務表!AE10","v":"休"},{"$f":"勤務表!AF10","v":"L1"},{"$f":"勤務表!AG10","v":0}]
[null,{"$f":"勤務表!B11","v":0},{"$f":"勤務表!S11","v":0},{"$f":"勤務表!T11","v":0},{"$f":"勤務表!U11","v":0},{"$f":"勤務表!V11","v":0},{"$f":"勤務表!W11","v":0},{"$f":"勤務表!X11","v":0},{"$f":"勤務表!Y11","v":0},{"$f":"勤務表!Z11","v":0},{"$f":"勤務表!AA11","v":0},{"$f":"勤務表!AB11","v":0},{"$f":"勤務表!AC11","v":0},{"$f":"勤務表!AD11","v":0},{"$f":"勤務表!AE11","v":0},{"$f":"勤務表!AF11","v":0},{"$f":"勤務表!AG11","v":0}]
[null,{"$f":"勤務表!B12","v":0},{"$f":"勤務表!S12","v":0},{"$f":"勤務表!T12","v":0},{"$f":"勤務表!U12","v":0},{"$f":"勤務表!V12","v":0},{"$f":"勤務表!W12","v":0},{"$f":"勤務表!X12","v":0},{"$f":"勤務表!Y12","v":0},{"$f":"勤務表!Z12","v":0},{"$f":"勤務表!AA12","v":0},{"$f":"勤務表!AB12","v":0},{"$f":"勤務表!AC12","v":0},{"$f":"勤務表!AD12","v":0},{"$f":"勤務表!AE12","v":0},{"$f":"勤務表!AF12","v":0},{"$f":"勤務表!AG12","v":0}]
[null,{"$f":"勤務表!B13","v":0},{"$f":"勤務表!S13","v":0},{"$f":"勤務表!T13","v":0},{"$f":"勤務表!U13","v":0},{"$f":"勤務表!V13","v":0},{"$f":"勤務表!W13","v":0},{"$f":"勤務表!X13","v":0},{"$f":"勤務表!Y13","v":0},{"$f":"勤務表!Z13","v":0},{"$f":"勤務表!AA13","v":0},{"$f":"勤務表!AB13","v":0},{"$f":"勤務表!AC13","v":0},{"$f":"勤務表!AD13","v":0},{"$f":"勤務表!AE13","v":0},{"$f":"勤務表!AF13","v":0},{"$f":"勤務表!AG13","v":0}]
[null,{"$f":"勤務表!B14","v":0},{"$f":"勤務表!S14","v":0},{"$f":"勤務表!T14","v":0},{"$f":"勤務表!U14","v":0},{"$f":"勤務表!V14","v":0},{"$f":"勤務表!W14","v":0},{"$f":"勤務表!X14","v":0},{"$f":"勤務表!Y14","v":0},{"$f":"勤務表!Z14","v":0},{"$f":"勤務表!AA14","v":0},{"$f":"勤務表!AB14","v":0},{"$f":"勤務表!AC14","v":0},{"$f":"勤務表!AD14","v":0},{"$f":"勤務表!AE14","v":0},{"$f":"勤務表!AF14","v":0},{"$f":"勤務表!AG14","v":0}]
[null,{"$f":"勤務表!B15","v":0},{"$f":"勤務表!S15","v":0},{"$f":"勤務表!T15","v":0},{"$f":"勤務表!U15","v":0},{"$f":"勤務表!V15","v":0},{"$f":"勤務表!W15","v":0},{"$f":"勤務表!X15","v":0},{"$f":"勤務表!Y15","v":0},{"$f":"勤務表!Z15","v":0},{"$f":"勤務表!AA15","v":0},{"$f":"勤務表!AB15","v":0},{"$f":"勤務表!AC15","v":0},{"$f":"勤務表!AD15","v":0},{"$f":"勤務表!AE15","v":0},{"$f":"勤務表!AF15","v":0},{"$f":"勤務表!AG15","v":0}]
[null,{"$f":"勤務表!B16","v":0},{"$f":"勤務表!S16","v":0},{"$f":"勤務表!T16","v":0},{"$f":"勤務表!U16","v":0},{"$f":"勤務表!V16","v":0},{"$f":"勤務表!W16","v":0},{"$f":"勤務表!X16","v":0},{"$f":"勤務表!Y16","v":0},{"$f":"勤務表!Z16","v":0},{"$f":"勤務表!AA16","v":0},{"$f":"勤務表!AB16","v":0},{"$f":"勤務表!AC16","v":0},{"$f":"勤務表!AD16","v":0},{"$f":"勤務表!AE16","v":0},{"$f":"勤務表!AF16","v":0},{"$f":"勤務表!AG16","v":0}]
[null,{"$f":"勤務表!B17","v":0},{"$f":"勤務表!S17","v":0},{"$f":"勤務表!T17","v":0},{"$f":"勤務表!U17","v":0},{"$f":"勤務表!V17","v":0},{"$f":"勤務表!W17","v":0},{"$f":"勤務表!X17","v":0},{"$f":"勤務表!Y17","v":0},{"$f":"勤務表!Z17","v":0},{"$f":"勤務表!AA17","v":0},{"$f":"勤務表!AB17","v":0},{"$f":"勤務表!AC17","v":0},{"$f":"勤務表!AD17","v":0},{"$f":"勤務表!AE17","v":0},{"$f":"勤務表!AF17","v":0},{"$f":"勤務表!AG17","v":0}]
[null,{"$f":"勤務表!B19","v":0},{"$f":"勤務表!S18","v":0},{"$f":"勤務表!T18","v":0},{"$f":"勤務表!U18","v":0},{"$f":"勤務表!V18","v":0},{"$f":"勤務表!W18","v":0},{"$f":"勤務表!X18","v":0},{"$f":"勤務表!Y18","v":0},{"$f":"勤務表!Z18","v":0},{"$f":"勤務表!AA18","v":0},{"$f":"勤務表!AB18","v":0},{"$f":"勤務表!AC18","v":0},{"$f":"勤務表!AD18","v":0},{"$f":"勤務表!AE18","v":0},{"$f":"勤務表!AF18","v":0},{"$f":"勤務表!AG18","v":0}]
[null,{"$f":"勤務表!B20","v":0}]

{"sheet":"入浴","index":14,"n_rows":27,"n_cols":46,"rows_kept":27,"cut":false,"hidden":true,"merged":[[0,0,1,0],[0,1,1,1]]}
[null,{"$f":"MONTH(D1)&\"月\"","v":"6月"},{"$f":"DATE(年,月,1)","v":"2013-06-01"},{"$f":"C1+1","v":"2013-06-02"},"2013-06-03","2013-06-04","2013-06-05","2013-06-06","2013-06-07","2013-06-08","2013-06-09","2013-06-10","2013-06-11","2013-06-12","2013-06-13","2013-06-14","2013-06-15","2013-06-16","2013-06-17","2013-06-18","2013-06-19","2013-06-20","2013-06-21","2013-06-22","2013-06-23","2013-06-24","2013-06-25","2013-06-26","2013-06-27","2013-06-28",{"$f":"AD1+1","v":"2013-06-29"},{"$f":"AE1+1","v":"2013-06-30"},{"$f":"AF1+1","v":"2013-07-01"}]
[null,null,{"$f":"C1","v":41426},41427,41428,41429,41430,41431,41432,41433,41434,41435,41436,41437,41438,41439,41440,41441,41442,41443,41444,41445,41446,41447,41448,41449,41450,41451,41452,41453,{"$f":"AE1","v":41454},{"$f":"AF1","v":41455},{"$f":"AG1","v":41456},null,null,null,null,null,"氏名","日曜日","月曜日","火曜日","水曜日","木曜日","金曜日","土曜日"]
[1,{"$f":"Top!C40","v":"利用者A"},{"$f":"IF(利用表!D7=\"●\",\"△\",IF(OR(利用表!D6=\"休\",利用表!D6=\"訪\"),\"×\",\"\"))","v":"△"},{"$f":"IF(利用表!E7=\"●\",\"△\",IF(OR(利用表!E6=\"休\",利用表!E6=\"訪\"),\"×\",\"\"))","v":"△"},{"$f":"IF(利用表!F7=\"●\",\"△\",IF(OR(利用表!F6=\"休\",利用表!F6=\"訪\"),\"×\",\"\"))","v":"△"},{"$f":"IF(利用表!G7=\"●\",\"△\",IF(OR(利用表!G6=\"休\",利用表!G6=\"訪\"),\"×\",\"\"))","v":""},{"$f":"IF(利用表!H7=\"●\",\"△\",IF(OR(利用表!H6=\"休\",利用表!H6=\"訪\"),\"×\",\"\"))","v":"△"},{"$f":"IF(利用表!I7=\"●\",\"△\",IF(OR(利用表!I6=\"休\",利用表!I6=\"訪\"),\"×\",\"\"))","v":"△"},{"$f":"IF(利用表!J7=\"●\",\"△\",IF(OR(利用表!J6=\"休\",利用表!J6=\"訪\"),\"×\",\"\"))","v":"△"},{"$f":"IF(利用表!K7=\"●\",\"△\",IF(OR(利用表!K6=\"休\",利用表!K6=\"訪\"),\"×\",\"\"))","v":"△"},{"$f":"IF(利用表!L7=\"●\",\"△\",IF(OR(利用表!L6=\"休\",利用表!L6=\"訪\"),\"×\",\"\"))","v":"△"},{"$f":"IF(利用表!M7=\"●\",\"△\",IF(OR(利用表!M6=\"休\",利用表!M6=\"訪\"),\"×\",\"\"))","v":"△"},{"$f":"IF(利用表!N7=\"●\",\"△\",IF(OR(利用表!N6=\"休\",利用表!N6=\"訪\"),\"×\",\"\"))","v":"△"},{"$f":"IF(利用表!O7=\"●\",\"△\",IF(OR(利用表!O6=\"休\",利用表!O6=\"訪\"),\"×\",\"\"))","v":"△"},{"$f":"IF(利用表!P7=\"●\",\"△\",IF(OR(利用表!P6=\"休\",利用表!P6=\"訪\"),\"×\",\"\"))","v":"△"},{"$f":"IF(利用表!Q7=\"●\",\"△\",IF(OR(利用表!Q6=\"休\",利用表!Q6=\"訪\"),\"×\",\"\"))","v":"△"},{"$f":"IF(利用表!R7=\"●\",\"△\",IF(OR(利用表!R6=\"休\",利用表!R6=\"訪\"),\"×\",\"\"))","v":"△"},{"$f":"IF(利用表!S7=\"●\",\"△\",IF(OR(利用表!S6=\"休\",利用表!S6=\"訪\"),\"×\",\"\"))","v":"△"},{"$f":"IF(利用表!T7=\"●\",\"△\",IF(OR(利用表!T6=\"休\",利用表!T6=\"訪\"),\"×\",\"\"))","v":"△"},{"$f":"IF(利用表!U7=\"●\",\"△\",IF(OR(利用表!U6=\"休\",利用表!U6=\"訪\"),\"×\",\"\"))","v":"△"},{"$f":"IF(利用表!V7=\"●\",\"△\",IF(OR(利用表!V6=\"休\",利用表!V6=\"訪\"),\"×\",\"\"))","v":"△"},{"$f":"IF(利用表!W7=\"●\",\"△\",IF(OR(利用表!W6=\"休\",利用表!W6=\"訪\"),\"×\",\"\"))","v":"△"},{"$f":"IF(利用表!X7=\"●\",\"△\",IF(OR(利用表!X6=\"休\",利用表!X6=\"訪\"),\"×\",\"\"))","v":"△"},{"$f":"IF(利用表!Y7=\"●\",\"△\",IF(OR(利用表!Y6=\"休\",利用表!Y6=\"訪\"),\"×\",\"\"))","v":"△"},{"$f":"IF(利用表!Z7=\"●\",\"△\",IF(OR(利用表!Z6=\"休\",利用表!Z6=\"訪\"),\"×\",\"\"))","v":"△"},{"$f":"IF(利用表!AA7=\"●\",\"△\",IF(OR(利用表!AA6=\"休\",利用表!AA6=\"訪\"),\"×\",\"\"))","v":"△"},{"$f":"IF(利用表!AB7=\"●\",\"△\",IF(OR(利用表!AB6=\"休\",利用表!AB6=\"訪\"),\"×\",\"\"))","v":""},{"$f":"IF(利用表!AC7=\"●\",\"△\",IF(OR(利用表!AC6=\"休\",利用表!AC6=\"訪\"),\"×\",\"\"))","v":"△"},{"$f":"IF(利用表!AD7=\"●\",\"△\",IF(OR(利用表!AD6=\"休\",利用表!AD6=\"訪\"),\"×\",\"\"))","v":"△"},{"$f":"IF(利用表!AE7=\"●\",\"△\",IF(OR(利用表!AE6=\"休\",利用表!AE6=\"訪\"),\"×\",\"\"))","v":"△"},{"$f":"IF(利用表!AF7=\"●\",\"△\",IF(OR(利用表!AF6=\"休\",利用表!AF6=\"訪\"),\"×\",\"\"))","v":"△"},{"$f":"IF(利用表!AG7=\"●\",\"△\",IF(OR(利用表!AG6=\"休\",利用表!AG6=\"訪\"),\"×\",\"\"))","v":"△"},{"$f":"IF(利用表!AH7=\"●\",\"△\",IF(OR(利用表!AH6=\"休\",利用表!AH6=\"訪\"),\"×\",\"\"))","v":"△"},{"$f":"LEFT(B3,2)","v":"利用"},null,null,null,null,{"$f":"IF(ISNA(VLOOKUP(B3,入浴,1,FALSE)=TRUE),\"\",1)","v":""},{"$f":"IF(ISNA(VLOOKUP($B3,入浴,1,FALSE)=TRUE),\"\",VLOOKUP($B3,入浴,2,FALSE))","v":""},{"$f":"IF(ISNA(VLOOKUP($B3,入浴,1,FALSE)=TRUE),\"\",VLOOKUP($B3,入浴,3,FALSE))","v":""},{"$f":"IF(ISNA(VLOOKUP($B3,入浴,1,FALSE)=TRUE),\"\",VLOOKUP($B3,入浴,4,FALSE))","v":""},{"$f":"IF(ISNA(VLOOKUP($B3,入浴,1,FALSE)=TRUE),\"\",VLOOKUP($B3,入浴,5,FALSE))","v":""},{"$f":"IF(ISNA(VLOOKUP($B3,入浴,1,FALSE)=TRUE),\"\",VLOOKUP($B3,入浴,6,FALSE))","v":""},{"$f":"IF(ISNA(VLOOKUP($B3,入浴,1,FALSE)=TRUE),\"\",VLOOKUP($B3,入浴,7,FALSE))","v":""},{"$f":"IF(ISNA(VLOOKUP($B3,入浴,1,FALSE)=TRUE),\"\",VLOOKUP($B3,入浴,8,FALSE))","v":""}]
[2,{"$f":"Top!C41","v":"利用者B"},{"$f":"IF(利用表!D9=\"●\",\"△\",IF(OR(利用表!D8=\"休\",利用表!D8=\"訪\"),\"×\",\"\"))","v":"△"},{"$f":"IF(利用表!E9=\"●\",\"△\",IF(OR(利用表!E8=\"休\",利用表!E8=\"訪\"),\"×\",\"\"))","v":"×"},{"$f":"IF(利用表!F9=\"●\",\"△\",IF(OR(利用表!F8=\"休\",利用表!F8=\"訪\"),\"×\",\"\"))","v":"×"},{"$f":"IF(利用表!G9=\"●\",\"△\",IF(OR(利用表!G8=\"休\",利用表!G8=\"訪\"),\"×\",\"\"))","v":"×"},{"$f":"IF(利用表!H9=\"●\",\"△\",IF(OR(利用表!H8=\"休\",利用表!H8=\"訪\"),\"×\",\"\"))","v":"△"},{"$f":"IF(利用表!I9=\"●\",\"△\",IF(OR(利用表!I8=\"休\",利用表!I8=\"訪\"),\"×\",\"\"))","v":"△"},{"$f":"IF(利用表!J9=\"●\",\"△\",IF(OR(利用表!J8=\"休\",利用表!J8=\"訪\"),\"×\",\"\"))","v":"△"},{"$f":"IF(利用表!K9=\"●\",\"△\",IF(OR(利用表!K8=\"休\",利用表!K8=\"訪\"),\"×\",\"\"))","v":"△"},{"$f":"IF(利用表!L9=\"●\",\"△\",IF(OR(利用表!L8=\"休\",利用表!L8=\"訪\"),\"×\",\"\"))","v":"△"},{"$f":"IF(利用表!M9=\"●\",\"△\",IF(OR(利用表!M8=\"休\",利用表!M8=\"訪\"),\"×\",\"\"))","v":"△"},{"$f":"IF(利用表!N9=\"●\",\"△\",IF(OR(利用表!N8=\"休\",利用表!N8=\"訪\"),\"×\",\"\"))","v":"△"},{"$f":"IF(利用表!O9=\"●\",\"△\",IF(OR(利用表!O8=\"休\",利用表!O8=\"訪\"),\"×\",\"\"))","v":"△"},{"$f":"IF(利用表!P9=\"●\",\"△\",IF(OR(利用表!P8=\"休\",利用表!P8=\"訪\"),\"×\",\"\"))","v":"△"},{"$f":"IF(利用表!Q9=\"●\",\"△\",IF(OR(利用表!Q8=\"休\",利用表!Q8=\"訪\"),\"×\",\"\"))","v":"×"},{"$f":"IF(利用表!R9=\"●\",\"△\",IF(OR(利用表!R8=\"休\",利用表!R8=\"訪\"),\"×\",\"\"))","v":"×"},{"$f":"IF(利用表!S9=\"●\",\"△\",IF(OR(利用表!S8=\"休\",利用表!S8=\"訪\"),\"×\",\"\"))","v":"×"},{"$f":"IF(利用表!T9=\"●\",\"△\",IF(OR(利用表!T8=\"休\",利用表!T8=\"訪\"),\"×\",\"\"))","v":"△"},{"$f":"IF(利用表!U9=\"●\",\"△\",IF(OR(利用表!U8=\"休\",利用表!U8=\"訪\"),\"×\",\"\"))","v":"△"},{"$f":"IF(利用表!V9=\"●\",\"△\",IF(OR(利用表!V8=\"休\",利用表!V8=\"訪\"),\"×\",\"\"))","v":"△"},{"$f":"IF(利用表!W9=\"●\",\"△\",IF(OR(利用表!W8=\"休\",利用表!W8=\"訪\"),\"×\",\"\"))","v":"△"},{"$f":"IF(利用表!X9=\"●\",\"△\",IF(OR(利用表!X8=\"休\",利用表!X8=\"訪\"),\"×\",\"\"))","v":"△"},{"$f":"IF(利用表!Y9=\"●\",\"△\",IF(OR(利用表!Y8=\"休\",利用表!Y8=\"訪\"),\"×\",\"\"))","v":"△"},{"$f":"IF(利用表!Z9=\"●\",\"△\",IF(OR(利用表!Z8=\"休\",利用表!Z8=\"訪\"),\"×\",\"\"))","v":"△"},{"$f":"IF(利用表!AA9=\"●\",\"△\",IF(OR(利用表!AA8=\"休\",利用表!AA8=\"訪\"),\"×\",\"\"))","v":"△"},{"$f":"IF(利用表!AB9=\"●\",\"△\",IF(OR(利用表!AB8=\"休\",利用表!AB8=\"訪\"),\"×\",\"\"))","v":"△"},{"$f":"IF(利用表!AC9=\"●\",\"△\",IF(OR(利用表!AC8=\"休\",利用表!AC8=\"訪\"),\"×\",\"\"))","v":"△"},{"$f":"IF(利用表!AD9=\"●\",\"△\",IF(OR(利用表!AD8=\"休\",利用表!AD8=\"訪\"),\"×\",\"\"))","v":"△"},{"$f":"IF(利用表!AE9=\"●\",\"△\",IF(OR(利用表!AE8=\"休\",利用表!AE8=\"訪\"),\"×\",\"\"))","v":"△"},{"$f":"IF(利用表!AF9=\"●\",\"△\",IF(OR(利用表!AF8=\"休\",利用表!AF8=\"訪\"),\"×\",\"\"))","v":"△"},{"$f":"IF(利用表!AG9=\"●\",\"△\",IF(OR(利用表!AG8=\"休\",利用表!AG8=\"訪\"),\"×\",\"\"))","v":"△"},{"$f":"IF(利用表!AH9=\"●\",\"△\",IF(OR(利用表!AH8=\"休\",利用表!AH8=\"訪\"),\"×\",\"\"))","v":"△"},"利用",null,null,null,null,"","","","","","","",""]
[3,{"$f":"Top!C42","v":"利用者C"},{"$f":"IF(利用表!D11=\"●\",\"△\",IF(OR(利用表!D10=\"休\",利用表!D10=\"訪\"),\"×\",\"\"))","v":"×"},{"$f":"IF(利用表!E11=\"●\",\"△\",IF(OR(利用表!E10=\"休\",利用表!E10=\"訪\"),\"×\",\"\"))","v":"×"},{"$f":"IF(利用表!F11=\"●\",\"△\",IF(OR(利用表!F10=\"休\",利用表!F10=\"訪\"),\"×\",\"\"))","v":"×"},{"$f":"IF(利用表!G11=\"●\",\"△\",IF(OR(利用表!G10=\"休\",利用表!G10=\"訪\"),\"×\",\"\"))","v":"×"},{"$f":"IF(利用表!H11=\"●\",\"△\",IF(OR(利用表!H10=\"休\",利用表!H10=\"訪\"),\"×\",\"\"))","v":"×"},{"$f":"IF(利用表!I11=\"●\",\"△\",IF(OR(利用表!I10=\"休\",利用表!I10=\"訪\"),\"×\",\"\"))","v":"×"},{"$f":"IF(利用表!J11=\"●\",\"△\",IF(OR(利用表!J10=\"休\",利用表!J10=\"訪\"),\"×\",\"\"))","v":"×"},{"$f":"IF(利用表!K11=\"●\",\"△\",IF(OR(利用表!K10=\"休\",利用表!K10=\"訪\"),\"×\",\"\"))","v":"×"},{"$f":"IF(利用表!L11=\"●\",\"△\",IF(OR(利用表!L10=\"休\",利用表!L10=\"訪\"),\"×\",\"\"))","v":"×"},{"$f":"IF(利用表!M11=\"●\",\"△\",IF(OR(利用表!M10=\"休\",利用表!M10=\"訪\"),\"×\",\"\"))","v":"×"},{"$f":"IF(利用表!N11=\"●\",\"△\",IF(OR(利用表!N10=\"休\",利用表!N10=\"訪\"),\"×\",\"\"))","v":"×"},{"$f":"IF(利用表!O11=\"●\",\"△\",IF(OR(利用表!O10=\"休\",利用表!O10=\"訪\"),\"×\",\"\"))","v":"×"},{"$f":"IF(利用表!P11=\"●\",\"△\",IF(OR(利用表!P10=\"休\",利用表!P10=\"訪\"),\"×\",\"\"))","v":"×"},{"$f":"IF(利用表!Q11=\"●\",\"△\",IF(OR(利用表!Q10=\"休\",利用表!Q10=\"訪\"),\"×\",\"\"))","v":"×"},{"$f":"IF(利用表!R11=\"●\",\"△\",IF(OR(利用表!R10=\"休\",利用表!R10=\"訪\"),\"×\",\"\"))","v":"×"},{"$f":"IF(利用表!S11=\"●\",\"△\",IF(OR(利用表!S10=\"休\",利用表!S10=\"訪\"),\"×\",\"\"))","v":"×"},{"$f":"IF(利用表!T11=\"●\",\"△\",IF(OR(利用表!T10=\"休\",利用表!T10=\"訪\"),\"×\",\"\"))","v":"×"},{"$f":"IF(利用表!U11=\"●\",\"△\",IF(OR(利用表!U10=\"休\",利用表!U10=\"訪\"),\"×\",\"\"))","v":"×"},{"$f":"IF(利用表!V11=\"●\",\"△\",IF(OR(利用表!V10=\"休\",利用表!V10=\"訪\"),\"×\",\"\"))","v":"×"},{"$f":"IF(利用表!W11=\"●\",\"△\",IF(OR(利用表!W10=\"休\",利用表!W10=\"訪\"),\"×\",\"\"))","v":"×"},{"$f":"IF(利用表!X11=\"●\",\"△\",IF(OR(利用表!X10=\"休\",利用表!X10=\"訪\"),\"×\",\"\"))","v":"×"},{"$f":"IF(利用表!Y11=\"●\",\"△\",IF(OR(利用表!Y10=\"休\",利用表!Y10=\"訪\"),\"×\",\"\"))","v":"×"},{"$f":"IF(利用表!Z11=\"●\",\"△\",IF(OR(利用表!Z10=\"休\",利用表!Z10=\"訪\"),\"×\",\"\"))","v":"×"},{"$f":"IF(利用表!AA11=\"●\",\"△\",IF(OR(利用表!AA10=\"休\",利用表!AA10=\"訪\"),\"×\",\"\"))","v":"×"},{"$f":"IF(利用表!AB11=\"●\",\"△\",IF(OR(利用表!AB10=\"休\",利用表!AB10=\"訪\"),\"×\",\"\"))","v":"×"},{"$f":"IF(利用表!AC11=\"●\",\"△\",IF(OR(利用表!AC10=\"休\",利用表!AC10=\"訪\"),\"×\",\"\"))","v":"×"},{"$f":"IF(利用表!AD11=\"●\",\"△\",IF(OR(利用表!AD10=\"休\",利用表!AD10=\"訪\"),\"×\",\"\"))","v":"×"},{"$f":"IF(利用表!AE11=\"●\",\"△\",IF(OR(利用表!AE10=\"休\",利用表!AE10=\"訪\"),\"×\",\"\"))","v":"×"},{"$f":"IF(利用表!AF11=\"●\",\"△\",IF(OR(利用表!AF10=\"休\",利用表!AF10=\"訪\"),\"×\",\"\"))","v":"×"},{"$f":"IF(利用表!AG11=\"●\",\"△\",IF(OR(利用表!AG10=\"休\",利用表!AG10=\"訪\"),\"×\",\"\"))","v":"×"},{"$f":"IF(利用表!AH11=\"●\",\"△\",IF(OR(利用表!AH10=\"休\",利用表!AH10=\"訪\"),\"×\",\"\"))","v":"×"},"利用",null,null,null,null,"","","","","","","",""]
[4,{"$f":"Top!C43","v":"利用者D"},{"$f":"IF(利用表!D13=\"●\",\"△\",IF(OR(利用表!D12=\"休\",利用表!D12=\"訪\"),\"×\",\"\"))","v":""},{"$f":"IF(利用表!E13=\"●\",\"△\",IF(OR(利用表!E12=\"休\",利用表!E12=\"訪\"),\"×\",\"\"))","v":""},{"$f":"IF(利用表!F13=\"●\",\"△\",IF(OR(利用表!F12=\"休\",利用表!F12=\"訪\"),\"×\",\"\"))","v":"×"},{"$f":"IF(利用表!G13=\"●\",\"△\",IF(OR(利用表!G12=\"休\",利用表!G12=\"訪\"),\"×\",\"\"))","v":"×"},{"$f":"IF(利用表!H13=\"●\",\"△\",IF(OR(利用表!H12=\"休\",利用表!H12=\"訪\"),\"×\",\"\"))","v":"×"},{"$f":"IF(利用表!I13=\"●\",\"△\",IF(OR(利用表!I12=\"休\",利用表!I12=\"訪\"),\"×\",\"\"))","v":"×"},{"$f":"IF(利用表!J13=\"●\",\"△\",IF(OR(利用表!J12=\"休\",利用表!J12=\"訪\"),\"×\",\"\"))","v":""},{"$f":"IF(利用表!K13=\"●\",\"△\",IF(OR(利用表!K12=\"休\",利用表!K12=\"訪\"),\"×\",\"\"))","v":""},{"$f":"IF(利用表!L13=\"●\",\"△\",IF(OR(利用表!L12=\"休\",利用表!L12=\"訪\"),\"×\",\"\"))","v":""},{"$f":"IF(利用表!M13=\"●\",\"△\",IF(OR(利用表!M12=\"休\",利用表!M12=\"訪\"),\"×\",\"\"))","v":""},{"$f":"IF(利用表!N13=\"●\",\"△\",IF(OR(利用表!N12=\"休\",利用表!N12=\"訪\"),\"×\",\"\"))","v":"×"},{"$f":"IF(利用表!O13=\"●\",\"△\",IF(OR(利用表!O12=\"休\",利用表!O12=\"訪\"),\"×\",\"\"))","v":"×"},{"$f":"IF(利用表!P13=\"●\",\"△\",IF(OR(利用表!P12=\"休\",利用表!P12=\"訪\"),\"×\",\"\"))","v":""},{"$f":"IF(利用表!Q13=\"●\",\"△\",IF(OR(利用表!Q12=\"休\",利用表!Q12=\"訪\"),\"×\",\"\"))","v":"×"},{"$f":"IF(利用表!R13=\"●\",\"△\",IF(OR(利用表!R12=\"休\",利用表!R12=\"訪\"),\"×\",\"\"))","v":"×"},{"$f":"IF(利用表!S13=\"●\",\"△\",IF(OR(利用表!S12=\"休\",利用表!S12=\"訪\"),\"×\",\"\"))","v":""},{"$f":"IF(利用表!T13=\"●\",\"△\",IF(OR(利用表!T12=\"休\",利用表!T12=\"訪\"),\"×\",\"\"))","v":""},{"$f":"IF(利用表!U13=\"●\",\"△\",IF(OR(利用表!U12=\"休\",利用表!U12=\"訪\"),\"×\",\"\"))","v":"×"},{"$f":"IF(利用表!V13=\"●\",\"△\",IF(OR(利用表!V12=\"休\",利用表!V12=\"訪\"),\"×\",\"\"))","v":"×"},{"$f":"IF(利用表!W13=\"●\",\"△\",IF(OR(利用表!W12=\"休\",利用表!W12=\"訪\"),\"×\",\"\"))","v":""},{"$f":"IF(利用表!X13=\"●\",\"△\",IF(OR(利用表!X12=\"休\",利用表!X12=\"訪\"),\"×\",\"\"))","v":""},{"$f":"IF(利用表!Y13=\"●\",\"△\",IF(OR(利用表!Y12=\"休\",利用表!Y12=\"訪\"),\"×\",\"\"))","v":""},{"$f":"IF(利用表!Z13=\"●\",\"△\",IF(OR(利用表!Z12=\"休\",利用表!Z12=\"訪\"),\"×\",\"\"))","v":""},{"$f":"IF(利用表!AA13=\"●\",\"△\",IF(OR(利用表!AA12=\"休\",利用表!AA12=\"訪\"),\"×\",\"\"))","v":""},{"$f":"IF(利用表!AB13=\"●\",\"△\",IF(OR(利用表!AB12=\"休\",利用表!AB12=\"訪\"),\"×\",\"\"))","v":"×"},{"$f":"IF(利用表!AC13=\"●\",\"△\",IF(OR(利用表!AC12=\"休\",利用表!AC12=\"訪\"),\"×\",\"\"))","v":"×"},{"$f":"IF(利用表!AD13=\"●\",\"△\",IF(OR(利用表!AD12=\"休\",利用表!AD12=\"訪\"),\"×\",\"\"))","v":""},{"$f":"IF(利用表!AE13=\"●\",\"△\",IF(OR(利用表!AE12=\"休\",利用表!AE12=\"訪\"),\"×\",\"\"))","v":""},{"$f":"IF(利用表!AF13=\"●\",\"△\",IF(OR(利用表!AF12=\"休\",利用表!AF12=\"訪\"),\"×\",\"\"))","v":""},{"$f":"IF(利用表!AG13=\"●\",\"△\",IF(OR(利用表!AG12=\"休\",利用表!AG12=\"訪\"),\"×\",\"\"))","v":""},{"$f":"IF(利用表!AH13=\"●\",\"△\",IF(OR(利用表!AH12=\"休\",利用表!AH12=\"訪\"),\"×\",\"\"))","v":""},"利用",null,null,null,null,"","","","","","","",""]
[5,{"$f":"Top!C44","v":"利用者E"},{"$f":"IF(利用表!D15=\"●\",\"△\",IF(OR(利用表!D14=\"休\",利用表!D14=\"訪\"),\"×\",\"\"))","v":"×"},{"$f":"IF(利用表!E15=\"●\",\"△\",IF(OR(利用表!E14=\"休\",利用表!E14=\"訪\"),\"×\",\"\"))","v":""},{"$f":"IF(利用表!F15=\"●\",\"△\",IF(OR(利用表!F14=\"休\",利用表!F14=\"訪\"),\"×\",\"\"))","v":"×"},{"$f":"IF(利用表!G15=\"●\",\"△\",IF(OR(利用表!G14=\"休\",利用表!G14=\"訪\"),\"×\",\"\"))","v":"△"},{"$f":"IF(利用表!H15=\"●\",\"△\",IF(OR(利用表!H14=\"休\",利用表!H14=\"訪\"),\"×\",\"\"))","v":"△"},{"$f":"IF(利用表!I15=\"●\",\"△\",IF(OR(利用表!I14=\"休\",利用表!I14=\"訪\"),\"×\",\"\"))","v":"△"},{"$f":"IF(利用表!J15=\"●\",\"△\",IF(OR(利用表!J14=\"休\",利用表!J14=\"訪\"),\"×\",\"\"))","v":""},{"$f":"IF(利用表!K15=\"●\",\"△\",IF(OR(利用表!K14=\"休\",利用表!K14=\"訪\"),\"×\",\"\"))","v":"×"},{"$f":"IF(利用表!L15=\"●\",\"△\",IF(OR(利用表!L14=\"休\",利用表!L14=\"訪\"),\"×\",\"\"))","v":""},{"$f":"IF(利用表!M15=\"●\",\"△\",IF(OR(利用表!M14=\"休\",利用表!M14=\"訪\"),\"×\",\"\"))","v":"×"},{"$f":"IF(利用表!N15=\"●\",\"△\",IF(OR(利用表!N14=\"休\",利用表!N14=\"訪\"),\"×\",\"\"))","v":"△"},{"$f":"IF(利用表!O15=\"●\",\"△\",IF(OR(利用表!O14=\"休\",利用表!O14=\"訪\"),\"×\",\"\"))","v":"△"},{"$f":"IF(利用表!P15=\"●\",\"△\",IF(OR(利用表!P14=\"休\",利用表!P14=\"訪\"),\"×\",\"\"))","v":"△"},{"$f":"IF(利用表!Q15=\"●\",\"△\",IF(OR(利用表!Q14=\"休\",利用表!Q14=\"訪\"),\"×\",\"\"))","v":""},{"$f":"IF(利用表!R15=\"●\",\"△\",IF(OR(利用表!R14=\"休\",利用表!R14=\"訪\"),\"×\",\"\"))","v":"×"},{"$f":"IF(利用表!S15=\"●\",\"△\",IF(OR(利用表!S14=\"休\",利用表!S14=\"訪\"),\"×\",\"\"))","v":""},{"$f":"IF(利用表!T15=\"●\",\"△\",IF(OR(利用表!T14=\"休\",利用表!T14=\"訪\"),\"×\",\"\"))","v":"×"},{"$f":"IF(利用表!U15=\"●\",\"△\",IF(OR(利用表!U14=\"休\",利用表!U14=\"訪\"),\"×\",\"\"))","v":"△"},{"$f":"IF(利用表!V15=\"●\",\"△\",IF(OR(利用表!V14=\"休\",利用表!V14=\"訪\"),\"×\",\"\"))","v":"△"},{"$f":"IF(利用表!W15=\"●\",\"△\",IF(OR(利用表!W14=\"休\",利用表!W14=\"訪\"),\"×\",\"\"))","v":"△"},{"$f":"IF(利用表!X15=\"●\",\"△\",IF(OR(利用表!X14=\"休\",利用表!X14=\"訪\"),\"×\",\"\"))","v":""},{"$f":"IF(利用表!Y15=\"●\",\"△\",IF(OR(利用表!Y14=\"休\",利用表!Y14=\"訪\"),\"×\",\"\"))","v":"×"},{"$f":"IF(利用表!Z15=\"●\",\"△\",IF(OR(利用表!Z14=\"休\",利用表!Z14=\"訪\"),\"×\",\"\"))","v":""},{"$f":"IF(利用表!AA15=\"●\",\"△\",IF(OR(利用表!AA14=\"休\",利用表!AA14=\"訪\"),\"×\",\"\"))","v":"×"},{"$f":"IF(利用表!AB15=\"●\",\"△\",IF(OR(利用表!AB14=\"休\",利用表!AB14=\"訪\"),\"×\",\"\"))","v":"△"},{"$f":"IF(利用表!AC15=\"●\",\"△\",IF(OR(利用表!AC14=\"休\",利用表!AC14=\"訪\"),\"×\",\"\"))","v":"△"},{"$f":"IF(利用表!AD15=\"●\",\"△\",IF(OR(利用表!AD14=\"休\",利用表!AD14=\"訪\"),\"×\",\"\"))","v":"△"},{"$f":"IF(利用表!AE15=\"●\",\"△\",IF(OR(利用表!AE14=\"休\",利用表!AE14=\"訪\"),\"×\",\"\"))","v":""},{"$f":"IF(利用表!AF15=\"●\",\"△\",IF(OR(利用表!AF14=\"休\",利用表!AF14=\"訪\"),\"×\",\"\"))","v":"×"},{"$f":"IF(利用表!AG15=\"●\",\"△\",IF(OR(利用表!AG14=\"休\",利用表!AG14=\"訪\"),\"×\",\"\"))","v":""},{"$f":"IF(利用表!AH15=\"●\",\"△\",IF(OR(利用表!AH14=\"休\",利用表!AH14=\"訪\"),\"×\",\"\"))","v":"×"},"利用",null,null,null,null,"","","","","","","",""]
[6,{"$f":"Top!C45","v":"利用者F"},{"$f":"IF(利用表!D17=\"●\",\"△\",IF(OR(利用表!D16=\"休\",利用表!D16=\"訪\"),\"×\",\"\"))","v":""},{"$f":"IF(利用表!E17=\"●\",\"△\",IF(OR(利用表!E16=\"休\",利用表!E16=\"訪\"),\"×\",\"\"))","v":"×"},{"$f":"IF(利用表!F17=\"●\",\"△\",IF(OR(利用表!F16=\"休\",利用表!F16=\"訪\"),\"×\",\"\"))","v":"×"},{"$f":"IF(利用表!G17=\"●\",\"△\",IF(OR(利用表!G16=\"休\",利用表!G16=\"訪\"),\"×\",\"\"))","v":"×"},{"$f":"IF(利用表!H17=\"●\",\"△\",IF(OR(利用表!H16=\"休\",利用表!H16=\"訪\"),\"×\",\"\"))","v":""},{"$f":"IF(利用表!I17=\"●\",\"△\",IF(OR(利用表!I16=\"休\",利用表!I16=\"訪\"),\"×\",\"\"))","v":""},{"$f":"IF(利用表!J17=\"●\",\"△\",IF(OR(利用表!J16=\"休\",利用表!J16=\"訪\"),\"×\",\"\"))","v":"×"},{"$f":"IF(利用表!K17=\"●\",\"△\",IF(OR(利用表!K16=\"休\",利用表!K16=\"訪\"),\"×\",\"\"))","v":""},{"$f":"IF(利用表!L17=\"●\",\"△\",IF(OR(利用表!L16=\"休\",利用表!L16=\"訪\"),\"×\",\"\"))","v":"×"},{"$f":"IF(利用表!M17=\"●\",\"△\",IF(OR(利用表!M16=\"休\",利用表!M16=\"訪\"),\"×\",\"\"))","v":"×"},{"$f":"IF(利用表!N17=\"●\",\"△\",IF(OR(利用表!N16=\"休\",利用表!N16=\"訪\"),\"×\",\"\"))","v":"×"},{"$f":"IF(利用表!O17=\"●\",\"△\",IF(OR(利用表!O16=\"休\",利用表!O16=\"訪\"),\"×\",\"\"))","v":""},{"$f":"IF(利用表!P17=\"●\",\"△\",IF(OR(利用表!P16=\"休\",利用表!P16=\"訪\"),\"×\",\"\"))","v":"×"},{"$f":"IF(利用表!Q17=\"●\",\"△\",IF(OR(利用表!Q16=\"休\",利用表!Q16=\"訪\"),\"×\",\"\"))","v":"×"},{"$f":"IF(利用表!R17=\"●\",\"△\",IF(OR(利用表!R16=\"休\",利用表!R16=\"訪\"),\"×\",\"\"))","v":""},{"$f":"IF(利用表!S17=\"●\",\"△\",IF(OR(利用表!S16=\"休\",利用表!S16=\"訪\"),\"×\",\"\"))","v":"×"},{"$f":"IF(利用表!T17=\"●\",\"△\",IF(OR(利用表!T16=\"休\",利用表!T16=\"訪\"),\"×\",\"\"))","v":"×"},{"$f":"IF(利用表!U17=\"●\",\"△\",IF(OR(利用表!U16=\"休\",利用表!U16=\"訪\"),\"×\",\"\"))","v":"×"},{"$f":"IF(利用表!V17=\"●\",\"△\",IF(OR(利用表!V16=\"休\",利用表!V16=\"訪\"),\"×\",\"\"))","v":""},{"$f":"IF(利用表!W17=\"●\",\"△\",IF(OR(利用表!W16=\"休\",利用表!W16=\"訪\"),\"×\",\"\"))","v":"×"},{"$f":"IF(利用表!X17=\"●\",\"△\",IF(OR(利用表!X16=\"休\",利用表!X16=\"訪\"),\"×\",\"\"))","v":"×"},{"$f":"IF(利用表!Y17=\"●\",\"△\",IF(OR(利用表!Y16=\"休\",利用表!Y16=\"訪\"),\"×\",\"\"))","v":""},{"$f":"IF(利用表!Z17=\"●\",\"△\",IF(OR(利用表!Z16=\"休\",利用表!Z16=\"訪\"),\"×\",\"\"))","v":"×"},{"$f":"IF(利用表!AA17=\"●\",\"△\",IF(OR(利用表!AA16=\"休\",利用表!AA16=\"訪\"),\"×\",\"\"))","v":"×"},{"$f":"IF(利用表!AB17=\"●\",\"△\",IF(OR(利用表!AB16=\"休\",利用表!AB16=\"訪\"),\"×\",\"\"))","v":"×"},{"$f":"IF(利用表!AC17=\"●\",\"△\",IF(OR(利用表!AC16=\"休\",利用表!AC16=\"訪\"),\"×\",\"\"))","v":""},{"$f":"IF(利用表!AD17=\"●\",\"△\",IF(OR(利用表!AD16=\"休\",利用表!AD16=\"訪\"),\"×\",\"\"))","v":"×"},{"$f":"IF(利用表!AE17=\"●\",\"△\",IF(OR(利用表!AE16=\"休\",利用表!AE16=\"訪\"),\"×\",\"\"))","v":"×"},{"$f":"IF(利用表!AF17=\"●\",\"△\",IF(OR(利用表!AF16=\"休\",利用表!AF16=\"訪\"),\"×\",\"\"))","v":""},{"$f":"IF(利用表!AG17=\"●\",\"△\",IF(OR(利用表!AG16=\"休\",利用表!AG16=\"訪\"),\"×\",\"\"))","v":"×"},{"$f":"IF(利用表!AH17=\"●\",\"△\",IF(OR(利用表!AH16=\"休\",利用表!AH16=\"訪\"),\"×\",\"\"))","v":"×"},"利用",null,null,null,null,"","","","","","","",""]
[7,{"$f":"Top!C46","v":"利用者G"},{"$f":"IF(利用表!D19=\"●\",\"△\",IF(OR(利用表!D18=\"休\",利用表!D18=\"訪\"),\"×\",\"\"))","v":"△"},{"$f":"IF(利用表!E19=\"●\",\"△\",IF(OR(利用表!E18=\"休\",利用表!E18=\"訪\"),\"×\",\"\"))","v":"△"},{"$f":"IF(利用表!F19=\"●\",\"△\",IF(OR(利用表!F18=\"休\",利用表!F18=\"訪\"),\"×\",\"\"))","v":"△"},{"$f":"IF(利用表!G19=\"●\",\"△\",IF(OR(利用表!G18=\"休\",利用表!G18=\"訪\"),\"×\",\"\"))","v":"△"},{"$f":"IF(利用表!H19=\"●\",\"△\",IF(OR(利用表!H18=\"休\",利用表!H18=\"訪\"),\"×\",\"\"))","v":"△"},{"$f":"IF(利用表!I19=\"●\",\"△\",IF(OR(利用表!I18=\"休\",利用表!I18=\"訪\"),\"×\",\"\"))","v":"△"},{"$f":"IF(利用表!J19=\"●\",\"△\",IF(OR(利用表!J18=\"休\",利用表!J18=\"訪\"),\"×\",\"\"))","v":"△"},{"$f":"IF(利用表!K19=\"●\",\"△\",IF(OR(利用表!K18=\"休\",利用表!K18=\"訪\"),\"×\",\"\"))","v":"△"},{"$f":"IF(利用表!L19=\"●\",\"△\",IF(OR(利用表!L18=\"休\",利用表!L18=\"訪\"),\"×\",\"\"))","v":"△"},{"$f":"IF(利用表!M19=\"●\",\"△\",IF(OR(利用表!M18=\"休\",利用表!M18=\"訪\"),\"×\",\"\"))","v":"△"},{"$f":"IF(利用表!N19=\"●\",\"△\",IF(OR(利用表!N18=\"休\",利用表!N18=\"訪\"),\"×\",\"\"))","v":"△"},{"$f":"IF(利用表!O19=\"●\",\"△\",IF(OR(利用表!O18=\"休\",利用表!O18=\"訪\"),\"×\",\"\"))","v":"△"},{"$f":"IF(利用表!P19=\"●\",\"△\",IF(OR(利用表!P18=\"休\",利用表!P18=\"訪\"),\"×\",\"\"))","v":"△"},{"$f":"IF(利用表!Q19=\"●\",\"△\",IF(OR(利用表!Q18=\"休\",利用表!Q18=\"訪\"),\"×\",\"\"))","v":"△"},{"$f":"IF(利用表!R19=\"●\",\"△\",IF(OR(利用表!R18=\"休\",利用表!R18=\"訪\"),\"×\",\"\"))","v":"△"},{"$f":"IF(利用表!S19=\"●\",\"△\",IF(OR(利用表!S18=\"休\",利用表!S18=\"訪\"),\"×\",\"\"))","v":"△"},{"$f":"IF(利用表!T19=\"●\",\"△\",IF(OR(利用表!T18=\"休\",利用表!T18=\"訪\"),\"×\",\"\"))","v":"△"},{"$f":"IF(利用表!U19=\"●\",\"△\",IF(OR(利用表!U18=\"休\",利用表!U18=\"訪\"),\"×\",\"\"))","v":"△"},{"$f":"IF(利用表!V19=\"●\",\"△\",IF(OR(利用表!V18=\"休\",利用表!V18=\"訪\"),\"×\",\"\"))","v":"△"},{"$f":"IF(利用表!W19=\"●\",\"△\",IF(OR(利用表!W18=\"休\",利用表!W18=\"訪\"),\"×\",\"\"))","v":"△"},{"$f":"IF(利用表!X19=\"●\",\"△\",IF(OR(利用表!X18=\"休\",利用表!X18=\"訪\"),\"×\",\"\"))","v":"△"},{"$f":"IF(利用表!Y19=\"●\",\"△\",IF(OR(利用表!Y18=\"休\",利用表!Y18=\"訪\"),\"×\",\"\"))","v":"△"},{"$f":"IF(利用表!Z19=\"●\",\"△\",IF(OR(利用表!Z18=\"休\",利用表!Z18=\"訪\"),\"×\",\"\"))","v":"△"},{"$f":"IF(利用表!AA19=\"●\",\"△\",IF(OR(利用表!AA18=\"休\",利用表!AA18=\"訪\"),\"×\",\"\"))","v":"△"},{"$f":"IF(利用表!AB19=\"●\",\"△\",IF(OR(利用表!AB18=\"休\",利用表!AB18=\"訪\"),\"×\",\"\"))","v":"△"},{"$f":"IF(利用表!AC19=\"●\",\"△\",IF(OR(利用表!AC18=\"休\",利用表!AC18=\"訪\"),\"×\",\"\"))","v":"△"},{"$f":"IF(利用表!AD19=\"●\",\"△\",IF(OR(利用表!AD18=\"休\",利用表!AD18=\"訪\"),\"×\",\"\"))","v":"△"},{"$f":"IF(利用表!AE19=\"●\",\"△\",IF(OR(利用表!AE18=\"休\",利用表!AE18=\"訪\"),\"×\",\"\"))","v":"△"},{"$f":"IF(利用表!AF19=\"●\",\"△\",IF(OR(利用表!AF18=\"休\",利用表!AF18=\"訪\"),\"×\",\"\"))","v":"△"},{"$f":"IF(利用表!AG19=\"●\",\"△\",IF(OR(利用表!AG18=\"休\",利用表!AG18=\"訪\"),\"×\",\"\"))","v":"△"},{"$f":"IF(利用表!AH19=\"●\",\"△\",IF(OR(利用表!AH18=\"休\",利用表!AH18=\"訪\"),\"×\",\"\"))","v":"△"},"利用",null,null,null,null,"","","","","","","",""]
[8,{"$f":"Top!C47","v":"利用者H"},{"$f":"IF(利用表!D21=\"●\",\"△\",IF(OR(利用表!D20=\"休\",利用表!D20=\"訪\"),\"×\",\"\"))","v":"△"},{"$f":"IF(利用表!E21=\"●\",\"△\",IF(OR(利用表!E20=\"休\",利用表!E20=\"訪\"),\"×\",\"\"))","v":"△"},{"$f":"IF(利用表!F21=\"●\",\"△\",IF(OR(利用表!F20=\"休\",利用表!F20=\"訪\"),\"×\",\"\"))","v":"△"},{"$f":"IF(利用表!G21=\"●\",\"△\",IF(OR(利用表!G20=\"休\",利用表!G20=\"訪\"),\"×\",\"\"))","v":"△"},{"$f":"IF(利用表!H21=\"●\",\"△\",IF(OR(利用表!H20=\"休\",利用表!H20=\"訪\"),\"×\",\"\"))","v":"△"},{"$f":"IF(利用表!I21=\"●\",\"△\",IF(OR(利用表!I20=\"休\",利用表!I20=\"訪\"),\"×\",\"\"))","v":"△"},{"$f":"IF(利用表!J21=\"●\",\"△\",IF(OR(利用表!J20=\"休\",利用表!J20=\"訪\"),\"×\",\"\"))","v":"△"},{"$f":"IF(利用表!K21=\"●\",\"△\",IF(OR(利用表!K20=\"休\",利用表!K20=\"訪\"),\"×\",\"\"))","v":"△"},{"$f":"IF(利用表!L21=\"●\",\"△\",IF(OR(利用表!L20=\"休\",利用表!L20=\"訪\"),\"×\",\"\"))","v":"△"},{"$f":"IF(利用表!M21=\"●\",\"△\",IF(OR(利用表!M20=\"休\",利用表!M20=\"訪\"),\"×\",\"\"))","v":"△"},{"$f":"IF(利用表!N21=\"●\",\"△\",IF(OR(利用表!N20=\"休\",利用表!N20=\"訪\"),\"×\",\"\"))","v":"△"},{"$f":"IF(利用表!O21=\"●\",\"△\",IF(OR(利用表!O20=\"休\",利用表!O20=\"訪\"),\"×\",\"\"))","v":"△"},{"$f":"IF(利用表!P21=\"●\",\"△\",IF(OR(利用表!P20=\"休\",利用表!P20=\"訪\"),\"×\",\"\"))","v":"△"},{"$f":"IF(利用表!Q21=\"●\",\"△\",IF(OR(利用表!Q20=\"休\",利用表!Q20=\"訪\"),\"×\",\"\"))","v":"△"},{"$f":"IF(利用表!R21=\"●\",\"△\",IF(OR(利用表!R20=\"休\",利用表!R20=\"訪\"),\"×\",\"\"))","v":"△"},{"$f":"IF(利用表!S21=\"●\",\"△\",IF(OR(利用表!S20=\"休\",利用表!S20=\"訪\"),\"×\",\"\"))","v":"△"},{"$f":"IF(利用表!T21=\"●\",\"△\",IF(OR(利用表!T20=\"休\",利用表!T20=\"訪\"),\"×\",\"\"))","v":"△"},{"$f":"IF(利用表!U21=\"●\",\"△\",IF(OR(利用表!U20=\"休\",利用表!U20=\"訪\"),\"×\",\"\"))","v":"△"},{"$f":"IF(利用表!V21=\"●\",\"△\",IF(OR(利用表!V20=\"休\",利用表!V20=\"訪\"),\"×\",\"\"))","v":"△"},{"$f":"IF(利用表!W21=\"●\",\"△\",IF(OR(利用表!W20=\"休\",利用表!W20=\"訪\"),\"×\",\"\"))","v":"△"},{"$f":"IF(利用表!X21=\"●\",\"△\",IF(OR(利用表!X20=\"休\",利用表!X20=\"訪\"),\"×\",\"\"))","v":"△"},{"$f":"IF(利用表!Y21=\"●\",\"△\",IF(OR(利用表!Y20=\"休\",利用表!Y20=\"訪\"),\"×\",\"\"))","v":"△"},{"$f":"IF(利用表!Z21=\"●\",\"△\",IF(OR(利用表!Z20=\"休\",利用表!Z20=\"訪\"),\"×\",\"\"))","v":"△"},{"$f":"IF(利用表!AA21=\"●\",\"△\",IF(OR(利用表!AA20=\"休\",利用表!AA20=\"訪\"),\"×\",\"\"))","v":"△"},{"$f":"IF(利用表!AB21=\"●\",\"△\",IF(OR(利用表!AB20=\"休\",利用表!AB20=\"訪\"),\"×\",\"\"))","v":"△"},{"$f":"IF(利用表!AC21=\"●\",\"△\",IF(OR(利用表!AC20=\"休\",利用表!AC20=\"訪\"),\"×\",\"\"))","v":"△"},{"$f":"IF(利用表!AD21=\"●\",\"△\",IF(OR(利用表!AD20=\"休\",利用表!AD20=\"訪\"),\"×\",\"\"))","v":"△"},{"$f":"IF(利用表!AE21=\"●\",\"△\",IF(OR(利用表!AE20=\"休\",利用表!AE20=\"訪\"),\"×\",\"\"))","v":"△"},{"$f":"IF(利用表!AF21=\"●\",\"△\",IF(OR(利用表!AF20=\"休\",利用表!AF20=\"訪\"),\"×\",\"\"))","v":"△"},{"$f":"IF(利用表!AG21=\"●\",\"△\",IF(OR(利用表!AG20=\"休\",利用表!AG20=\"訪\"),\"×\",\"\"))","v":"△"},{"$f":"IF(利用表!AH21=\"●\",\"△\",IF(OR(利用表!AH20=\"休\",利用表!AH20=\"訪\"),\"×\",\"\"))","v":"△"},"利用",null,null,null,null,"","","","","","","",""]
[9,{"$f":"Top!C48","v":"利用者I"},{"$f":"IF(利用表!D23=\"●\",\"△\",IF(OR(利用表!D22=\"休\",利用表!D22=\"訪\"),\"×\",\"\"))","v":""},{"$f":"IF(利用表!E23=\"●\",\"△\",IF(OR(利用表!E22=\"休\",利用表!E22=\"訪\"),\"×\",\"\"))","v":""},{"$f":"IF(利用表!F23=\"●\",\"△\",IF(OR(利用表!F22=\"休\",利用表!F22=\"訪\"),\"×\",\"\"))","v":""},{"$f":"IF(利用表!G23=\"●\",\"△\",IF(OR(利用表!G22=\"休\",利用表!G22=\"訪\"),\"×\",\"\"))","v":"×"},{"$f":"IF(利用表!H23=\"●\",\"△\",IF(OR(利用表!H22=\"休\",利用表!H22=\"訪\"),\"×\",\"\"))","v":""},{"$f":"IF(利用表!I23=\"●\",\"△\",IF(OR(利用表!I22=\"休\",利用表!I22=\"訪\"),\"×\",\"\"))","v":""},{"$f":"IF(利用表!J23=\"●\",\"△\",IF(OR(利用表!J22=\"休\",利用表!J22=\"訪\"),\"×\",\"\"))","v":""},{"$f":"IF(利用表!K23=\"●\",\"△\",IF(OR(利用表!K22=\"休\",利用表!K22=\"訪\"),\"×\",\"\"))","v":"×"},{"$f":"IF(利用表!L23=\"●\",\"△\",IF(OR(利用表!L22=\"休\",利用表!L22=\"訪\"),\"×\",\"\"))","v":""},{"$f":"IF(利用表!M23=\"●\",\"△\",IF(OR(利用表!M22=\"休\",利用表!M22=\"訪\"),\"×\",\"\"))","v":""},{"$f":"IF(利用表!N23=\"●\",\"△\",IF(OR(利用表!N22=\"休\",利用表!N22=\"訪\"),\"×\",\"\"))","v":"×"},{"$f":"IF(利用表!O23=\"●\",\"△\",IF(OR(利用表!O22=\"休\",利用表!O22=\"訪\"),\"×\",\"\"))","v":""},{"$f":"IF(利用表!P23=\"●\",\"△\",IF(OR(利用表!P22=\"休\",利用表!P22=\"訪\"),\"×\",\"\"))","v":""},{"$f":"IF(利用表!Q23=\"●\",\"△\",IF(OR(利用表!Q22=\"休\",利用表!Q22=\"訪\"),\"×\",\"\"))","v":"×"},{"$f":"IF(利用表!R23=\"●\",\"△\",IF(OR(利用表!R22=\"休\",利用表!R22=\"訪\"),\"×\",\"\"))","v":"×"},{"$f":"IF(利用表!S23=\"●\",\"△\",IF(OR(利用表!S22=\"休\",利用表!S22=\"訪\"),\"×\",\"\"))","v":""},{"$f":"IF(利用表!T23=\"●\",\"△\",IF(OR(利用表!T22=\"休\",利用表!T22=\"訪\"),\"×\",\"\"))","v":""},{"$f":"IF(利用表!U23=\"●\",\"△\",IF(OR(利用表!U22=\"休\",利用表!U22=\"訪\"),\"×\",\"\"))","v":""},{"$f":"IF(利用表!V23=\"●\",\"△\",IF(OR(利用表!V22=\"休\",利用表!V22=\"訪\"),\"×\",\"\"))","v":""},{"$f":"IF(利用表!W23=\"●\",\"△\",IF(OR(利用表!W22=\"休\",利用表!W22=\"訪\"),\"×\",\"\"))","v":"×"},{"$f":"IF(利用表!X23=\"●\",\"△\",IF(OR(利用表!X22=\"休\",利用表!X22=\"訪\"),\"×\",\"\"))","v":"×"},{"$f":"IF(利用表!Y23=\"●\",\"△\",IF(OR(利用表!Y22=\"休\",利用表!Y22=\"訪\"),\"×\",\"\"))","v":""},{"$f":"IF(利用表!Z23=\"●\",\"△\",IF(OR(利用表!Z22=\"休\",利用表!Z22=\"訪\"),\"×\",\"\"))","v":""},{"$f":"IF(利用表!AA23=\"●\",\"△\",IF(OR(利用表!AA22=\"休\",利用表!AA22=\"訪\"),\"×\",\"\"))","v":""},{"$f":"IF(利用表!AB23=\"●\",\"△\",IF(OR(利用表!AB22=\"休\",利用表!AB22=\"訪\"),\"×\",\"\"))","v":"×"},{"$f":"IF(利用表!AC23=\"●\",\"△\",IF(OR(利用表!AC22=\"休\",利用表!AC22=\"訪\"),\"×\",\"\"))","v":""},{"$f":"IF(利用表!AD23=\"●\",\"△\",IF(OR(利用表!AD22=\"休\",利用表!AD22=\"訪\"),\"×\",\"\"))","v":""},{"$f":"IF(利用表!AE23=\"●\",\"△\",IF(OR(利用表!AE22=\"休\",利用表!AE22=\"訪\"),\"×\",\"\"))","v":""},{"$f":"IF(利用表!AF23=\"●\",\"△\",IF(OR(利用表!AF22=\"休\",利用表!AF22=\"訪\"),\"×\",\"\"))","v":""},{"$f":"IF(利用表!AG23=\"●\",\"△\",IF(OR(利用表!AG22=\"休\",利用表!AG22=\"訪\"),\"×\",\"\"))","v":""},{"$f":"IF(利用表!AH23=\"●\",\"△\",IF(OR(利用表!AH22=\"休\",利用表!AH22=\"訪\"),\"×\",\"\"))","v":""},"利用",null,null,null,null,"","","","","","","",""]
[10,{"$f":"Top!C49","v":"利用者J"},{"$f":"IF(利用表!D25=\"●\",\"△\",IF(OR(利用表!D24=\"休\",利用表!D24=\"訪\"),\"×\",\"\"))","v":"×"},{"$f":"IF(利用表!E25=\"●\",\"△\",IF(OR(利用表!E24=\"休\",利用表!E24=\"訪\"),\"×\",\"\"))","v":"×"},{"$f":"IF(利用表!F25=\"●\",\"△\",IF(OR(利用表!F24=\"休\",利用表!F24=\"訪\"),\"×\",\"\"))","v":"×"},{"$f":"IF(利用表!G25=\"●\",\"△\",IF(OR(利用表!G24=\"休\",利用表!G24=\"訪\"),\"×\",\"\"))","v":"×"},{"$f":"IF(利用表!H25=\"●\",\"△\",IF(OR(利用表!H24=\"休\",利用表!H24=\"訪\"),\"×\",\"\"))","v":"×"},{"$f":"IF(利用表!I25=\"●\",\"△\",IF(OR(利用表!I24=\"休\",利用表!I24=\"訪\"),\"×\",\"\"))","v":"×"},{"$f":"IF(利用表!J25=\"●\",\"△\",IF(OR(利用表!J24=\"休\",利用表!J24=\"訪\"),\"×\",\"\"))","v":"×"},{"$f":"IF(利用表!K25=\"●\",\"△\",IF(OR(利用表!K24=\"休\",利用表!K24=\"訪\"),\"×\",\"\"))","v":"×"},{"$f":"IF(利用表!L25=\"●\",\"△\",IF(OR(利用表!L24=\"休\",利用表!L24=\"訪\"),\"×\",\"\"))","v":"×"},{"$f":"IF(利用表!M25=\"●\",\"△\",IF(OR(利用表!M24=\"休\",利用表!M24=\"訪\"),\"×\",\"\"))","v":"×"},{"$f":"IF(利用表!N25=\"●\",\"△\",IF(OR(利用表!N24=\"休\",利用表!N24=\"訪\"),\"×\",\"\"))","v":"×"},{"$f":"IF(利用表!O25=\"●\",\"△\",IF(OR(利用表!O24=\"休\",利用表!O24=\"訪\"),\"×\",\"\"))","v":"×"},{"$f":"IF(利用表!P25=\"●\",\"△\",IF(OR(利用表!P24=\"休\",利用表!P24=\"訪\"),\"×\",\"\"))","v":"×"},{"$f":"IF(利用表!Q25=\"●\",\"△\",IF(OR(利用表!Q24=\"休\",利用表!Q24=\"訪\"),\"×\",\"\"))","v":"×"},{"$f":"IF(利用表!R25=\"●\",\"△\",IF(OR(利用表!R24=\"休\",利用表!R24=\"訪\"),\"×\",\"\"))","v":"×"},{"$f":"IF(利用表!S25=\"●\",\"△\",IF(OR(利用表!S24=\"休\",利用表!S24=\"訪\"),\"×\",\"\"))","v":"×"},{"$f":"IF(利用表!T25=\"●\",\"△\",IF(OR(利用表!T24=\"休\",利用表!T24=\"訪\"),\"×\",\"\"))","v":"×"},{"$f":"IF(利用表!U25=\"●\",\"△\",IF(OR(利用表!U24=\"休\",利用表!U24=\"訪\"),\"×\",\"\"))","v":"×"},{"$f":"IF(利用表!V25=\"●\",\"△\",IF(OR(利用表!V24=\"休\",利用表!V24=\"訪\"),\"×\",\"\"))","v":"×"},{"$f":"IF(利用表!W25=\"●\",\"△\",IF(OR(利用表!W24=\"休\",利用表!W24=\"訪\"),\"×\",\"\"))","v":"×"},{"$f":"IF(利用表!X25=\"●\",\"△\",IF(OR(利用表!X24=\"休\",利用表!X24=\"訪\"),\"×\",\"\"))","v":"×"},{"$f":"IF(利用表!Y25=\"●\",\"△\",IF(OR(利用表!Y24=\"休\",利用表!Y24=\"訪\"),\"×\",\"\"))","v":"×"},{"$f":"IF(利用表!Z25=\"●\",\"△\",IF(OR(利用表!Z24=\"休\",利用表!Z24=\"訪\"),\"×\",\"\"))","v":"×"},{"$f":"IF(利用表!AA25=\"●\",\"△\",IF(OR(利用表!AA24=\"休\",利用表!AA24=\"訪\"),\"×\",\"\"))","v":"×"},{"$f":"IF(利用表!AB25=\"●\",\"△\",IF(OR(利用表!AB24=\"休\",利用表!AB24=\"訪\"),\"×\",\"\"))","v":"×"},{"$f":"IF(利用表!AC25=\"●\",\"△\",IF(OR(利用表!AC24=\"休\",利用表!AC24=\"訪\"),\"×\",\"\"))","v":"×"},{"$f":"IF(利用表!AD25=\"●\",\"△\",IF(OR(利用表!AD24=\"休\",利用表!AD24=\"訪\"),\"×\",\"\"))","v":"×"},{"$f":"IF(利用表!AE25=\"●\",\"△\",IF(OR(利用表!AE24=\"休\",利用表!AE24=\"訪\"),\"×\",\"\"))","v":"×"},{"$f":"IF(利用表!AF25=\"●\",\"△\",IF(OR(利用表!AF24=\"休\",利用表!AF24=\"訪\"),\"×\",\"\"))","v":"×"},{"$f":"IF(利用表!AG25=\"●\",\"△\",IF(OR(利用表!AG24=\"休\",利用表!AG24=\"訪\"),\"×\",\"\"))","v":"×"},{"$f":"IF(利用表!AH25=\"●\",\"△\",IF(OR(利用表!AH24=\"休\",利用表!AH24=\"訪\"),\"×\",\"\"))","v":"×"},"利用",null,null,null,null,"","","","","","","",""]
[11,{"$f":"Top!C50","v":0},{"$f":"IF(利用表!D27=\"●\",\"△\",IF(OR(利用表!D26=\"休\",利用表!D26=\"訪\"),\"×\",\"\"))","v":""},{"$f":"IF(利用表!E27=\"●\",\"△\",IF(OR(利用表!E26=\"休\",利用表!E26=\"訪\"),\"×\",\"\"))","v":""},{"$f":"IF(利用表!F27=\"●\",\"△\",IF(OR(利用表!F26=\"休\",利用表!F26=\"訪\"),\"×\",\"\"))","v":""},{"$f":"IF(利用表!G27=\"●\",\"△\",IF(OR(利用表!G26=\"休\",利用表!G26=\"訪\"),\"×\",\"\"))","v":""},{"$f":"IF(利用表!H27=\"●\",\"△\",IF(OR(利用表!H26=\"休\",利用表!H26=\"訪\"),\"×\",\"\"))","v":""},{"$f":"IF(利用表!I27=\"●\",\"△\",IF(OR(利用表!I26=\"休\",利用表!I26=\"訪\"),\"×\",\"\"))","v":""},{"$f":"IF(利用表!J27=\"●\",\"△\",IF(OR(利用表!J26=\"休\",利用表!J26=\"訪\"),\"×\",\"\"))","v":""},{"$f":"IF(利用表!K27=\"●\",\"△\",IF(OR(利用表!K26=\"休\",利用表!K26=\"訪\"),\"×\",\"\"))","v":""},{"$f":"IF(利用表!L27=\"●\",\"△\",IF(OR(利用表!L26=\"休\",利用表!L26=\"訪\"),\"×\",\"\"))","v":""},{"$f":"IF(利用表!M27=\"●\",\"△\",IF(OR(利用表!M26=\"休\",利用表!M26=\"訪\"),\"×\",\"\"))","v":""},{"$f":"IF(利用表!N27=\"●\",\"△\",IF(OR(利用表!N26=\"休\",利用表!N26=\"訪\"),\"×\",\"\"))","v":""},{"$f":"IF(利用表!O27=\"●\",\"△\",IF(OR(利用表!O26=\"休\",利用表!O26=\"訪\"),\"×\",\"\"))","v":""},{"$f":"IF(利用表!P27=\"●\",\"△\",IF(OR(利用表!P26=\"休\",利用表!P26=\"訪\"),\"×\",\"\"))","v":""},{"$f":"IF(利用表!Q27=\"●\",\"△\",IF(OR(利用表!Q26=\"休\",利用表!Q26=\"訪\"),\"×\",\"\"))","v":""},{"$f":"IF(利用表!R27=\"●\",\"△\",IF(OR(利用表!R26=\"休\",利用表!R26=\"訪\"),\"×\",\"\"))","v":""},{"$f":"IF(利用表!S27=\"●\",\"△\",IF(OR(利用表!S26=\"休\",利用表!S26=\"訪\"),\"×\",\"\"))","v":""},{"$f":"IF(利用表!T27=\"●\",\"△\",IF(OR(利用表!T26=\"休\",利用表!T26=\"訪\"),\"×\",\"\"))","v":""},{"$f":"IF(利用表!U27=\"●\",\"△\",IF(OR(利用表!U26=\"休\",利用表!U26=\"訪\"),\"×\",\"\"))","v":""},{"$f":"IF(利用表!V27=\"●\",\"△\",IF(OR(利用表!V26=\"休\",利用表!V26=\"訪\"),\"×\",\"\"))","v":""},{"$f":"IF(利用表!W27=\"●\",\"△\",IF(OR(利用表!W26=\"休\",利用表!W26=\"訪\"),\"×\",\"\"))","v":""},{"$f":"IF(利用表!X27=\"●\",\"△\",IF(OR(利用表!X26=\"休\",利用表!X26=\"訪\"),\"×\",\"\"))","v":""},{"$f":"IF(利用表!Y27=\"●\",\"△\",IF(OR(利用表!Y26=\"休\",利用表!Y26=\"訪\"),\"×\",\"\"))","v":""},{"$f":"IF(利用表!Z27=\"●\",\"△\",IF(OR(利用表!Z26=\"休\",利用表!Z26=\"訪\"),\"×\",\"\"))","v":""},{"$f":"IF(利用表!AA27=\"●\",\"△\",IF(OR(利用表!AA26=\"休\",利用表!AA26=\"訪\"),\"×\",\"\"))","v":""},{"$f":"IF(利用表!AB27=\"●\",\"△\",IF(OR(利用表!AB26=\"休\",利用表!AB26=\"訪\"),\"×\",\"\"))","v":""},{"$f":"IF(利用表!AC27=\"●\",\"△\",IF(OR(利用表!AC26=\"休\",利用表!AC26=\"訪\"),\"×\",\"\"))","v":""},{"$f":"IF(利用表!AD27=\"●\",\"△\",IF(OR(利用表!AD26=\"休\",利用表!AD26=\"訪\"),\"×\",\"\"))","v":""},{"$f":"IF(利用表!AE27=\"●\",\"△\",IF(OR(利用表!AE26=\"休\",利用表!AE26=\"訪\"),\"×\",\"\"))","v":""},{"$f":"IF(利用表!AF27=\"●\",\"△\",IF(OR(利用表!AF26=\"休\",利用表!AF26=\"訪\"),\"×\",\"\"))","v":""},{"$f":"IF(利用表!AG27=\"●\",\"△\",IF(OR(利用表!AG26=\"休\",利用表!AG26=\"訪\"),\"×\",\"\"))","v":""},{"$f":"IF(利用表!AH27=\"●\",\"△\",IF(OR(利用表!AH26=\"休\",利用表!AH26=\"訪\"),\"×\",\"\"))","v":""},"0",null,null,null,null,1,"","","","","","",""]
[12,{"$f":"Top!C51","v":0},{"$f":"IF(利用表!D29=\"●\",\"△\",IF(OR(利用表!D28=\"休\",利用表!D28=\"訪\"),\"×\",\"\"))","v":""},{"$f":"IF(利用表!E29=\"●\",\"△\",IF(OR(利用表!E28=\"休\",利用表!E28=\"訪\"),\"×\",\"\"))","v":""},{"$f":"IF(利用表!F29=\"●\",\"△\",IF(OR(利用表!F28=\"休\",利用表!F28=\"訪\"),\"×\",\"\"))","v":""},{"$f":"IF(利用表!G29=\"●\",\"△\",IF(OR(利用表!G28=\"休\",利用表!G28=\"訪\"),\"×\",\"\"))","v":""},{"$f":"IF(利用表!H29=\"●\",\"△\",IF(OR(利用表!H28=\"休\",利用表!H28=\"訪\"),\"×\",\"\"))","v":""},{"$f":"IF(利用表!I29=\"●\",\"△\",IF(OR(利用表!I28=\"休\",利用表!I28=\"訪\"),\"×\",\"\"))","v":""},{"$f":"IF(利用表!J29=\"●\",\"△\",IF(OR(利用表!J28=\"休\",利用表!J28=\"訪\"),\"×\",\"\"))","v":""},{"$f":"IF(利用表!K29=\"●\",\"△\",IF(OR(利用表!K28=\"休\",利用表!K28=\"訪\"),\"×\",\"\"))","v":""},{"$f":"IF(利用表!L29=\"●\",\"△\",IF(OR(利用表!L28=\"休\",利用表!L28=\"訪\"),\"×\",\"\"))","v":""},{"$f":"IF(利用表!M29=\"●\",\"△\",IF(OR(利用表!M28=\"休\",利用表!M28=\"訪\"),\"×\",\"\"))","v":""},{"$f":"IF(利用表!N29=\"●\",\"△\",IF(OR(利用表!N28=\"休\",利用表!N28=\"訪\"),\"×\",\"\"))","v":""},{"$f":"IF(利用表!O29=\"●\",\"△\",IF(OR(利用表!O28=\"休\",利用表!O28=\"訪\"),\"×\",\"\"))","v":""},{"$f":"IF(利用表!P29=\"●\",\"△\",IF(OR(利用表!P28=\"休\",利用表!P28=\"訪\"),\"×\",\"\"))","v":""},{"$f":"IF(利用表!Q29=\"●\",\"△\",IF(OR(利用表!Q28=\"休\",利用表!Q28=\"訪\"),\"×\",\"\"))","v":""},{"$f":"IF(利用表!R29=\"●\",\"△\",IF(OR(利用表!R28=\"休\",利用表!R28=\"訪\"),\"×\",\"\"))","v":""},{"$f":"IF(利用表!S29=\"●\",\"△\",IF(OR(利用表!S28=\"休\",利用表!S28=\"訪\"),\"×\",\"\"))","v":""},{"$f":"IF(利用表!T29=\"●\",\"△\",IF(OR(利用表!T28=\"休\",利用表!T28=\"訪\"),\"×\",\"\"))","v":""},{"$f":"IF(利用表!U29=\"●\",\"△\",IF(OR(利用表!U28=\"休\",利用表!U28=\"訪\"),\"×\",\"\"))","v":""},{"$f":"IF(利用表!V29=\"●\",\"△\",IF(OR(利用表!V28=\"休\",利用表!V28=\"訪\"),\"×\",\"\"))","v":""},{"$f":"IF(利用表!W29=\"●\",\"△\",IF(OR(利用表!W28=\"休\",利用表!W28=\"訪\"),\"×\",\"\"))","v":""},{"$f":"IF(利用表!X29=\"●\",\"△\",IF(OR(利用表!X28=\"休\",利用表!X28=\"訪\"),\"×\",\"\"))","v":""},{"$f":"IF(利用表!Y29=\"●\",\"△\",IF(OR(利用表!Y28=\"休\",利用表!Y28=\"訪\"),\"×\",\"\"))","v":""},{"$f":"IF(利用表!Z29=\"●\",\"△\",IF(OR(利用表!Z28=\"休\",利用表!Z28=\"訪\"),\"×\",\"\"))","v":""},{"$f":"IF(利用表!AA29=\"●\",\"△\",IF(OR(利用表!AA28=\"休\",利用表!AA28=\"訪\"),\"×\",\"\"))","v":""},{"$f":"IF(利用表!AB29=\"●\",\"△\",IF(OR(利用表!AB28=\"休\",利用表!AB28=\"訪\"),\"×\",\"\"))","v":""},{"$f":"IF(利用表!AC29=\"●\",\"△\",IF(OR(利用表!AC28=\"休\",利用表!AC28=\"訪\"),\"×\",\"\"))","v":""},{"$f":"IF(利用表!AD29=\"●\",\"△\",IF(OR(利用表!AD28=\"休\",利用表!AD28=\"訪\"),\"×\",\"\"))","v":""},{"$f":"IF(利用表!AE29=\"●\",\"△\",IF(OR(利用表!AE28=\"休\",利用表!AE28=\"訪\"),\"×\",\"\"))","v":""},{"$f":"IF(利用表!AF29=\"●\",\"△\",IF(OR(利用表!AF28=\"休\",利用表!AF28=\"訪\"),\"×\",\"\"))","v":""},{"$f":"IF(利用表!AG29=\"●\",\"△\",IF(OR(利用表!AG28=\"休\",利用表!AG28=\"訪\"),\"×\",\"\"))","v":""},{"$f":"IF(利用表!AH29=\"●\",\"△\",IF(OR(利用表!AH28=\"休\",利用表!AH28=\"訪\"),\"×\",\"\"))","v":""},"0",null,null,null,null,1,"","","","","","",""]
[13,{"$f":"Top!C52","v":0},{"$f":"IF(利用表!D31=\"●\",\"△\",IF(OR(利用表!D30=\"休\",利用表!D30=\"訪\"),\"×\",\"\"))","v":""},{"$f":"IF(利用表!E31=\"●\",\"△\",IF(OR(利用表!E30=\"休\",利用表!E30=\"訪\"),\"×\",\"\"))","v":""},{"$f":"IF(利用表!F31=\"●\",\"△\",IF(OR(利用表!F30=\"休\",利用表!F30=\"訪\"),\"×\",\"\"))","v":""},{"$f":"IF(利用表!G31=\"●\",\"△\",IF(OR(利用表!G30=\"休\",利用表!G30=\"訪\"),\"×\",\"\"))","v":""},{"$f":"IF(利用表!H31=\"●\",\"△\",IF(OR(利用表!H30=\"休\",利用表!H30=\"訪\"),\"×\",\"\"))","v":""},{"$f":"IF(利用表!I31=\"●\",\"△\",IF(OR(利用表!I30=\"休\",利用表!I30=\"訪\"),\"×\",\"\"))","v":""},{"$f":"IF(利用表!J31=\"●\",\"△\",IF(OR(利用表!J30=\"休\",利用表!J30=\"訪\"),\"×\",\"\"))","v":""},{"$f":"IF(利用表!K31=\"●\",\"△\",IF(OR(利用表!K30=\"休\",利用表!K30=\"訪\"),\"×\",\"\"))","v":""},{"$f":"IF(利用表!L31=\"●\",\"△\",IF(OR(利用表!L30=\"休\",利用表!L30=\"訪\"),\"×\",\"\"))","v":""},{"$f":"IF(利用表!M31=\"●\",\"△\",IF(OR(利用表!M30=\"休\",利用表!M30=\"訪\"),\"×\",\"\"))","v":""},{"$f":"IF(利用表!N31=\"●\",\"△\",IF(OR(利用表!N30=\"休\",利用表!N30=\"訪\"),\"×\",\"\"))","v":""},{"$f":"IF(利用表!O31=\"●\",\"△\",IF(OR(利用表!O30=\"休\",利用表!O30=\"訪\"),\"×\",\"\"))","v":""},{"$f":"IF(利用表!P31=\"●\",\"△\",IF(OR(利用表!P30=\"休\",利用表!P30=\"訪\"),\"×\",\"\"))","v":""},{"$f":"IF(利用表!Q31=\"●\",\"△\",IF(OR(利用表!Q30=\"休\",利用表!Q30=\"訪\"),\"×\",\"\"))","v":""},{"$f":"IF(利用表!R31=\"●\",\"△\",IF(OR(利用表!R30=\"休\",利用表!R30=\"訪\"),\"×\",\"\"))","v":""},{"$f":"IF(利用表!S31=\"●\",\"△\",IF(OR(利用表!S30=\"休\",利用表!S30=\"訪\"),\"×\",\"\"))","v":""},{"$f":"IF(利用表!T31=\"●\",\"△\",IF(OR(利用表!T30=\"休\",利用表!T30=\"訪\"),\"×\",\"\"))","v":""},{"$f":"IF(利用表!U31=\"●\",\"△\",IF(OR(利用表!U30=\"休\",利用表!U30=\"訪\"),\"×\",\"\"))","v":""},{"$f":"IF(利用表!V31=\"●\",\"△\",IF(OR(利用表!V30=\"休\",利用表!V30=\"訪\"),\"×\",\"\"))","v":""},{"$f":"IF(利用表!W31=\"●\",\"△\",IF(OR(利用表!W30=\"休\",利用表!W30=\"訪\"),\"×\",\"\"))","v":""},{"$f":"IF(利用表!X31=\"●\",\"△\",IF(OR(利用表!X30=\"休\",利用表!X30=\"訪\"),\"×\",\"\"))","v":""},{"$f":"IF(利用表!Y31=\"●\",\"△\",IF(OR(利用表!Y30=\"休\",利用表!Y30=\"訪\"),\"×\",\"\"))","v":""},{"$f":"IF(利用表!Z31=\"●\",\"△\",IF(OR(利用表!Z30=\"休\",利用表!Z30=\"訪\"),\"×\",\"\"))","v":""},{"$f":"IF(利用表!AA31=\"●\",\"△\",IF(OR(利用表!AA30=\"休\",利用表!AA30=\"訪\"),\"×\",\"\"))","v":""},{"$f":"IF(利用表!AB31=\"●\",\"△\",IF(OR(利用表!AB30=\"休\",利用表!AB30=\"訪\"),\"×\",\"\"))","v":""},{"$f":"IF(利用表!AC31=\"●\",\"△\",IF(OR(利用表!AC30=\"休\",利用表!AC30=\"訪\"),\"×\",\"\"))","v":""},{"$f":"IF(利用表!AD31=\"●\",\"△\",IF(OR(利用表!AD30=\"休\",利用表!AD30=\"訪\"),\"×\",\"\"))","v":""},{"$f":"IF(利用表!AE31=\"●\",\"△\",IF(OR(利用表!AE30=\"休\",利用表!AE30=\"訪\"),\"×\",\"\"))","v":""},{"$f":"IF(利用表!AF31=\"●\",\"△\",IF(OR(利用表!AF30=\"休\",利用表!AF30=\"訪\"),\"×\",\"\"))","v":""},{"$f":"IF(利用表!AG31=\"●\",\"△\",IF(OR(利用表!AG30=\"休\",利用表!AG30=\"訪\"),\"×\",\"\"))","v":""},{"$f":"IF(利用表!AH31=\"●\",\"△\",IF(OR(利用表!AH30=\"休\",利用表!AH30=\"訪\"),\"×\",\"\"))","v":""},"0",null,null,null,null,1,"","","","","","",""]
[14,{"$f":"Top!C53","v":0},{"$f":"IF(利用表!D33=\"●\",\"△\",IF(OR(利用表!D32=\"休\",利用表!D32=\"訪\"),\"×\",\"\"))","v":""},{"$f":"IF(利用表!E33=\"●\",\"△\",IF(OR(利用表!E32=\"休\",利用表!E32=\"訪\"),\"×\",\"\"))","v":""},{"$f":"IF(利用表!F33=\"●\",\"△\",IF(OR(利用表!F32=\"休\",利用表!F32=\"訪\"),\"×\",\"\"))","v":""},{"$f":"IF(利用表!G33=\"●\",\"△\",IF(OR(利用表!G32=\"休\",利用表!G32=\"訪\"),\"×\",\"\"))","v":""},{"$f":"IF(利用表!H33=\"●\",\"△\",IF(OR(利用表!H32=\"休\",利用表!H32=\"訪\"),\"×\",\"\"))","v":""},{"$f":"IF(利用表!I33=\"●\",\"△\",IF(OR(利用表!I32=\"休\",利用表!I32=\"訪\"),\"×\",\"\"))","v":""},{"$f":"IF(利用表!J33=\"●\",\"△\",IF(OR(利用表!J32=\"休\",利用表!J32=\"訪\"),\"×\",\"\"))","v":""},{"$f":"IF(利用表!K33=\"●\",\"△\",IF(OR(利用表!K32=\"休\",利用表!K32=\"訪\"),\"×\",\"\"))","v":""},{"$f":"IF(利用表!L33=\"●\",\"△\",IF(OR(利用表!L32=\"休\",利用表!L32=\"訪\"),\"×\",\"\"))","v":""},{"$f":"IF(利用表!M33=\"●\",\"△\",IF(OR(利用表!M32=\"休\",利用表!M32=\"訪\"),\"×\",\"\"))","v":""},{"$f":"IF(利用表!N33=\"●\",\"△\",IF(OR(利用表!N32=\"休\",利用表!N32=\"訪\"),\"×\",\"\"))","v":""},{"$f":"IF(利用表!O33=\"●\",\"△\",IF(OR(利用表!O32=\"休\",利用表!O32=\"訪\"),\"×\",\"\"))","v":""},{"$f":"IF(利用表!P33=\"●\",\"△\",IF(OR(利用表!P32=\"休\",利用表!P32=\"訪\"),\"×\",\"\"))","v":""},{"$f":"IF(利用表!Q33=\"●\",\"△\",IF(OR(利用表!Q32=\"休\",利用表!Q32=\"訪\"),\"×\",\"\"))","v":""},{"$f":"IF(利用表!R33=\"●\",\"△\",IF(OR(利用表!R32=\"休\",利用表!R32=\"訪\"),\"×\",\"\"))","v":""},{"$f":"IF(利用表!S33=\"●\",\"△\",IF(OR(利用表!S32=\"休\",利用表!S32=\"訪\"),\"×\",\"\"))","v":""},{"$f":"IF(利用表!T33=\"●\",\"△\",IF(OR(利用表!T32=\"休\",利用表!T32=\"訪\"),\"×\",\"\"))","v":""},{"$f":"IF(利用表!U33=\"●\",\"△\",IF(OR(利用表!U32=\"休\",利用表!U32=\"訪\"),\"×\",\"\"))","v":""},{"$f":"IF(利用表!V33=\"●\",\"△\",IF(OR(利用表!V32=\"休\",利用表!V32=\"訪\"),\"×\",\"\"))","v":""},{"$f":"IF(利用表!W33=\"●\",\"△\",IF(OR(利用表!W32=\"休\",利用表!W32=\"訪\"),\"×\",\"\"))","v":""},{"$f":"IF(利用表!X33=\"●\",\"△\",IF(OR(利用表!X32=\"休\",利用表!X32=\"訪\"),\"×\",\"\"))","v":""},{"$f":"IF(利用表!Y33=\"●\",\"△\",IF(OR(利用表!Y32=\"休\",利用表!Y32=\"訪\"),\"×\",\"\"))","v":""},{"$f":"IF(利用表!Z33=\"●\",\"△\",IF(OR(利用表!Z32=\"休\",利用表!Z32=\"訪\"),\"×\",\"\"))","v":""},{"$f":"IF(利用表!AA33=\"●\",\"△\",IF(OR(利用表!AA32=\"休\",利用表!AA32=\"訪\"),\"×\",\"\"))","v":""},{"$f":"IF(利用表!AB33=\"●\",\"△\",IF(OR(利用表!AB32=\"休\",利用表!AB32=\"訪\"),\"×\",\"\"))","v":""},{"$f":"IF(利用表!AC33=\"●\",\"△\",IF(OR(利用表!AC32=\"休\",利用表!AC32=\"訪\"),\"×\",\"\"))","v":""},{"$f":"IF(利用表!AD33=\"●\",\"△\",IF(OR(利用表!AD32=\"休\",利用表!AD32=\"訪\"),\"×\",\"\"))","v":""},{"$f":"IF(利用表!AE33=\"●\",\"△\",IF(OR(利用表!AE32=\"休\",利用表!AE32=\"訪\"),\"×\",\"\"))","v":""},{"$f":"IF(利用表!AF33=\"●\",\"△\",IF(OR(利用表!AF32=\"休\",利用表!AF32=\"訪\"),\"×\",\"\"))","v":""},{"$f":"IF(利用表!AG33=\"●\",\"△\",IF(OR(利用表!AG32=\"休\",利用表!AG32=\"訪\"),\"×\",\"\"))","v":""},{"$f":"IF(利用表!AH33=\"●\",\"△\",IF(OR(利用表!AH32=\"休\",利用表!AH32=\"訪\"),\"×\",\"\"))","v":""},"0",null,null,null,null,1,"","","","","","",""]
[15,{"$f":"Top!C54","v":0},{"$f":"IF(利用表!D35=\"●\",\"△\",IF(OR(利用表!D34=\"休\",利用表!D34=\"訪\"),\"×\",\"\"))","v":""},{"$f":"IF(利用表!E35=\"●\",\"△\",IF(OR(利用表!E34=\"休\",利用表!E34=\"訪\"),\"×\",\"\"))","v":""},{"$f":"IF(利用表!F35=\"●\",\"△\",IF(OR(利用表!F34=\"休\",利用表!F34=\"訪\"),\"×\",\"\"))","v":""},{"$f":"IF(利用表!G35=\"●\",\"△\",IF(OR(利用表!G34=\"休\",利用表!G34=\"訪\"),\"×\",\"\"))","v":""},{"$f":"IF(利用表!H35=\"●\",\"△\",IF(OR(利用表!H34=\"休\",利用表!H34=\"訪\"),\"×\",\"\"))","v":""},{"$f":"IF(利用表!I35=\"●\",\"△\",IF(OR(利用表!I34=\"休\",利用表!I34=\"訪\"),\"×\",\"\"))","v":""},{"$f":"IF(利用表!J35=\"●\",\"△\",IF(OR(利用表!J34=\"休\",利用表!J34=\"訪\"),\"×\",\"\"))","v":""},{"$f":"IF(利用表!K35=\"●\",\"△\",IF(OR(利用表!K34=\"休\",利用表!K34=\"訪\"),\"×\",\"\"))","v":""},{"$f":"IF(利用表!L35=\"●\",\"△\",IF(OR(利用表!L34=\"休\",利用表!L34=\"訪\"),\"×\",\"\"))","v":""},{"$f":"IF(利用表!M35=\"●\",\"△\",IF(OR(利用表!M34=\"休\",利用表!M34=\"訪\"),\"×\",\"\"))","v":""},{"$f":"IF(利用表!N35=\"●\",\"△\",IF(OR(利用表!N34=\"休\",利用表!N34=\"訪\"),\"×\",\"\"))","v":""},{"$f":"IF(利用表!O35=\"●\",\"△\",IF(OR(利用表!O34=\"休\",利用表!O34=\"訪\"),\"×\",\"\"))","v":""},{"$f":"IF(利用表!P35=\"●\",\"△\",IF(OR(利用表!P34=\"休\",利用表!P34=\"訪\"),\"×\",\"\"))","v":""},{"$f":"IF(利用表!Q35=\"●\",\"△\",IF(OR(利用表!Q34=\"休\",利用表!Q34=\"訪\"),\"×\",\"\"))","v":""},{"$f":"IF(利用表!R35=\"●\",\"△\",IF(OR(利用表!R34=\"休\",利用表!R34=\"訪\"),\"×\",\"\"))","v":""},{"$f":"IF(利用表!S35=\"●\",\"△\",IF(OR(利用表!S34=\"休\",利用表!S34=\"訪\"),\"×\",\"\"))","v":""},{"$f":"IF(利用表!T35=\"●\",\"△\",IF(OR(利用表!T34=\"休\",利用表!T34=\"訪\"),\"×\",\"\"))","v":""},{"$f":"IF(利用表!U35=\"●\",\"△\",IF(OR(利用表!U34=\"休\",利用表!U34=\"訪\"),\"×\",\"\"))","v":""},{"$f":"IF(利用表!V35=\"●\",\"△\",IF(OR(利用表!V34=\"休\",利用表!V34=\"訪\"),\"×\",\"\"))","v":""},{"$f":"IF(利用表!W35=\"●\",\"△\",IF(OR(利用表!W34=\"休\",利用表!W34=\"訪\"),\"×\",\"\"))","v":""},{"$f":"IF(利用表!X35=\"●\",\"△\",IF(OR(利用表!X34=\"休\",利用表!X34=\"訪\"),\"×\",\"\"))","v":""},{"$f":"IF(利用表!Y35=\"●\",\"△\",IF(OR(利用表!Y34=\"休\",利用表!Y34=\"訪\"),\"×\",\"\"))","v":""},{"$f":"IF(利用表!Z35=\"●\",\"△\",IF(OR(利用表!Z34=\"休\",利用表!Z34=\"訪\"),\"×\",\"\"))","v":""},{"$f":"IF(利用表!AA35=\"●\",\"△\",IF(OR(利用表!AA34=\"休\",利用表!AA34=\"訪\"),\"×\",\"\"))","v":""},{"$f":"IF(利用表!AB35=\"●\",\"△\",IF(OR(利用表!AB34=\"休\",利用表!AB34=\"訪\"),\"×\",\"\"))","v":""},{"$f":"IF(利用表!AC35=\"●\",\"△\",IF(OR(利用表!AC34=\"休\",利用表!AC34=\"訪\"),\"×\",\"\"))","v":""},{"$f":"IF(利用表!AD35=\"●\",\"△\",IF(OR(利用表!AD34=\"休\",利用表!AD34=\"訪\"),\"×\",\"\"))","v":""},{"$f":"IF(利用表!AE35=\"●\",\"△\",IF(OR(利用表!AE34=\"休\",利用表!AE34=\"訪\"),\"×\",\"\"))","v":""},{"$f":"IF(利用表!AF35=\"●\",\"△\",IF(OR(利用表!AF34=\"休\",利用表!AF34=\"訪\"),\"×\",\"\"))","v":""},{"$f":"IF(利用表!AG35=\"●\",\"△\",IF(OR(利用表!AG34=\"休\",利用表!AG34=\"訪\"),\"×\",\"\"))","v":""},{"$f":"IF(利用表!AH35=\"●\",\"△\",IF(OR(利用表!AH34=\"休\",利用表!AH34=\"訪\"),\"×\",\"\"))","v":""},"0",null,null,null,null,1,"","","","","","",""]
[16,{"$f":"Top!C55","v":0},{"$f":"IF(利用表!D37=\"●\",\"△\",IF(OR(利用表!D36=\"休\",利用表!D36=\"訪\"),\"×\",\"\"))","v":""},{"$f":"IF(利用表!E37=\"●\",\"△\",IF(OR(利用表!E36=\"休\",利用表!E36=\"訪\"),\"×\",\"\"))","v":""},{"$f":"IF(利用表!F37=\"●\",\"△\",IF(OR(利用表!F36=\"休\",利用表!F36=\"訪\"),\"×\",\"\"))","v":""},{"$f":"IF(利用表!G37=\"●\",\"△\",IF(OR(利用表!G36=\"休\",利用表!G36=\"訪\"),\"×\",\"\"))","v":""},{"$f":"IF(利用表!H37=\"●\",\"△\",IF(OR(利用表!H36=\"休\",利用表!H36=\"訪\"),\"×\",\"\"))","v":""},{"$f":"IF(利用表!I37=\"●\",\"△\",IF(OR(利用表!I36=\"休\",利用表!I36=\"訪\"),\"×\",\"\"))","v":""},{"$f":"IF(利用表!J37=\"●\",\"△\",IF(OR(利用表!J36=\"休\",利用表!J36=\"訪\"),\"×\",\"\"))","v":""},{"$f":"IF(利用表!K37=\"●\",\"△\",IF(OR(利用表!K36=\"休\",利用表!K36=\"訪\"),\"×\",\"\"))","v":""},{"$f":"IF(利用表!L37=\"●\",\"△\",IF(OR(利用表!L36=\"休\",利用表!L36=\"訪\"),\"×\",\"\"))","v":""},{"$f":"IF(利用表!M37=\"●\",\"△\",IF(OR(利用表!M36=\"休\",利用表!M36=\"訪\"),\"×\",\"\"))","v":""},{"$f":"IF(利用表!N37=\"●\",\"△\",IF(OR(利用表!N36=\"休\",利用表!N36=\"訪\"),\"×\",\"\"))","v":""},{"$f":"IF(利用表!O37=\"●\",\"△\",IF(OR(利用表!O36=\"休\",利用表!O36=\"訪\"),\"×\",\"\"))","v":""},{"$f":"IF(利用表!P37=\"●\",\"△\",IF(OR(利用表!P36=\"休\",利用表!P36=\"訪\"),\"×\",\"\"))","v":""},{"$f":"IF(利用表!Q37=\"●\",\"△\",IF(OR(利用表!Q36=\"休\",利用表!Q36=\"訪\"),\"×\",\"\"))","v":""},{"$f":"IF(利用表!R37=\"●\",\"△\",IF(OR(利用表!R36=\"休\",利用表!R36=\"訪\"),\"×\",\"\"))","v":""},{"$f":"IF(利用表!S37=\"●\",\"△\",IF(OR(利用表!S36=\"休\",利用表!S36=\"訪\"),\"×\",\"\"))","v":""},{"$f":"IF(利用表!T37=\"●\",\"△\",IF(OR(利用表!T36=\"休\",利用表!T36=\"訪\"),\"×\",\"\"))","v":""},{"$f":"IF(利用表!U37=\"●\",\"△\",IF(OR(利用表!U36=\"休\",利用表!U36=\"訪\"),\"×\",\"\"))","v":""},{"$f":"IF(利用表!V37=\"●\",\"△\",IF(OR(利用表!V36=\"休\",利用表!V36=\"訪\"),\"×\",\"\"))","v":""},{"$f":"IF(利用表!W37=\"●\",\"△\",IF(OR(利用表!W36=\"休\",利用表!W36=\"訪\"),\"×\",\"\"))","v":""},{"$f":"IF(利用表!X37=\"●\",\"△\",IF(OR(利用表!X36=\"休\",利用表!X36=\"訪\"),\"×\",\"\"))","v":""},{"$f":"IF(利用表!Y37=\"●\",\"△\",IF(OR(利用表!Y36=\"休\",利用表!Y36=\"訪\"),\"×\",\"\"))","v":""},{"$f":"IF(利用表!Z37=\"●\",\"△\",IF(OR(利用表!Z36=\"休\",利用表!Z36=\"訪\"),\"×\",\"\"))","v":""},{"$f":"IF(利用表!AA37=\"●\",\"△\",IF(OR(利用表!AA36=\"休\",利用表!AA36=\"訪\"),\"×\",\"\"))","v":""},{"$f":"IF(利用表!AB37=\"●\",\"△\",IF(OR(利用表!AB36=\"休\",利用表!AB36=\"訪\"),\"×\",\"\"))","v":""},{"$f":"IF(利用表!AC37=\"●\",\"△\",IF(OR(利用表!AC36=\"休\",利用表!AC36=\"訪\"),\"×\",\"\"))","v":""},{"$f":"IF(利用表!AD37=\"●\",\"△\",IF(OR(利用表!AD36=\"休\",利用表!AD36=\"訪\"),\"×\",\"\"))","v":""},{"$f":"IF(利用表!AE37=\"●\",\"△\",IF(OR(利用表!AE36=\"休\",利用表!AE36=\"訪\"),\"×\",\"\"))","v":""},{"$f":"IF(利用表!AF37=\"●\",\"△\",IF(OR(利用表!AF36=\"休\",利用表!AF36=\"訪\"),\"×\",\"\"))","v":""},{"$f":"IF(利用表!AG37=\"●\",\"△\",IF(OR(利用表!AG36=\"休\",利用表!AG36=\"訪\"),\"×\",\"\"))","v":""},{"$f":"IF(利用表!AH37=\"●\",\"△\",IF(OR(利用表!AH36=\"休\",利用表!AH36=\"訪\"),\"×\",\"\"))","v":""},"0",null,null,null,null,1,"","","","","","",""]
[17,{"$f":"Top!C56","v":0},{"$f":"IF(利用表!D39=\"●\",\"△\",IF(OR(利用表!D38=\"休\",利用表!D38=\"訪\"),\"×\",\"\"))","v":""},{"$f":"IF(利用表!E39=\"●\",\"△\",IF(OR(利用表!E38=\"休\",利用表!E38=\"訪\"),\"×\",\"\"))","v":""},{"$f":"IF(利用表!F39=\"●\",\"△\",IF(OR(利用表!F38=\"休\",利用表!F38=\"訪\"),\"×\",\"\"))","v":""},{"$f":"IF(利用表!G39=\"●\",\"△\",IF(OR(利用表!G38=\"休\",利用表!G38=\"訪\"),\"×\",\"\"))","v":""},{"$f":"IF(利用表!H39=\"●\",\"△\",IF(OR(利用表!H38=\"休\",利用表!H38=\"訪\"),\"×\",\"\"))","v":""},{"$f":"IF(利用表!I39=\"●\",\"△\",IF(OR(利用表!I38=\"休\",利用表!I38=\"訪\"),\"×\",\"\"))","v":""},{"$f":"IF(利用表!J39=\"●\",\"△\",IF(OR(利用表!J38=\"休\",利用表!J38=\"訪\"),\"×\",\"\"))","v":""},{"$f":"IF(利用表!K39=\"●\",\"△\",IF(OR(利用表!K38=\"休\",利用表!K38=\"訪\"),\"×\",\"\"))","v":""},{"$f":"IF(利用表!L39=\"●\",\"△\",IF(OR(利用表!L38=\"休\",利用表!L38=\"訪\"),\"×\",\"\"))","v":""},{"$f":"IF(利用表!M39=\"●\",\"△\",IF(OR(利用表!M38=\"休\",利用表!M38=\"訪\"),\"×\",\"\"))","v":""},{"$f":"IF(利用表!N39=\"●\",\"△\",IF(OR(利用表!N38=\"休\",利用表!N38=\"訪\"),\"×\",\"\"))","v":""},{"$f":"IF(利用表!O39=\"●\",\"△\",IF(OR(利用表!O38=\"休\",利用表!O38=\"訪\"),\"×\",\"\"))","v":""},{"$f":"IF(利用表!P39=\"●\",\"△\",IF(OR(利用表!P38=\"休\",利用表!P38=\"訪\"),\"×\",\"\"))","v":""},{"$f":"IF(利用表!Q39=\"●\",\"△\",IF(OR(利用表!Q38=\"休\",利用表!Q38=\"訪\"),\"×\",\"\"))","v":""},{"$f":"IF(利用表!R39=\"●\",\"△\",IF(OR(利用表!R38=\"休\",利用表!R38=\"訪\"),\"×\",\"\"))","v":""},{"$f":"IF(利用表!S39=\"●\",\"△\",IF(OR(利用表!S38=\"休\",利用表!S38=\"訪\"),\"×\",\"\"))","v":""},{"$f":"IF(利用表!T39=\"●\",\"△\",IF(OR(利用表!T38=\"休\",利用表!T38=\"訪\"),\"×\",\"\"))","v":""},{"$f":"IF(利用表!U39=\"●\",\"△\",IF(OR(利用表!U38=\"休\",利用表!U38=\"訪\"),\"×\",\"\"))","v":""},{"$f":"IF(利用表!V39=\"●\",\"△\",IF(OR(利用表!V38=\"休\",利用表!V38=\"訪\"),\"×\",\"\"))","v":""},{"$f":"IF(利用表!W39=\"●\",\"△\",IF(OR(利用表!W38=\"休\",利用表!W38=\"訪\"),\"×\",\"\"))","v":""},{"$f":"IF(利用表!X39=\"●\",\"△\",IF(OR(利用表!X38=\"休\",利用表!X38=\"訪\"),\"×\",\"\"))","v":""},{"$f":"IF(利用表!Y39=\"●\",\"△\",IF(OR(利用表!Y38=\"休\",利用表!Y38=\"訪\"),\"×\",\"\"))","v":""},{"$f":"IF(利用表!Z39=\"●\",\"△\",IF(OR(利用表!Z38=\"休\",利用表!Z38=\"訪\"),\"×\",\"\"))","v":""},{"$f":"IF(利用表!AA39=\"●\",\"△\",IF(OR(利用表!AA38=\"休\",利用表!AA38=\"訪\"),\"×\",\"\"))","v":""},{"$f":"IF(利用表!AB39=\"●\",\"△\",IF(OR(利用表!AB38=\"休\",利用表!AB38=\"訪\"),\"×\",\"\"))","v":""},{"$f":"IF(利用表!AC39=\"●\",\"△\",IF(OR(利用表!AC38=\"休\",利用表!AC38=\"訪\"),\"×\",\"\"))","v":""},{"$f":"IF(利用表!AD39=\"●\",\"△\",IF(OR(利用表!AD38=\"休\",利用表!AD38=\"訪\"),\"×\",\"\"))","v":""},{"$f":"IF(利用表!AE39=\"●\",\"△\",IF(OR(利用表!AE38=\"休\",利用表!AE38=\"訪\"),\"×\",\"\"))","v":""},{"$f":"IF(利用表!AF39=\"●\",\"△\",IF(OR(利用表!AF38=\"休\",利用表!AF38=\"訪\"),\"×\",\"\"))","v":""},{"$f":"IF(利用表!AG39=\"●\",\"△\",IF(OR(利用表!AG38=\"休\",利用表!AG38=\"訪\"),\"×\",\"\"))","v":""},{"$f":"IF(利用表!AH39=\"●\",\"△\",IF(OR(利用表!AH38=\"休\",利用表!AH38=\"訪\"),\"×\",\"\"))","v":""},"0",null,null,null,null,1,"","","","","","",""]
[18,{"$f":"Top!C57","v":0},{"$f":"IF(利用表!D41=\"●\",\"△\",IF(OR(利用表!D40=\"休\",利用表!D40=\"訪\"),\"×\",\"\"))","v":""},{"$f":"IF(利用表!E41=\"●\",\"△\",IF(OR(利用表!E40=\"休\",利用表!E40=\"訪\"),\"×\",\"\"))","v":""},{"$f":"IF(利用表!F41=\"●\",\"△\",IF(OR(利用表!F40=\"休\",利用表!F40=\"訪\"),\"×\",\"\"))","v":""},{"$f":"IF(利用表!G41=\"●\",\"△\",IF(OR(利用表!G40=\"休\",利用表!G40=\"訪\"),\"×\",\"\"))","v":""},{"$f":"IF(利用表!H41=\"●\",\"△\",IF(OR(利用表!H40=\"休\",利用表!H40=\"訪\"),\"×\",\"\"))","v":""},{"$f":"IF(利用表!I41=\"●\",\"△\",IF(OR(利用表!I40=\"休\",利用表!I40=\"訪\"),\"×\",\"\"))","v":""},{"$f":"IF(利用表!J41=\"●\",\"△\",IF(OR(利用表!J40=\"休\",利用表!J40=\"訪\"),\"×\",\"\"))","v":""},{"$f":"IF(利用表!K41=\"●\",\"△\",IF(OR(利用表!K40=\"休\",利用表!K40=\"訪\"),\"×\",\"\"))","v":""},{"$f":"IF(利用表!L41=\"●\",\"△\",IF(OR(利用表!L40=\"休\",利用表!L40=\"訪\"),\"×\",\"\"))","v":""},{"$f":"IF(利用表!M41=\"●\",\"△\",IF(OR(利用表!M40=\"休\",利用表!M40=\"訪\"),\"×\",\"\"))","v":""},{"$f":"IF(利用表!N41=\"●\",\"△\",IF(OR(利用表!N40=\"休\",利用表!N40=\"訪\"),\"×\",\"\"))","v":""},{"$f":"IF(利用表!O41=\"●\",\"△\",IF(OR(利用表!O40=\"休\",利用表!O40=\"訪\"),\"×\",\"\"))","v":""},{"$f":"IF(利用表!P41=\"●\",\"△\",IF(OR(利用表!P40=\"休\",利用表!P40=\"訪\"),\"×\",\"\"))","v":""},{"$f":"IF(利用表!Q41=\"●\",\"△\",IF(OR(利用表!Q40=\"休\",利用表!Q40=\"訪\"),\"×\",\"\"))","v":""},{"$f":"IF(利用表!R41=\"●\",\"△\",IF(OR(利用表!R40=\"休\",利用表!R40=\"訪\"),\"×\",\"\"))","v":""},{"$f":"IF(利用表!S41=\"●\",\"△\",IF(OR(利用表!S40=\"休\",利用表!S40=\"訪\"),\"×\",\"\"))","v":""},{"$f":"IF(利用表!T41=\"●\",\"△\",IF(OR(利用表!T40=\"休\",利用表!T40=\"訪\"),\"×\",\"\"))","v":""},{"$f":"IF(利用表!U41=\"●\",\"△\",IF(OR(利用表!U40=\"休\",利用表!U40=\"訪\"),\"×\",\"\"))","v":""},{"$f":"IF(利用表!V41=\"●\",\"△\",IF(OR(利用表!V40=\"休\",利用表!V40=\"訪\"),\"×\",\"\"))","v":""},{"$f":"IF(利用表!W41=\"●\",\"△\",IF(OR(利用表!W40=\"休\",利用表!W40=\"訪\"),\"×\",\"\"))","v":""},{"$f":"IF(利用表!X41=\"●\",\"△\",IF(OR(利用表!X40=\"休\",利用表!X40=\"訪\"),\"×\",\"\"))","v":""},{"$f":"IF(利用表!Y41=\"●\",\"△\",IF(OR(利用表!Y40=\"休\",利用表!Y40=\"訪\"),\"×\",\"\"))","v":""},{"$f":"IF(利用表!Z41=\"●\",\"△\",IF(OR(利用表!Z40=\"休\",利用表!Z40=\"訪\"),\"×\",\"\"))","v":""},{"$f":"IF(利用表!AA41=\"●\",\"△\",IF(OR(利用表!AA40=\"休\",利用表!AA40=\"訪\"),\"×\",\"\"))","v":""},{"$f":"IF(利用表!AB41=\"●\",\"△\",IF(OR(利用表!AB40=\"休\",利用表!AB40=\"訪\"),\"×\",\"\"))","v":""},{"$f":"IF(利用表!AC41=\"●\",\"△\",IF(OR(利用表!AC40=\"休\",利用表!AC40=\"訪\"),\"×\",\"\"))","v":""},{"$f":"IF(利用表!AD41=\"●\",\"△\",IF(OR(利用表!AD40=\"休\",利用表!AD40=\"訪\"),\"×\",\"\"))","v":""},{"$f":"IF(利用表!AE41=\"●\",\"△\",IF(OR(利用表!AE40=\"休\",利用表!AE40=\"訪\"),\"×\",\"\"))","v":""},{"$f":"IF(利用表!AF41=\"●\",\"△\",IF(OR(利用表!AF40=\"休\",利用表!AF40=\"訪\"),\"×\",\"\"))","v":""},{"$f":"IF(利用表!AG41=\"●\",\"△\",IF(OR(利用表!AG40=\"休\",利用表!AG40=\"訪\"),\"×\",\"\"))","v":""},{"$f":"IF(利用表!AH41=\"●\",\"△\",IF(OR(利用表!AH40=\"休\",利用表!AH40=\"訪\"),\"×\",\"\"))","v":""},"0",null,null,null,null,1,"","","","","","",""]
[19,{"$f":"Top!C58","v":0},{"$f":"IF(利用表!D43=\"●\",\"△\",IF(OR(利用表!D42=\"休\",利用表!D42=\"訪\"),\"×\",\"\"))","v":""},{"$f":"IF(利用表!E43=\"●\",\"△\",IF(OR(利用表!E42=\"休\",利用表!E42=\"訪\"),\"×\",\"\"))","v":""},{"$f":"IF(利用表!F43=\"●\",\"△\",IF(OR(利用表!F42=\"休\",利用表!F42=\"訪\"),\"×\",\"\"))","v":""},{"$f":"IF(利用表!G43=\"●\",\"△\",IF(OR(利用表!G42=\"休\",利用表!G42=\"訪\"),\"×\",\"\"))","v":""},{"$f":"IF(利用表!H43=\"●\",\"△\",IF(OR(利用表!H42=\"休\",利用表!H42=\"訪\"),\"×\",\"\"))","v":""},{"$f":"IF(利用表!I43=\"●\",\"△\",IF(OR(利用表!I42=\"休\",利用表!I42=\"訪\"),\"×\",\"\"))","v":""},{"$f":"IF(利用表!J43=\"●\",\"△\",IF(OR(利用表!J42=\"休\",利用表!J42=\"訪\"),\"×\",\"\"))","v":""},{"$f":"IF(利用表!K43=\"●\",\"△\",IF(OR(利用表!K42=\"休\",利用表!K42=\"訪\"),\"×\",\"\"))","v":""},{"$f":"IF(利用表!L43=\"●\",\"△\",IF(OR(利用表!L42=\"休\",利用表!L42=\"訪\"),\"×\",\"\"))","v":""},{"$f":"IF(利用表!M43=\"●\",\"△\",IF(OR(利用表!M42=\"休\",利用表!M42=\"訪\"),\"×\",\"\"))","v":""},{"$f":"IF(利用表!N43=\"●\",\"△\",IF(OR(利用表!N42=\"休\",利用表!N42=\"訪\"),\"×\",\"\"))","v":""},{"$f":"IF(利用表!O43=\"●\",\"△\",IF(OR(利用表!O42=\"休\",利用表!O42=\"訪\"),\"×\",\"\"))","v":""},{"$f":"IF(利用表!P43=\"●\",\"△\",IF(OR(利用表!P42=\"休\",利用表!P42=\"訪\"),\"×\",\"\"))","v":""},{"$f":"IF(利用表!Q43=\"●\",\"△\",IF(OR(利用表!Q42=\"休\",利用表!Q42=\"訪\"),\"×\",\"\"))","v":""},{"$f":"IF(利用表!R43=\"●\",\"△\",IF(OR(利用表!R42=\"休\",利用表!R42=\"訪\"),\"×\",\"\"))","v":""},{"$f":"IF(利用表!S43=\"●\",\"△\",IF(OR(利用表!S42=\"休\",利用表!S42=\"訪\"),\"×\",\"\"))","v":""},{"$f":"IF(利用表!T43=\"●\",\"△\",IF(OR(利用表!T42=\"休\",利用表!T42=\"訪\"),\"×\",\"\"))","v":""},{"$f":"IF(利用表!U43=\"●\",\"△\",IF(OR(利用表!U42=\"休\",利用表!U42=\"訪\"),\"×\",\"\"))","v":""},{"$f":"IF(利用表!V43=\"●\",\"△\",IF(OR(利用表!V42=\"休\",利用表!V42=\"訪\"),\"×\",\"\"))","v":""},{"$f":"IF(利用表!W43=\"●\",\"△\",IF(OR(利用表!W42=\"休\",利用表!W42=\"訪\"),\"×\",\"\"))","v":""},{"$f":"IF(利用表!X43=\"●\",\"△\",IF(OR(利用表!X42=\"休\",利用表!X42=\"訪\"),\"×\",\"\"))","v":""},{"$f":"IF(利用表!Y43=\"●\",\"△\",IF(OR(利用表!Y42=\"休\",利用表!Y42=\"訪\"),\"×\",\"\"))","v":""},{"$f":"IF(利用表!Z43=\"●\",\"△\",IF(OR(利用表!Z42=\"休\",利用表!Z42=\"訪\"),\"×\",\"\"))","v":""},{"$f":"IF(利用表!AA43=\"●\",\"△\",IF(OR(利用表!AA42=\"休\",利用表!AA42=\"訪\"),\"×\",\"\"))","v":""},{"$f":"IF(利用表!AB43=\"●\",\"△\",IF(OR(利用表!AB42=\"休\",利用表!AB42=\"訪\"),\"×\",\"\"))","v":""},{"$f":"IF(利用表!AC43=\"●\",\"△\",IF(OR(利用表!AC42=\"休\",利用表!AC42=\"訪\"),\"×\",\"\"))","v":""},{"$f":"IF(利用表!AD43=\"●\",\"△\",IF(OR(利用表!AD42=\"休\",利用表!AD42=\"訪\"),\"×\",\"\"))","v":""},{"$f":"IF(利用表!AE43=\"●\",\"△\",IF(OR(利用表!AE42=\"休\",利用表!AE42=\"訪\"),\"×\",\"\"))","v":""},{"$f":"IF(利用表!AF43=\"●\",\"△\",IF(OR(利用表!AF42=\"休\",利用表!AF42=\"訪\"),\"×\",\"\"))","v":""},{"$f":"IF(利用表!AG43=\"●\",\"△\",IF(OR(利用表!AG42=\"休\",利用表!AG42=\"訪\"),\"×\",\"\"))","v":""},{"$f":"IF(利用表!AH43=\"●\",\"△\",IF(OR(利用表!AH42=\"休\",利用表!AH42=\"訪\"),\"×\",\"\"))","v":""},"0",null,null,null,null,1,"","","","","","",""]
[20,{"$f":"Top!C59","v":0},{"$f":"IF(利用表!D45=\"●\",\"△\",IF(OR(利用表!D44=\"休\",利用表!D44=\"訪\"),\"×\",\"\"))","v":""},{"$f":"IF(利用表!E45=\"●\",\"△\",IF(OR(利用表!E44=\"休\",利用表!E44=\"訪\"),\"×\",\"\"))","v":""},{"$f":"IF(利用表!F45=\"●\",\"△\",IF(OR(利用表!F44=\"休\",利用表!F44=\"訪\"),\"×\",\"\"))","v":""},{"$f":"IF(利用表!G45=\"●\",\"△\",IF(OR(利用表!G44=\"休\",利用表!G44=\"訪\"),\"×\",\"\"))","v":""},{"$f":"IF(利用表!H45=\"●\",\"△\",IF(OR(利用表!H44=\"休\",利用表!H44=\"訪\"),\"×\",\"\"))","v":""},{"$f":"IF(利用表!I45=\"●\",\"△\",IF(OR(利用表!I44=\"休\",利用表!I44=\"訪\"),\"×\",\"\"))","v":""},{"$f":"IF(利用表!J45=\"●\",\"△\",IF(OR(利用表!J44=\"休\",利用表!J44=\"訪\"),\"×\",\"\"))","v":""},{"$f":"IF(利用表!K45=\"●\",\"△\",IF(OR(利用表!K44=\"休\",利用表!K44=\"訪\"),\"×\",\"\"))","v":""},{"$f":"IF(利用表!L45=\"●\",\"△\",IF(OR(利用表!L44=\"休\",利用表!L44=\"訪\"),\"×\",\"\"))","v":""},{"$f":"IF(利用表!M45=\"●\",\"△\",IF(OR(利用表!M44=\"休\",利用表!M44=\"訪\"),\"×\",\"\"))","v":""},{"$f":"IF(利用表!N45=\"●\",\"△\",IF(OR(利用表!N44=\"休\",利用表!N44=\"訪\"),\"×\",\"\"))","v":""},{"$f":"IF(利用表!O45=\"●\",\"△\",IF(OR(利用表!O44=\"休\",利用表!O44=\"訪\"),\"×\",\"\"))","v":""},{"$f":"IF(利用表!P45=\"●\",\"△\",IF(OR(利用表!P44=\"休\",利用表!P44=\"訪\"),\"×\",\"\"))","v":""},{"$f":"IF(利用表!Q45=\"●\",\"△\",IF(OR(利用表!Q44=\"休\",利用表!Q44=\"訪\"),\"×\",\"\"))","v":""},{"$f":"IF(利用表!R45=\"●\",\"△\",IF(OR(利用表!R44=\"休\",利用表!R44=\"訪\"),\"×\",\"\"))","v":""},{"$f":"IF(利用表!S45=\"●\",\"△\",IF(OR(利用表!S44=\"休\",利用表!S44=\"訪\"),\"×\",\"\"))","v":""},{"$f":"IF(利用表!T45=\"●\",\"△\",IF(OR(利用表!T44=\"休\",利用表!T44=\"訪\"),\"×\",\"\"))","v":""},{"$f":"IF(利用表!U45=\"●\",\"△\",IF(OR(利用表!U44=\"休\",利用表!U44=\"訪\"),\"×\",\"\"))","v":""},{"$f":"IF(利用表!V45=\"●\",\"△\",IF(OR(利用表!V44=\"休\",利用表!V44=\"訪\"),\"×\",\"\"))","v":""},{"$f":"IF(利用表!W45=\"●\",\"△\",IF(OR(利用表!W44=\"休\",利用表!W44=\"訪\"),\"×\",\"\"))","v":""},{"$f":"IF(利用表!X45=\"●\",\"△\",IF(OR(利用表!X44=\"休\",利用表!X44=\"訪\"),\"×\",\"\"))","v":""},{"$f":"IF(利用表!Y45=\"●\",\"△\",IF(OR(利用表!Y44=\"休\",利用表!Y44=\"訪\"),\"×\",\"\"))","v":""},{"$f":"IF(利用表!Z45=\"●\",\"△\",IF(OR(利用表!Z44=\"休\",利用表!Z44=\"訪\"),\"×\",\"\"))","v":""},{"$f":"IF(利用表!AA45=\"●\",\"△\",IF(OR(利用表!AA44=\"休\",利用表!AA44=\"訪\"),\"×\",\"\"))","v":""},{"$f":"IF(利用表!AB45=\"●\",\"△\",IF(OR(利用表!AB44=\"休\",利用表!AB44=\"訪\"),\"×\",\"\"))","v":""},{"$f":"IF(利用表!AC45=\"●\",\"△\",IF(OR(利用表!AC44=\"休\",利用表!AC44=\"訪\"),\"×\",\"\"))","v":""},{"$f":"IF(利用表!AD45=\"●\",\"△\",IF(OR(利用表!AD44=\"休\",利用表!AD44=\"訪\"),\"×\",\"\"))","v":""},{"$f":"IF(利用表!AE45=\"●\",\"△\",IF(OR(利用表!AE44=\"休\",利用表!AE44=\"訪\"),\"×\",\"\"))","v":""},{"$f":"IF(利用表!AF45=\"●\",\"△\",IF(OR(利用表!AF44=\"休\",利用表!AF44=\"訪\"),\"×\",\"\"))","v":""},{"$f":"IF(利用表!AG45=\"●\",\"△\",IF(OR(利用表!AG44=\"休\",利用表!AG44=\"訪\"),\"×\",\"\"))","v":""},{"$f":"IF(利用表!AH45=\"●\",\"△\",IF(OR(利用表!AH44=\"休\",利用表!AH44=\"訪\"),\"×\",\"\"))","v":""},"0",null,null,null,null,1,"","","","","","",""]
[21,{"$f":"Top!C60","v":0},{"$f":"IF(利用表!D47=\"●\",\"△\",IF(OR(利用表!D46=\"休\",利用表!D46=\"訪\"),\"×\",\"\"))","v":""},{"$f":"IF(利用表!E47=\"●\",\"△\",IF(OR(利用表!E46=\"休\",利用表!E46=\"訪\"),\"×\",\"\"))","v":""},{"$f":"IF(利用表!F47=\"●\",\"△\",IF(OR(利用表!F46=\"休\",利用表!F46=\"訪\"),\"×\",\"\"))","v":""},{"$f":"IF(利用表!G47=\"●\",\"△\",IF(OR(利用表!G46=\"休\",利用表!G46=\"訪\"),\"×\",\"\"))","v":""},{"$f":"IF(利用表!H47=\"●\",\"△\",IF(OR(利用表!H46=\"休\",利用表!H46=\"訪\"),\"×\",\"\"))","v":""},{"$f":"IF(利用表!I47=\"●\",\"△\",IF(OR(利用表!I46=\"休\",利用表!I46=\"訪\"),\"×\",\"\"))","v":""},{"$f":"IF(利用表!J47=\"●\",\"△\",IF(OR(利用表!J46=\"休\",利用表!J46=\"訪\"),\"×\",\"\"))","v":""},{"$f":"IF(利用表!K47=\"●\",\"△\",IF(OR(利用表!K46=\"休\",利用表!K46=\"訪\"),\"×\",\"\"))","v":""},{"$f":"IF(利用表!L47=\"●\",\"△\",IF(OR(利用表!L46=\"休\",利用表!L46=\"訪\"),\"×\",\"\"))","v":""},{"$f":"IF(利用表!M47=\"●\",\"△\",IF(OR(利用表!M46=\"休\",利用表!M46=\"訪\"),\"×\",\"\"))","v":""},{"$f":"IF(利用表!N47=\"●\",\"△\",IF(OR(利用表!N46=\"休\",利用表!N46=\"訪\"),\"×\",\"\"))","v":""},{"$f":"IF(利用表!O47=\"●\",\"△\",IF(OR(利用表!O46=\"休\",利用表!O46=\"訪\"),\"×\",\"\"))","v":""},{"$f":"IF(利用表!P47=\"●\",\"△\",IF(OR(利用表!P46=\"休\",利用表!P46=\"訪\"),\"×\",\"\"))","v":""},{"$f":"IF(利用表!Q47=\"●\",\"△\",IF(OR(利用表!Q46=\"休\",利用表!Q46=\"訪\"),\"×\",\"\"))","v":""},{"$f":"IF(利用表!R47=\"●\",\"△\",IF(OR(利用表!R46=\"休\",利用表!R46=\"訪\"),\"×\",\"\"))","v":""},{"$f":"IF(利用表!S47=\"●\",\"△\",IF(OR(利用表!S46=\"休\",利用表!S46=\"訪\"),\"×\",\"\"))","v":""},{"$f":"IF(利用表!T47=\"●\",\"△\",IF(OR(利用表!T46=\"休\",利用表!T46=\"訪\"),\"×\",\"\"))","v":""},{"$f":"IF(利用表!U47=\"●\",\"△\",IF(OR(利用表!U46=\"休\",利用表!U46=\"訪\"),\"×\",\"\"))","v":""},{"$f":"IF(利用表!V47=\"●\",\"△\",IF(OR(利用表!V46=\"休\",利用表!V46=\"訪\"),\"×\",\"\"))","v":""},{"$f":"IF(利用表!W47=\"●\",\"△\",IF(OR(利用表!W46=\"休\",利用表!W46=\"訪\"),\"×\",\"\"))","v":""},{"$f":"IF(利用表!X47=\"●\",\"△\",IF(OR(利用表!X46=\"休\",利用表!X46=\"訪\"),\"×\",\"\"))","v":""},{"$f":"IF(利用表!Y47=\"●\",\"△\",IF(OR(利用表!Y46=\"休\",利用表!Y46=\"訪\"),\"×\",\"\"))","v":""},{"$f":"IF(利用表!Z47=\"●\",\"△\",IF(OR(利用表!Z46=\"休\",利用表!Z46=\"訪\"),\"×\",\"\"))","v":""},{"$f":"IF(利用表!AA47=\"●\",\"△\",IF(OR(利用表!AA46=\"休\",利用表!AA46=\"訪\"),\"×\",\"\"))","v":""},{"$f":"IF(利用表!AB47=\"●\",\"△\",IF(OR(利用表!AB46=\"休\",利用表!AB46=\"訪\"),\"×\",\"\"))","v":""},{"$f":"IF(利用表!AC47=\"●\",\"△\",IF(OR(利用表!AC46=\"休\",利用表!AC46=\"訪\"),\"×\",\"\"))","v":""},{"$f":"IF(利用表!AD47=\"●\",\"△\",IF(OR(利用表!AD46=\"休\",利用表!AD46=\"訪\"),\"×\",\"\"))","v":""},{"$f":"IF(利用表!AE47=\"●\",\"△\",IF(OR(利用表!AE46=\"休\",利用表!AE46=\"訪\"),\"×\",\"\"))","v":""},{"$f":"IF(利用表!AF47=\"●\",\"△\",IF(OR(利用表!AF46=\"休\",利用表!AF46=\"訪\"),\"×\",\"\"))","v":""},{"$f":"IF(利用表!AG47=\"●\",\"△\",IF(OR(利用表!AG46=\"休\",利用表!AG46=\"訪\"),\"×\",\"\"))","v":""},{"$f":"IF(利用表!AH47=\"●\",\"△\",IF(OR(利用表!AH46=\"休\",利用表!AH46=\"訪\"),\"×\",\"\"))","v":""},"0",null,null,null,null,1,"","","","","","",""]
[22,{"$f":"Top!C61","v":0},{"$f":"IF(利用表!D49=\"●\",\"△\",IF(OR(利用表!D48=\"休\",利用表!D48=\"訪\"),\"×\",\"\"))","v":""},{"$f":"IF(利用表!E49=\"●\",\"△\",IF(OR(利用表!E48=\"休\",利用表!E48=\"訪\"),\"×\",\"\"))","v":""},{"$f":"IF(利用表!F49=\"●\",\"△\",IF(OR(利用表!F48=\"休\",利用表!F48=\"訪\"),\"×\",\"\"))","v":""},{"$f":"IF(利用表!G49=\"●\",\"△\",IF(OR(利用表!G48=\"休\",利用表!G48=\"訪\"),\"×\",\"\"))","v":""},{"$f":"IF(利用表!H49=\"●\",\"△\",IF(OR(利用表!H48=\"休\",利用表!H48=\"訪\"),\"×\",\"\"))","v":""},{"$f":"IF(利用表!I49=\"●\",\"△\",IF(OR(利用表!I48=\"休\",利用表!I48=\"訪\"),\"×\",\"\"))","v":""},{"$f":"IF(利用表!J49=\"●\",\"△\",IF(OR(利用表!J48=\"休\",利用表!J48=\"訪\"),\"×\",\"\"))","v":""},{"$f":"IF(利用表!K49=\"●\",\"△\",IF(OR(利用表!K48=\"休\",利用表!K48=\"訪\"),\"×\",\"\"))","v":""},{"$f":"IF(利用表!L49=\"●\",\"△\",IF(OR(利用表!L48=\"休\",利用表!L48=\"訪\"),\"×\",\"\"))","v":""},{"$f":"IF(利用表!M49=\"●\",\"△\",IF(OR(利用表!M48=\"休\",利用表!M48=\"訪\"),\"×\",\"\"))","v":""},{"$f":"IF(利用表!N49=\"●\",\"△\",IF(OR(利用表!N48=\"休\",利用表!N48=\"訪\"),\"×\",\"\"))","v":""},{"$f":"IF(利用表!O49=\"●\",\"△\",IF(OR(利用表!O48=\"休\",利用表!O48=\"訪\"),\"×\",\"\"))","v":""},{"$f":"IF(利用表!P49=\"●\",\"△\",IF(OR(利用表!P48=\"休\",利用表!P48=\"訪\"),\"×\",\"\"))","v":""},{"$f":"IF(利用表!Q49=\"●\",\"△\",IF(OR(利用表!Q48=\"休\",利用表!Q48=\"訪\"),\"×\",\"\"))","v":""},{"$f":"IF(利用表!R49=\"●\",\"△\",IF(OR(利用表!R48=\"休\",利用表!R48=\"訪\"),\"×\",\"\"))","v":""},{"$f":"IF(利用表!S49=\"●\",\"△\",IF(OR(利用表!S48=\"休\",利用表!S48=\"訪\"),\"×\",\"\"))","v":""},{"$f":"IF(利用表!T49=\"●\",\"△\",IF(OR(利用表!T48=\"休\",利用表!T48=\"訪\"),\"×\",\"\"))","v":""},{"$f":"IF(利用表!U49=\"●\",\"△\",IF(OR(利用表!U48=\"休\",利用表!U48=\"訪\"),\"×\",\"\"))","v":""},{"$f":"IF(利用表!V49=\"●\",\"△\",IF(OR(利用表!V48=\"休\",利用表!V48=\"訪\"),\"×\",\"\"))","v":""},{"$f":"IF(利用表!W49=\"●\",\"△\",IF(OR(利用表!W48=\"休\",利用表!W48=\"訪\"),\"×\",\"\"))","v":""},{"$f":"IF(利用表!X49=\"●\",\"△\",IF(OR(利用表!X48=\"休\",利用表!X48=\"訪\"),\"×\",\"\"))","v":""},{"$f":"IF(利用表!Y49=\"●\",\"△\",IF(OR(利用表!Y48=\"休\",利用表!Y48=\"訪\"),\"×\",\"\"))","v":""},{"$f":"IF(利用表!Z49=\"●\",\"△\",IF(OR(利用表!Z48=\"休\",利用表!Z48=\"訪\"),\"×\",\"\"))","v":""},{"$f":"IF(利用表!AA49=\"●\",\"△\",IF(OR(利用表!AA48=\"休\",利用表!AA48=\"訪\"),\"×\",\"\"))","v":""},{"$f":"IF(利用表!AB49=\"●\",\"△\",IF(OR(利用表!AB48=\"休\",利用表!AB48=\"訪\"),\"×\",\"\"))","v":""},{"$f":"IF(利用表!AC49=\"●\",\"△\",IF(OR(利用表!AC48=\"休\",利用表!AC48=\"訪\"),\"×\",\"\"))","v":""},{"$f":"IF(利用表!AD49=\"●\",\"△\",IF(OR(利用表!AD48=\"休\",利用表!AD48=\"訪\"),\"×\",\"\"))","v":""},{"$f":"IF(利用表!AE49=\"●\",\"△\",IF(OR(利用表!AE48=\"休\",利用表!AE48=\"訪\"),\"×\",\"\"))","v":""},{"$f":"IF(利用表!AF49=\"●\",\"△\",IF(OR(利用表!AF48=\"休\",利用表!AF48=\"訪\"),\"×\",\"\"))","v":""},{"$f":"IF(利用表!AG49=\"●\",\"△\",IF(OR(利用表!AG48=\"休\",利用表!AG48=\"訪\"),\"×\",\"\"))","v":""},{"$f":"IF(利用表!AH49=\"●\",\"△\",IF(OR(利用表!AH48=\"休\",利用表!AH48=\"訪\"),\"×\",\"\"))","v":""},"0",null,null,null,null,1,"","","","","","",""]
[23,{"$f":"Top!C62","v":0},{"$f":"IF(利用表!D51=\"●\",\"△\",IF(OR(利用表!D50=\"休\",利用表!D50=\"訪\"),\"×\",\"\"))","v":""},{"$f":"IF(利用表!E51=\"●\",\"△\",IF(OR(利用表!E50=\"休\",利用表!E50=\"訪\"),\"×\",\"\"))","v":""},{"$f":"IF(利用表!F51=\"●\",\"△\",IF(OR(利用表!F50=\"休\",利用表!F50=\"訪\"),\"×\",\"\"))","v":""},{"$f":"IF(利用表!G51=\"●\",\"△\",IF(OR(利用表!G50=\"休\",利用表!G50=\"訪\"),\"×\",\"\"))","v":""},{"$f":"IF(利用表!H51=\"●\",\"△\",IF(OR(利用表!H50=\"休\",利用表!H50=\"訪\"),\"×\",\"\"))","v":""},{"$f":"IF(利用表!I51=\"●\",\"△\",IF(OR(利用表!I50=\"休\",利用表!I50=\"訪\"),\"×\",\"\"))","v":""},{"$f":"IF(利用表!J51=\"●\",\"△\",IF(OR(利用表!J50=\"休\",利用表!J50=\"訪\"),\"×\",\"\"))","v":""},{"$f":"IF(利用表!K51=\"●\",\"△\",IF(OR(利用表!K50=\"休\",利用表!K50=\"訪\"),\"×\",\"\"))","v":""},{"$f":"IF(利用表!L51=\"●\",\"△\",IF(OR(利用表!L50=\"休\",利用表!L50=\"訪\"),\"×\",\"\"))","v":""},{"$f":"IF(利用表!M51=\"●\",\"△\",IF(OR(利用表!M50=\"休\",利用表!M50=\"訪\"),\"×\",\"\"))","v":""},{"$f":"IF(利用表!N51=\"●\",\"△\",IF(OR(利用表!N50=\"休\",利用表!N50=\"訪\"),\"×\",\"\"))","v":""},{"$f":"IF(利用表!O51=\"●\",\"△\",IF(OR(利用表!O50=\"休\",利用表!O50=\"訪\"),\"×\",\"\"))","v":""},{"$f":"IF(利用表!P51=\"●\",\"△\",IF(OR(利用表!P50=\"休\",利用表!P50=\"訪\"),\"×\",\"\"))","v":""},{"$f":"IF(利用表!Q51=\"●\",\"△\",IF(OR(利用表!Q50=\"休\",利用表!Q50=\"訪\"),\"×\",\"\"))","v":""},{"$f":"IF(利用表!R51=\"●\",\"△\",IF(OR(利用表!R50=\"休\",利用表!R50=\"訪\"),\"×\",\"\"))","v":""},{"$f":"IF(利用表!S51=\"●\",\"△\",IF(OR(利用表!S50=\"休\",利用表!S50=\"訪\"),\"×\",\"\"))","v":""},{"$f":"IF(利用表!T51=\"●\",\"△\",IF(OR(利用表!T50=\"休\",利用表!T50=\"訪\"),\"×\",\"\"))","v":""},{"$f":"IF(利用表!U51=\"●\",\"△\",IF(OR(利用表!U50=\"休\",利用表!U50=\"訪\"),\"×\",\"\"))","v":""},{"$f":"IF(利用表!V51=\"●\",\"△\",IF(OR(利用表!V50=\"休\",利用表!V50=\"訪\"),\"×\",\"\"))","v":""},{"$f":"IF(利用表!W51=\"●\",\"△\",IF(OR(利用表!W50=\"休\",利用表!W50=\"訪\"),\"×\",\"\"))","v":""},{"$f":"IF(利用表!X51=\"●\",\"△\",IF(OR(利用表!X50=\"休\",利用表!X50=\"訪\"),\"×\",\"\"))","v":""},{"$f":"IF(利用表!Y51=\"●\",\"△\",IF(OR(利用表!Y50=\"休\",利用表!Y50=\"訪\"),\"×\",\"\"))","v":""},{"$f":"IF(利用表!Z51=\"●\",\"△\",IF(OR(利用表!Z50=\"休\",利用表!Z50=\"訪\"),\"×\",\"\"))","v":""},{"$f":"IF(利用表!AA51=\"●\",\"△\",IF(OR(利用表!AA50=\"休\",利用表!AA50=\"訪\"),\"×\",\"\"))","v":""},{"$f":"IF(利用表!AB51=\"●\",\"△\",IF(OR(利用表!AB50=\"休\",利用表!AB50=\"訪\"),\"×\",\"\"))","v":""},{"$f":"IF(利用表!AC51=\"●\",\"△\",IF(OR(利用表!AC50=\"休\",利用表!AC50=\"訪\"),\"×\",\"\"))","v":""},{"$f":"IF(利用表!AD51=\"●\",\"△\",IF(OR(利用表!AD50=\"休\",利用表!AD50=\"訪\"),\"×\",\"\"))","v":""},{"$f":"IF(利用表!AE51=\"●\",\"△\",IF(OR(利用表!AE50=\"休\",利用表!AE50=\"訪\"),\"×\",\"\"))","v":""},{"$f":"IF(利用表!AF51=\"●\",\"△\",IF(OR(利用表!AF50=\"休\",利用表!AF50=\"訪\"),\"×\",\"\"))","v":""},{"$f":"IF(利用表!AG51=\"●\",\"△\",IF(OR(利用表!AG50=\"休\",利用表!AG50=\"訪\"),\"×\",\"\"))","v":""},{"$f":"IF(利用表!AH51=\"●\",\"△\",IF(OR(利用表!AH50=\"休\",利用表!AH50=\"訪\"),\"×\",\"\"))","v":""},"0",null,null,null,null,1,"","","","","","",""]
[24,{"$f":"Top!C63","v":0},{"$f":"IF(利用表!D53=\"●\",\"△\",IF(OR(利用表!D52=\"休\",利用表!D52=\"訪\"),\"×\",\"\"))","v":""},{"$f":"IF(利用表!E53=\"●\",\"△\",IF(OR(利用表!E52=\"休\",利用表!E52=\"訪\"),\"×\",\"\"))","v":""},{"$f":"IF(利用表!F53=\"●\",\"△\",IF(OR(利用表!F52=\"休\",利用表!F52=\"訪\"),\"×\",\"\"))","v":""},{"$f":"IF(利用表!G53=\"●\",\"△\",IF(OR(利用表!G52=\"休\",利用表!G52=\"訪\"),\"×\",\"\"))","v":""},{"$f":"IF(利用表!H53=\"●\",\"△\",IF(OR(利用表!H52=\"休\",利用表!H52=\"訪\"),\"×\",\"\"))","v":""},{"$f":"IF(利用表!I53=\"●\",\"△\",IF(OR(利用表!I52=\"休\",利用表!I52=\"訪\"),\"×\",\"\"))","v":""},{"$f":"IF(利用表!J53=\"●\",\"△\",IF(OR(利用表!J52=\"休\",利用表!J52=\"訪\"),\"×\",\"\"))","v":""},{"$f":"IF(利用表!K53=\"●\",\"△\",IF(OR(利用表!K52=\"休\",利用表!K52=\"訪\"),\"×\",\"\"))","v":""},{"$f":"IF(利用表!L53=\"●\",\"△\",IF(OR(利用表!L52=\"休\",利用表!L52=\"訪\"),\"×\",\"\"))","v":""},{"$f":"IF(利用表!M53=\"●\",\"△\",IF(OR(利用表!M52=\"休\",利用表!M52=\"訪\"),\"×\",\"\"))","v":""},{"$f":"IF(利用表!N53=\"●\",\"△\",IF(OR(利用表!N52=\"休\",利用表!N52=\"訪\"),\"×\",\"\"))","v":""},{"$f":"IF(利用表!O53=\"●\",\"△\",IF(OR(利用表!O52=\"休\",利用表!O52=\"訪\"),\"×\",\"\"))","v":""},{"$f":"IF(利用表!P53=\"●\",\"△\",IF(OR(利用表!P52=\"休\",利用表!P52=\"訪\"),\"×\",\"\"))","v":""},{"$f":"IF(利用表!Q53=\"●\",\"△\",IF(OR(利用表!Q52=\"休\",利用表!Q52=\"訪\"),\"×\",\"\"))","v":""},{"$f":"IF(利用表!R53=\"●\",\"△\",IF(OR(利用表!R52=\"休\",利用表!R52=\"訪\"),\"×\",\"\"))","v":""},{"$f":"IF(利用表!S53=\"●\",\"△\",IF(OR(利用表!S52=\"休\",利用表!S52=\"訪\"),\"×\",\"\"))","v":""},{"$f":"IF(利用表!T53=\"●\",\"△\",IF(OR(利用表!T52=\"休\",利用表!T52=\"訪\"),\"×\",\"\"))","v":""},{"$f":"IF(利用表!U53=\"●\",\"△\",IF(OR(利用表!U52=\"休\",利用表!U52=\"訪\"),\"×\",\"\"))","v":""},{"$f":"IF(利用表!V53=\"●\",\"△\",IF(OR(利用表!V52=\"休\",利用表!V52=\"訪\"),\"×\",\"\"))","v":""},{"$f":"IF(利用表!W53=\"●\",\"△\",IF(OR(利用表!W52=\"休\",利用表!W52=\"訪\"),\"×\",\"\"))","v":""},{"$f":"IF(利用表!X53=\"●\",\"△\",IF(OR(利用表!X52=\"休\",利用表!X52=\"訪\"),\"×\",\"\"))","v":""},{"$f":"IF(利用表!Y53=\"●\",\"△\",IF(OR(利用表!Y52=\"休\",利用表!Y52=\"訪\"),\"×\",\"\"))","v":""},{"$f":"IF(利用表!Z53=\"●\",\"△\",IF(OR(利用表!Z52=\"休\",利用表!Z52=\"訪\"),\"×\",\"\"))","v":""},{"$f":"IF(利用表!AA53=\"●\",\"△\",IF(OR(利用表!AA52=\"休\",利用表!AA52=\"訪\"),\"×\",\"\"))","v":""},{"$f":"IF(利用表!AB53=\"●\",\"△\",IF(OR(利用表!AB52=\"休\",利用表!AB52=\"訪\"),\"×\",\"\"))","v":""},{"$f":"IF(利用表!AC53=\"●\",\"△\",IF(OR(利用表!AC52=\"休\",利用表!AC52=\"訪\"),\"×\",\"\"))","v":""},{"$f":"IF(利用表!AD53=\"●\",\"△\",IF(OR(利用表!AD52=\"休\",利用表!AD52=\"訪\"),\"×\",\"\"))","v":""},{"$f":"IF(利用表!AE53=\"●\",\"△\",IF(OR(利用表!AE52=\"休\",利用表!AE52=\"訪\"),\"×\",\"\"))","v":""},{"$f":"IF(利用表!AF53=\"●\",\"△\",IF(OR(利用表!AF52=\"休\",利用表!AF52=\"訪\"),\"×\",\"\"))","v":""},{"$f":"IF(利用表!AG53=\"●\",\"△\",IF(OR(利用表!AG52=\"休\",利用表!AG52=\"訪\"),\"×\",\"\"))","v":""},{"$f":"IF(利用表!AH53=\"●\",\"△\",IF(OR(利用表!AH52=\"休\",利用表!AH52=\"訪\"),\"×\",\"\"))","v":""},"0",null,null,null,null,1,"","","","","","",""]
[25,{"$f":"Top!C64","v":0},{"$f":"IF(利用表!D55=\"●\",\"△\",IF(OR(利用表!D54=\"休\",利用表!D54=\"訪\"),\"×\",\"\"))","v":""},{"$f":"IF(利用表!E55=\"●\",\"△\",IF(OR(利用表!E54=\"休\",利用表!E54=\"訪\"),\"×\",\"\"))","v":""},{"$f":"IF(利用表!F55=\"●\",\"△\",IF(OR(利用表!F54=\"休\",利用表!F54=\"訪\"),\"×\",\"\"))","v":""},{"$f":"IF(利用表!G55=\"●\",\"△\",IF(OR(利用表!G54=\"休\",利用表!G54=\"訪\"),\"×\",\"\"))","v":""},{"$f":"IF(利用表!H55=\"●\",\"△\",IF(OR(利用表!H54=\"休\",利用表!H54=\"訪\"),\"×\",\"\"))","v":""},{"$f":"IF(利用表!I55=\"●\",\"△\",IF(OR(利用表!I54=\"休\",利用表!I54=\"訪\"),\"×\",\"\"))","v":""},{"$f":"IF(利用表!J55=\"●\",\"△\",IF(OR(利用表!J54=\"休\",利用表!J54=\"訪\"),\"×\",\"\"))","v":""},{"$f":"IF(利用表!K55=\"●\",\"△\",IF(OR(利用表!K54=\"休\",利用表!K54=\"訪\"),\"×\",\"\"))","v":""},{"$f":"IF(利用表!L55=\"●\",\"△\",IF(OR(利用表!L54=\"休\",利用表!L54=\"訪\"),\"×\",\"\"))","v":""},{"$f":"IF(利用表!M55=\"●\",\"△\",IF(OR(利用表!M54=\"休\",利用表!M54=\"訪\"),\"×\",\"\"))","v":""},{"$f":"IF(利用表!N55=\"●\",\"△\",IF(OR(利用表!N54=\"休\",利用表!N54=\"訪\"),\"×\",\"\"))","v":""},{"$f":"IF(利用表!O55=\"●\",\"△\",IF(OR(利用表!O54=\"休\",利用表!O54=\"訪\"),\"×\",\"\"))","v":""},{"$f":"IF(利用表!P55=\"●\",\"△\",IF(OR(利用表!P54=\"休\",利用表!P54=\"訪\"),\"×\",\"\"))","v":""},{"$f":"IF(利用表!Q55=\"●\",\"△\",IF(OR(利用表!Q54=\"休\",利用表!Q54=\"訪\"),\"×\",\"\"))","v":""},{"$f":"IF(利用表!R55=\"●\",\"△\",IF(OR(利用表!R54=\"休\",利用表!R54=\"訪\"),\"×\",\"\"))","v":""},{"$f":"IF(利用表!S55=\"●\",\"△\",IF(OR(利用表!S54=\"休\",利用表!S54=\"訪\"),\"×\",\"\"))","v":""},{"$f":"IF(利用表!T55=\"●\",\"△\",IF(OR(利用表!T54=\"休\",利用表!T54=\"訪\"),\"×\",\"\"))","v":""},{"$f":"IF(利用表!U55=\"●\",\"△\",IF(OR(利用表!U54=\"休\",利用表!U54=\"訪\"),\"×\",\"\"))","v":""},{"$f":"IF(利用表!V55=\"●\",\"△\",IF(OR(利用表!V54=\"休\",利用表!V54=\"訪\"),\"×\",\"\"))","v":""},{"$f":"IF(利用表!W55=\"●\",\"△\",IF(OR(利用表!W54=\"休\",利用表!W54=\"訪\"),\"×\",\"\"))","v":""},{"$f":"IF(利用表!X55=\"●\",\"△\",IF(OR(利用表!X54=\"休\",利用表!X54=\"訪\"),\"×\",\"\"))","v":""},{"$f":"IF(利用表!Y55=\"●\",\"△\",IF(OR(利用表!Y54=\"休\",利用表!Y54=\"訪\"),\"×\",\"\"))","v":""},{"$f":"IF(利用表!Z55=\"●\",\"△\",IF(OR(利用表!Z54=\"休\",利用表!Z54=\"訪\"),\"×\",\"\"))","v":""},{"$f":"IF(利用表!AA55=\"●\",\"△\",IF(OR(利用表!AA54=\"休\",利用表!AA54=\"訪\"),\"×\",\"\"))","v":""},{"$f":"IF(利用表!AB55=\"●\",\"△\",IF(OR(利用表!AB54=\"休\",利用表!AB54=\"訪\"),\"×\",\"\"))","v":""},{"$f":"IF(利用表!AC55=\"●\",\"△\",IF(OR(利用表!AC54=\"休\",利用表!AC54=\"訪\"),\"×\",\"\"))","v":""},{"$f":"IF(利用表!AD55=\"●\",\"△\",IF(OR(利用表!AD54=\"休\",利用表!AD54=\"訪\"),\"×\",\"\"))","v":""},{"$f":"IF(利用表!AE55=\"●\",\"△\",IF(OR(利用表!AE54=\"休\",利用表!AE54=\"訪\"),\"×\",\"\"))","v":""},{"$f":"IF(利用表!AF55=\"●\",\"△\",IF(OR(利用表!AF54=\"休\",利用表!AF54=\"訪\"),\"×\",\"\"))","v":""},{"$f":"IF(利用表!AG55=\"●\",\"△\",IF(OR(利用表!AG54=\"休\",利用表!AG54=\"訪\"),\"×\",\"\"))","v":""},{"$f":"IF(利用表!AH55=\"●\",\"△\",IF(OR(利用表!AH54=\"休\",利用表!AH54=\"訪\"),\"×\",\"\"))","v":""},"0",null,null,null,null,1,"","","","","","",""]

{"sheet":"利用変更","index":15,"n_rows":35,"n_cols":9,"rows_kept":35,"cut":false,"hidden":true,"merged":[]}
[]
[null,null,null,null,"ご利用変更・送迎変更一覧",null,null,{"$f":"月","v":6},"月"]
[null,null,"日曜日","月曜日","火曜日","水曜日","木曜日","金曜日","土曜日"]
[null,null,{"$f":"DATE(年,月,1)-WEEKDAY(DATE(年,月,1),1)+1","v":"2013-05-26"},{"$f":"C4+1","v":"2013-05-27"},"2013-05-28","2013-05-29","2013-05-30","2013-05-31","2013-06-01"]
[null,null,{"$f":"IF(ISNA(VLOOKUP(C4,日付指定,2,FALSE)=TRUE),\"\",VLOOKUP(C4,日付指定,2,FALSE))","v":""},"","","","","",""]
[]
[]
[]
[]
[null,null,{"$f":"I4+1","v":"2013-06-02"},{"$f":"C10+1","v":"2013-06-03"},"2013-06-04","2013-06-05","2013-06-06","2013-06-07","2013-06-08"]
[null,null,{"$f":"IF(ISNA(VLOOKUP(C10,日付指定,2,FALSE)=TRUE),\"\",VLOOKUP(C10,日付指定,2,FALSE))","v":""},"","","","","",""]
[]
[]
[]
[]
[null,null,{"$f":"I10+1","v":"2013-06-09"},{"$f":"C16+1","v":"2013-06-10"},"2013-06-11","2013-06-12","2013-06-13","2013-06-14","2013-06-15"]
[null,null,{"$f":"IF(ISNA(VLOOKUP(C16,日付指定,2,FALSE)=TRUE),\"\",VLOOKUP(C16,日付指定,2,FALSE))","v":""},"","","","","",""]
[]
[]
[]
[]
[null,null,{"$f":"I16+1","v":"2013-06-16"},{"$f":"C22+1","v":"2013-06-17"},"2013-06-18","2013-06-19","2013-06-20","2013-06-21","2013-06-22"]
[null,null,{"$f":"IF(ISNA(VLOOKUP(C22,日付指定,2,FALSE)=TRUE),\"\",VLOOKUP(C22,日付指定,2,FALSE))","v":""},"","","","","",""]
[]
[]
[]
[]
[null,null,{"$f":"I22+1","v":"2013-06-23"},{"$f":"C28+1","v":"2013-06-24"},"2013-06-25","2013-06-26","2013-06-27","2013-06-28","2013-06-29"]
[null,null,{"$f":"IF(ISNA(VLOOKUP(C28,日付指定,2,FALSE)=TRUE),\"\",VLOOKUP(C28,日付指定,2,FALSE))","v":""},"","","","","",""]
[]
[]
[]
[]
[null,null,{"$f":"I28+1","v":"2013-06-30"},{"$f":"C34+1","v":"2013-07-01"},"2013-07-02","2013-07-03","2013-07-04","2013-07-05","2013-07-06"]
[null,null,{"$f":"IF(ISNA(VLOOKUP(C34,日付指定,2,FALSE)=TRUE),\"\",VLOOKUP(C34,日付指定,2,FALSE))","v":""},"","","","","",""]